BEGIN:VCALENDAR
VERSION:2.0
PRODID:-//Quiet Healing Center - ECPv6.11.2.1//NONSGML v1.0//EN
CALSCALE:GREGORIAN
METHOD:PUBLISH
X-WR-CALNAME:Quiet Healing Center
X-ORIGINAL-URL:https://www.quiethealingcenter.info
X-WR-CALDESC:Events for Quiet Healing Center
REFRESH-INTERVAL;VALUE=DURATION:PT1H
X-Robots-Tag:noindex
X-PUBLISHED-TTL:PT1H
BEGIN:VTIMEZONE
TZID:UTC
BEGIN:STANDARD
TZOFFSETFROM:+0000
TZOFFSETTO:+0000
TZNAME:UTC
DTSTART:20210101T000000
END:STANDARD
END:VTIMEZONE
BEGIN:VEVENT
DTSTART;VALUE=DATE:20210109
DTEND;VALUE=DATE:20210111
DTSTAMP:20260423T100237
CREATED:20200515T141642Z
LAST-MODIFIED:20201220T033147Z
UID:4342-1610150400-1610323199@www.quiethealingcenter.info
SUMMARY:Woga® 1&2 (Yoga in Water) with Dariya
DESCRIPTION:[vc_row][vc_column][vc_column_text css=”.vc_custom_1538295941570{margin-bottom: 0px !important;}”]A 2-day course. \nWoga is the union of two words: water and yoga. It is based on yoga poses and stretches modified for warm water.[/vc_column_text][/vc_column][/vc_row][vc_row css=”.vc_custom_1518332568181{margin-top: 10px !important;padding-top: 10px !important;}”][vc_column width=”1/2″][vc_single_image image=”1864″ img_size=”1000×750″][/vc_column][vc_column width=”1/2″][vc_single_image image=”1866″ img_size=”1000×750″][/vc_column][/vc_row][vc_row][vc_column][vc_column_text css=”.vc_custom_1543750817246{margin-bottom: 0px !important;}”]Thanks to decrease in gravity\, water allows greater ease of movement\, unblocks articulations\, lengthens and melts muscles\, and removes negative tensions\, thereby preventing stress\, insomnia and anxiety.[/vc_column_text][vc_row_inner css=”.vc_custom_1518332589696{margin-top: 10px !important;padding-top: 10px !important;}”][vc_column_inner width=”1/6″][/vc_column_inner][vc_column_inner width=”2/3″][vc_single_image image=”1868″ img_size=”1000×750″][/vc_column_inner][vc_column_inner width=”1/6″][/vc_column_inner][/vc_row_inner][/vc_column][/vc_row][vc_row][vc_column][vc_row_inner][vc_column_inner][vc_column_text css=”.vc_custom_1559250528076{margin-bottom: 0px !important;}”]Water yoga is based on classic yoga poses and stretches\, modified for standing in pool water\, which is waist-to-chest high. You do not need to know how to swim. \nSessions are structured like their yoga equivalents on land: breathing\, warm-up exercises\, a series of poses\, and a relaxation period. The difference is that you are in a warm water pool! \nFocus of Woga 1&2 is Hatha Yoga in water (asanas in standing position\, on the wall\, in floating position\, and under water)\, pranayama and meditation.[/vc_column_text][/vc_column_inner][/vc_row_inner][vc_row_inner][vc_column_inner][vc_column_text css=”.vc_custom_1562697778709{margin-top: 15px !important;margin-bottom: 0px !important;padding-top: 15px !important;}”]Prerequisites: No previous experience required (also no need to know how to swim). \nCredits: Woga 1&2 (Yoga in Water) is recognized by WABA (Worldwide Aquatic Bodywork Association) and gives 12 supplementary hours of credit for registration with WABA and Watsu India.[/vc_column_text][/vc_column_inner][/vc_row_inner][vc_row_inner css=”.vc_custom_1525957926295{margin-top: 20px !important;padding-top: 20px !important;}”][vc_column_inner width=”1/4″][vc_single_image image=”2506″ img_size=”430×538″][/vc_column_inner][vc_column_inner width=”3/4″][vc_column_text css=”.vc_custom_1518332850645{margin-bottom: 0px !important;}”]Dariya \nWABA facilitator\, has been sharing her passion for aquatic body­work with groups since 2004. Besides the belief that a solid technical base provides possi­bilities for ease and lightness in further personal growth\, her main focus is to create spaces for flow\, deepening and connection.[/vc_column_text][/vc_column_inner][/vc_row_inner][vc_row_inner][vc_column_inner][vc_column_text css=”.vc_custom_1589552197994{margin-top: 20px !important;margin-bottom: 0px !important;padding-top: 20px !important;}”]Timings: 8.45 AM – 6 PM \nPrice: ₹ 7\,950 (lunch included) \nPlease read the General Information before you apply for this course.[/vc_column_text][/vc_column_inner][/vc_row_inner][/vc_column][/vc_row]
URL:https://www.quiethealingcenter.info/course/woga-12-yoga-in-water-with-dariya-4/
LOCATION:Quiet Healing Center\, India
CATEGORIES:2020,2021
ATTACH;FMTTYPE=image/jpeg:https://www.quiethealingcenter.info/wp-content/uploads/2017/07/dariya-woga-1000-01-custom.jpg
END:VEVENT
BEGIN:VEVENT
DTSTART;VALUE=DATE:20210112
DTEND;VALUE=DATE:20210118
DTSTAMP:20260423T100237
CREATED:20200515T141820Z
LAST-MODIFIED:20210117T061215Z
UID:4351-1610409600-1610927999@www.quiethealingcenter.info
SUMMARY:Watsu® & OBA® Basic with Dariya & Daniel
DESCRIPTION:[vc_row][vc_column][vc_column_text css=”.vc_custom_1538284155480{margin-bottom: 0px !important;}”]A course of 6 half days.[/vc_column_text][/vc_column][/vc_row][vc_row css=”.vc_custom_1514262520964{margin-top: 10px !important;padding-top: 10px !important;}”][vc_column][vc_video max_width=”1125″ link=”https://youtu.be/YjJRgimktUo”][/vc_column][/vc_row][vc_row css=”.vc_custom_1514262911343{margin-top: 10px !important;padding-top: 10px !important;}”][vc_column][vc_column_text]Watsu & OBA are aquatic bodywork modalities given in a warm water pool (ideally 35°C).[/vc_column_text][vc_row_inner css=”.vc_custom_1514262982910{margin-top: 5px !important;padding-top: 5px !important;}”][vc_column_inner width=”1/4″][vc_column_text css=”.vc_custom_1543842801033{margin-bottom: 0px !important;}”]Watsu\, the part where the client’s face stays always on the surface\, introduces the qualities and body mechanics required to work with someone in water in order to create a profound state of both physical and mental relaxation. \n  \nDuring the OBA part the receiver is also brought under water (with nose clip)\, which offers a unique experience.[/vc_column_text][/vc_column_inner][vc_column_inner width=”3/4″][vc_single_image image=”3077″ img_size=”860×560″][/vc_column_inner][/vc_row_inner][/vc_column][/vc_row][vc_row css=”.vc_custom_1543842936713{margin-top: 0px !important;margin-bottom: 0px !important;padding-top: 0px !important;padding-bottom: 0px !important;}”][vc_column width=”1/2″][vc_single_image image=”1516″ img_size=”1000c750″][/vc_column][vc_column width=”1/2″][vc_single_image image=”1517″ img_size=”1000×750″][/vc_column][/vc_row][vc_row css=”.vc_custom_1514354422699{margin-top: 0px !important;padding-top: 0px !important;}”][vc_column][vc_column_text]\nThe flowing interaction with water\, its fluid support and warm embrace\, and the practitioner’s presence provide a space for the client to experience the multi-layered benefits of this powerful and softening bodywork. Watsu & OBA offer an opportunity for profound relaxation and letting go\, for building trust\, for being nurtured and held\, for expanding inner and outer boundaries\, for releasing emotions and traumas – ultimately\, for freeing body and mind in a flow unique to each client and to each session. \n[/vc_column_text][/vc_column][/vc_row][vc_row css=”.vc_custom_1514262719624{margin-top: 15px !important;padding-top: 15px !important;}”][vc_column width=”1/6″][/vc_column][vc_column width=”2/3″][vc_single_image image=”1520″ img_size=”1000×750″][/vc_column][vc_column width=”1/6″][/vc_column][/vc_row][vc_row css=”.vc_custom_1514354459415{margin-top: 5px !important;padding-top: 5px !important;}”][vc_column][vc_column_text css=”.vc_custom_1538284195022{margin-bottom: 0px !important;}”]In this course\, you will practice basic techniques and qualities (grounding\, presence\, stillness\, movement\, attention) of being and moving another body in water. You will experience floating other people and being floated\, on the surface and under water\, thereby creating space for deep relaxation and nurturing body\, mind and spirit. \nParticipants in this course often appreciate the group space\, which fosters deep\, meaningful and nurturing connections.[/vc_column_text][/vc_column][/vc_row][vc_row css=”.vc_custom_1514354459415{margin-top: 5px !important;padding-top: 5px !important;}”][vc_column][vc_column_text css=”.vc_custom_1538296147030{margin-top: 15px !important;margin-bottom: 0px !important;padding-top: 15px !important;}”]Prerequisites:\nNo previous experience required. \nCredits: Watsu Basic is recognized by WABA (Worldwide Aquatic Bodywork Association) as part of the Watsu training program and gives 16 hours of credit for registration with WABA and Watsu India. OBA Basic is part of the Watsu India training program and gives an additional 15 hours of credit for registration with Watsu India and 15 supplementary hours with WABA.[/vc_column_text][vc_row_inner css=”.vc_custom_1514354980177{margin-top: 20px !important;padding-top: 20px !important;}”][vc_column_inner width=”1/4″][vc_single_image image=”1515″ img_size=”430×673″][/vc_column_inner][vc_column_inner width=”3/4″][vc_column_text css=”.vc_custom_1514354821521{margin-bottom: 0px !important;}”]Dariya (as WABA facilitator) & Daniel have been sharing their passion for aquatic body­work with groups since 2004. \nBesides the belief that a solid technical base provides possi­bilities for ease and lightness in further personal growth\, their main focus is to create spaces for flow\, deepening and connection.[/vc_column_text][/vc_column_inner][/vc_row_inner][/vc_column][/vc_row][vc_row css=”.vc_custom_1518336025008{margin-top: 20px !important;padding-top: 20px !important;}”][vc_column][vc_column_text css=”.vc_custom_1588239946035{margin-bottom: 0px !important;}”]Timings: 1.00 – 6.00 PM \nPrice: ₹ 18\,950 \nPlease read the General Information before you apply for this course.[/vc_column_text][/vc_column][/vc_row]
URL:https://www.quiethealingcenter.info/course/watsu-oba-basic-with-dariya-daniel-11/
LOCATION:Quiet Healing Center\, India
CATEGORIES:2020,2021
ATTACH;FMTTYPE=image/jpeg:https://www.quiethealingcenter.info/wp-content/uploads/2020/05/featured-image-woba-basic.jpg
END:VEVENT
BEGIN:VEVENT
DTSTART;VALUE=DATE:20210125
DTEND;VALUE=DATE:20210130
DTSTAMP:20260423T100237
CREATED:20210112T035358Z
LAST-MODIFIED:20210117T060335Z
UID:4615-1611532800-1611964799@www.quiethealingcenter.info
SUMMARY:Foot Reflexology Training with Ananda
DESCRIPTION:[vc_row][vc_column][vc_column_text css=”.vc_custom_1540121180277{margin-bottom: 0px !important;padding-bottom: 0px !important;}”]“Feet have roots to touch the heart of the earth…\nhands have wings to reach the mystery of the sky… “[/vc_column_text][/vc_column][/vc_row][vc_row][vc_column][vc_single_image image=”2852″ img_size=”1440×810″][/vc_column][/vc_row][vc_row][vc_column width=”1/2″][vc_column_text css=”.vc_custom_1540122520431{margin-bottom: 0px !important;padding-bottom: 0px !important;}”]What is Holistic Reflexology ?\nHolistic Reflexology is deeply relaxing\, healing & balancing tool for body-mind-energy. With meditative presence\, loving energy & by activating and relaxing nerve endpoints\, lymphatic nodes and energy points in hands and feet\, we support harmonizing internal organs\, blood circulation\, nervous\, hormonal\, lymphatic systems and boost immunity. \n  \nWhat is Holistic ? I don’t believe in this Holistic stuff ?\nHolistic means whole. Healing happens if we tune our body-mind-energy with whole of our potential. Body-mind-energy has natural\, self-balancing\, self-healing capacity. The healer simply plays the role of a channel/catalyst using effective techniques\, loving energy and meditative presence.\nThere is nothing to believe blindly but scientific tools to learn\, experience and integrate.[/vc_column_text][/vc_column][vc_column width=”1/2″][vc_single_image image=”2868″ img_size=”large”][/vc_column][/vc_row][vc_row css=”.vc_custom_1514262171038{margin-top: 15px !important;padding-top: 15px !important;}”][vc_column width=”1/2″][vc_single_image image=”2862″ img_size=”1000×750″][/vc_column][vc_column width=”1/2″][vc_single_image image=”2861″ img_size=”1000×750″][/vc_column][/vc_row][vc_row][vc_column][vc_column_text css=”.vc_custom_1540122925221{margin-bottom: 0px !important;}”]What do we learn in this training ?\nWelcome to intensive journey to explore and deepen with:\n• anatomy of physical and energy body and yogic science\n• warmup\, self-healing techniques and use of supportive tools\n• reflexology techniques & sequence for organs\, nerves\, hormones\n• specific sequence for lymphatic flush drainage & energy balancing\n• reading various body types and variations in approaches to apply\n• meditations to be open channel of sensitivity\, presence and loving energy\n• effective ways to give deep healing sessions effortlessly.[/vc_column_text][/vc_column][/vc_row][vc_row css=”.vc_custom_1525958152362{margin-top: 20px !important;padding-top: 20px !important;}”][vc_column width=”1/4″ css=”.vc_custom_1514261653544{margin-top: 5px !important;padding-top: 5px !important;}”][vc_single_image image=”1394″ img_size=”430×538″][/vc_column][vc_column width=”3/4″][vc_column_text css=”.vc_custom_1539183205579{margin-bottom: 0px !important;}”]Ananda is a meditator\, facilitator and therapist\, focusing on wellness and connecting with inner essence through body\, mind\, emotions and energy. \nHe started his journey long ago to travel inside and outside\, exploring various forms of yoga\, meditation\, mystics and energetic spaces. Practicing healing sessions for over 10 years\, Ananda is professionally trained with international certifications for various forms of healing such as Watsu\, Aquawellness\, Foot Reflexology\, Hypnotherapy\, Pranic Healing\, Alchemy of Touch – Rebalancing. \nHaving left behind his profession as a software architect 5 years ago\, he shares his meditation retreats and rebalancing across India\, Vietnam and Europe to connect with the essence of love and freedom inside.[/vc_column_text][/vc_column][/vc_row][vc_row css=”.vc_custom_1514262268909{margin-top: 15px !important;padding-top: 15px !important;}”][vc_column][vc_row_inner css=”.vc_custom_1514262311359{margin-top: 0px !important;padding-top: 0px !important;}”][vc_column_inner][vc_column_text css=”.vc_custom_1610464614557{margin-bottom: 0px !important;}”]Timings: 9.00 AM – 4.30 PM \nPrice: ₹ 15\,000 (lunch included) \nPlease read the General Information before you apply for this course.[/vc_column_text][/vc_column_inner][/vc_row_inner][/vc_column][/vc_row]
URL:https://www.quiethealingcenter.info/course/foot-reflexology-training-with-ananda-3/
LOCATION:Quiet Healing Center\, India
CATEGORIES:2021
ATTACH;FMTTYPE=image/jpeg:https://www.quiethealingcenter.info/wp-content/uploads/2021/01/featured-image-foot-reflexology-training.jpg
END:VEVENT
BEGIN:VEVENT
DTSTART;VALUE=DATE:20210125
DTEND;VALUE=DATE:20210201
DTSTAMP:20260423T100237
CREATED:20200515T142707Z
LAST-MODIFIED:20210117T061000Z
UID:4359-1611532800-1612137599@www.quiethealingcenter.info
SUMMARY:Liquid Flow Essence with Dariya & Daniel
DESCRIPTION:[vc_row][vc_column][vc_column_text css=”.vc_custom_1538287096033{margin-bottom: 0px !important;}”]A 7-day course.[/vc_column_text][vc_row_inner css=”.vc_custom_1514524143365{margin-top: 5px !important;padding-top: 5px !important;}”][vc_column_inner][vc_video max_width=”1125″ link=”https://youtu.be/IBiYFkS0-fU”][/vc_column_inner][/vc_row_inner][/vc_column][/vc_row][vc_row css=”.vc_custom_1514524079151{margin-top: 10px !important;padding-top: 10px !important;}”][vc_column][vc_column_text]\nLiquid Flow is an aquatic bodywork modality given in a warm water pool (ideally 35°C). Developed at the Quiet Healing Center\, Auroville\, Liquid Flow is inspired and based on the forms and qualities of Watsu\, OBA\, Healing Dance\, and WaterDance. \n[/vc_column_text][/vc_column][/vc_row][vc_row css=”.vc_custom_1514524124546{margin-top: 10px !important;padding-top: 10px !important;}”][vc_column width=”2/3″][vc_single_image image=”2685″ img_size=”1000×686″][/vc_column][vc_column width=”1/3″][vc_single_image image=”2683″ img_size=”700×1000″][/vc_column][/vc_row][vc_row css=”.vc_custom_1518349611998{margin-top: 0px !important;padding-top: 0px !important;}”][vc_column][vc_column_text css=”.vc_custom_1603384431562{margin-bottom: 0px !important;}”]With a complete sense of presence and attention\, the practitioner moves\, folds\, stretches\, and massages the receiver’s floating body on the surface\, inducing a profound state of both physical and mental relaxation. Depending on the choice of the receiver\, a session can also include an underwater part (with nose clip)\, which offers a unique experience of being moved under water. \n[/vc_column_text][vc_row_inner css=”.vc_custom_1603384607025{margin-top: 25px !important;margin-bottom: 25px !important;padding-top: 0px !important;}”][vc_column_inner][vc_video max_width=”1125″ link=”https://youtu.be/5mUbn4_O3NI”][/vc_column_inner][/vc_row_inner][vc_row_inner css=”.vc_custom_1518349850698{margin-top: 0px !important;padding-top: 0px !important;}”][vc_column_inner][vc_column_text css=”.vc_custom_1603384446682{margin-bottom: 0px !important;}”]The flowing interaction with water\, its fluid support and warm embrace\, and the practitioner’s presence provide a space for the receiver to experience the multilayered benefits of this powerful and softening bodywork. Liquid Flow offers an opportunity for profound relaxation and letting go\, for building trust\, for being nurtured and held\, for expanding inner and outer boundaries\, for releasing emotions and traumas – ultimately\, for freeing body and mind in a flow unique to each receiver and to each session.[/vc_column_text][/vc_column_inner][/vc_row_inner][vc_row_inner css=”.vc_custom_1518349873104{margin-top: 10px !important;padding-top: 10px !important;}”][vc_column_inner width=”1/6″][/vc_column_inner][vc_column_inner width=”2/3″][vc_column_text][/vc_column_text][vc_single_image image=”1927″ img_size=”1000×750″][/vc_column_inner][vc_column_inner width=”1/6″][/vc_column_inner][/vc_row_inner][/vc_column][/vc_row][vc_row css=”.vc_custom_1514524237726{margin-top: 10px !important;padding-top: 10px !important;}”][vc_column][vc_column_text css=”.vc_custom_1538733984569{margin-bottom: 0px !important;}”]This intense course with the main Liquid Flow sequence is for students of different aquatic bodywork modalities\, who wish to dive deeper into their practice. \nIn combination with practices on land\, you will experience the profound effects of this powerful\, yet softening\, work. \nLiquid Flow Essence is the favourite elective of many students. Inspired by different aquatic bodywork modalities\, it offers a wonderful new sequence of essential mobilisation possibilities in a flow with ease and continuity. \nTogether with a deepening presence and unconditional holding\, this course improves your therapeutic work and leads towards the essence of any aquatic bodywork: being deeply in touch with one’s essence\, and experiencing a sense of timelessness and connection to ALL. \n[/vc_column_text][/vc_column][/vc_row][vc_row css=”.vc_custom_1514524237726{margin-top: 10px !important;padding-top: 10px !important;}”][vc_column][vc_column_text css=”.vc_custom_1538287275302{margin-top: 15px !important;margin-bottom: 0px !important;padding-top: 15px !important;}”]Prerequisites:\nWatsu & Liquid Flow Basic or Watsu & OBA Basic\, and number of practice sessions given according to teachers’ recommendation. \nCredits: Liquid Flow Essence is part of the Watsu India training program and gives 50 supplementary hours of credit for registration with WABA (Worldwide Aquatic Bodywork Association) and as an elective with Watsu India.[/vc_column_text][vc_row_inner css=”.vc_custom_1538287328835{margin-top: 20px !important;padding-top: 20px !important;}”][vc_column_inner width=”1/4″][vc_single_image image=”1515″ img_size=”430×673″][/vc_column_inner][vc_column_inner width=”3/4″][vc_column_text css=”.vc_custom_1514524374539{margin-bottom: 0px !important;}”]Dariya (as WABA facilitator) & Daniel have been sharing their passion for aquatic body­work with groups since 2004. \nBesides the belief that a solid technical base provides possi­bilities for ease and lightness in further personal growth\, their main focus is to create spaces for flow\, deepening and connection.[/vc_column_text][/vc_column_inner][/vc_row_inner][/vc_column][/vc_row][vc_row css=”.vc_custom_1514524402844{margin-top: 15px !important;padding-top: 15px !important;}”][vc_column][vc_column_text css=”.vc_custom_1589552821954{margin-bottom: 0px !important;}”]Timings: 8.45 AM – 6 PM (plus 1 evening!) \nPrice: ₹ 31\,500 (lunch included) \nPlease read the General Information before you apply for this course.[/vc_column_text][/vc_column][/vc_row]
URL:https://www.quiethealingcenter.info/course/liquid-flow-essence-with-dariya-daniel-4/
LOCATION:Quiet Healing Center\, India
CATEGORIES:2021
ATTACH;FMTTYPE=image/jpeg:https://www.quiethealingcenter.info/wp-content/uploads/2020/05/featured-image-lf-essence.jpg
END:VEVENT
BEGIN:VEVENT
DTSTART;VALUE=DATE:20210130
DTEND;VALUE=DATE:20210131
DTSTAMP:20260423T100237
CREATED:20210117T050443Z
LAST-MODIFIED:20210117T061625Z
UID:4620-1611964800-1612051199@www.quiethealingcenter.info
SUMMARY:Somatic Movement with Maggie
DESCRIPTION:[vc_row][vc_column][vc_column_text css=”.vc_custom_1610859840562{margin-bottom: 0px !important;}”]A 1-day neuromuscular re-education (mind-body training) course in the tradition of Thomas Hanna. \nSomatics is a system of slow mindful movements. It is a gentle\, easy and effective way to help you manage chronic and acute pain. Other benefits include more ease in the body\, better posture and deep relaxation. It teaches you to recognize\, release and reverse chronic pain patterns resulting from injury\, stress\, or habituated postures.[/vc_column_text][/vc_column][/vc_row][vc_row css=”.vc_custom_1514522279810{margin-top: 10px !important;padding-top: 10px !important;}”][vc_column width=”1/2″][vc_single_image image=”1536″ img_size=”1000×750″][/vc_column][vc_column width=”1/2″][vc_single_image image=”1537″ img_size=”1000×750″][/vc_column][/vc_row][vc_row][vc_column][vc_column_text css=”.vc_custom_1562148759373{margin-bottom: 0px !important;}”]We will begin with a short introduction – what Somatics is\, why it’s unique and how it works\, and then experience a variety of fun\, easy and gentle movements designed to help you create a deeper sense of awareness as to the places where you hold tension in your body. \nAt the end of the course there will be time for questions and a review of specific movements which can be practiced at home. \nHandouts of the home practice will be given. \nFor further information on Somatics please visit: Association for Hanna Somatics\, Novato Institute for Somatic Research and Training and International Institute for Somatic Movement Education.[/vc_column_text][/vc_column][/vc_row][vc_row css=”.vc_custom_1525959319424{margin-top: 20px !important;padding-top: 20px !important;}”][vc_column width=”1/4″][vc_single_image image=”1843″ img_size=”430×538″][/vc_column][vc_column width=”3/4″][vc_column_text css=”.vc_custom_1562148800242{margin-bottom: 0px !important;}”]Maggie \nOriginally from London\, Maggie joined Auroville in 2005 where she lives and works as a massage therapist and course facilitator. \nShe is a professionally trained Somatic Movement Educator and offers classes\, courses and individual therapies.[/vc_column_text][/vc_column][/vc_row][vc_row css=”.vc_custom_1514522448560{margin-top: 15px !important;padding-top: 15px !important;}”][vc_column][vc_column_text css=”.vc_custom_1610859876018{margin-bottom: 0px !important;}”]\nTimings: 9.30 AM – 5.00 PM \nPrice: ₹ 2\,850 (lunch included) \nPlease read the General Information before you apply for this course. \n[/vc_column_text][/vc_column][/vc_row]
URL:https://www.quiethealingcenter.info/course/somatic-movement-with-maggie-14/
LOCATION:Quiet Healing Center\, India
CATEGORIES:2021
ATTACH;FMTTYPE=image/jpeg:https://www.quiethealingcenter.info/wp-content/uploads/2021/01/featured-image-somatic-movement.jpg
END:VEVENT
END:VCALENDAR