BEGIN:VCALENDAR
VERSION:2.0
PRODID:-//Quiet Healing Center - ECPv6.11.2.1//NONSGML v1.0//EN
CALSCALE:GREGORIAN
METHOD:PUBLISH
X-ORIGINAL-URL:https://www.quiethealingcenter.info
X-WR-CALDESC:Events for Quiet Healing Center
REFRESH-INTERVAL;VALUE=DURATION:PT1H
X-Robots-Tag:noindex
X-PUBLISHED-TTL:PT1H
BEGIN:VTIMEZONE
TZID:UTC
BEGIN:STANDARD
TZOFFSETFROM:+0000
TZOFFSETTO:+0000
TZNAME:UTC
DTSTART:20190101T000000
END:STANDARD
END:VTIMEZONE
BEGIN:VEVENT
DTSTART;VALUE=DATE:20191005
DTEND;VALUE=DATE:20191006
DTSTAMP:20260422T045517
CREATED:20190529T222507Z
LAST-MODIFIED:20191026T044948Z
UID:3531-1570233600-1570319999@www.quiethealingcenter.info
SUMMARY:Watsu® Yoga Round with Dariya
DESCRIPTION:[vc_row][vc_column][/vc_column][/vc_row][vc_row css=”.vc_custom_1514262911343{margin-top: 10px !important;padding-top: 10px !important;}”][vc_column][vc_column_text css=”.vc_custom_1572065375131{margin-bottom: 0px !important;}”]Watsu Yoga Round is a powerful tool for deep relaxation and inner peace. It focuses on listening to the body and presence; it represents a way to come back to our heart\, to an inner silence that is fully alive and vibrant. It is an invitation to feel\, awaken and celebrate the energy of our being.[/vc_column_text][vc_row_inner css=”.vc_custom_1514262982910{margin-top: 5px !important;padding-top: 5px !important;}”][vc_column_inner width=”1/6″][/vc_column_inner][vc_column_inner width=”2/3″][vc_single_image image=”3620″ img_size=”1000×750″ alignment=”center”][/vc_column_inner][vc_column_inner width=”1/6″][/vc_column_inner][/vc_row_inner][/vc_column][/vc_row][vc_row css=”.vc_custom_1514263101990{margin-top: 0px !important;padding-top: 0px !important;}”][vc_column][vc_column_text css=”.vc_custom_1572065384561{margin-bottom: 0px !important;}”]When immersed in warm water during the Watsu Yoga Round\, the body does not suffer from the effects of gravity; the flow of movements and stretching alternated with moments of stillness invite a progressive well-being: body and mind become free to dance! \nPrerequisites: No previous experience required (also no need to know how to swim). \nBooking: 0413 2622329 / 9488084966 or E-mail: quiet@auroville.org.in[/vc_column_text][/vc_column][/vc_row][vc_row css=”.vc_custom_1514354459415{margin-top: 5px !important;padding-top: 5px !important;}”][vc_column][vc_row_inner css=”.vc_custom_1514354980177{margin-top: 20px !important;padding-top: 20px !important;}”][vc_column_inner width=”1/4″][vc_single_image image=”2506″ img_size=”430×538″][/vc_column_inner][vc_column_inner width=”3/4″][vc_column_text css=”.vc_custom_1559168615977{margin-bottom: 0px !important;}”]Dariya \nWABA facilitator\, has been sharing her passion for aquatic body­work with groups since 2004. Besides the belief that a solid technical base provides possi­bilities for ease and lightness in further personal growth\, her main focus is to create spaces for flow\, deepening and connection.[/vc_column_text][/vc_column_inner][/vc_row_inner][/vc_column][/vc_row][vc_row css=”.vc_custom_1518336025008{margin-top: 20px !important;padding-top: 20px !important;}”][vc_column][vc_column_text css=”.vc_custom_1559326025113{margin-bottom: 0px !important;}”]Timings: 3.30 – 6.00 PM \nPrice: ₹ 300 \nPlease read the General Information before you apply for this course.[/vc_column_text][/vc_column][/vc_row]
URL:https://www.quiethealingcenter.info/course/watsu-yoga-round-with-dariya-4/
LOCATION:Quiet Healing Center\, India
CATEGORIES:2019
ATTACH;FMTTYPE=image/jpeg:https://www.quiethealingcenter.info/wp-content/uploads/2019/05/watsu-yoga-round-1000-01-medium.jpg
END:VEVENT
BEGIN:VEVENT
DTSTART;VALUE=DATE:20191007
DTEND;VALUE=DATE:20191013
DTSTAMP:20260422T045517
CREATED:20190529T223134Z
LAST-MODIFIED:20190611T073510Z
UID:3538-1570406400-1570924799@www.quiethealingcenter.info
SUMMARY:Watsu® & OBA® Basic with Dariya & Daniel
DESCRIPTION:[vc_row][vc_column][vc_column_text css=”.vc_custom_1538284155480{margin-bottom: 0px !important;}”]A course of 6 half days.[/vc_column_text][/vc_column][/vc_row][vc_row css=”.vc_custom_1514262520964{margin-top: 10px !important;padding-top: 10px !important;}”][vc_column][vc_video max_width=”1125″ link=”https://youtu.be/YjJRgimktUo”][/vc_column][/vc_row][vc_row css=”.vc_custom_1514262911343{margin-top: 10px !important;padding-top: 10px !important;}”][vc_column][vc_column_text]Watsu & OBA are aquatic bodywork modalities given in a warm water pool (ideally 35°C).[/vc_column_text][vc_row_inner css=”.vc_custom_1514262982910{margin-top: 5px !important;padding-top: 5px !important;}”][vc_column_inner width=”1/4″][vc_column_text css=”.vc_custom_1543842801033{margin-bottom: 0px !important;}”]Watsu\, the part where the client’s face stays always on the surface\, introduces the qualities and body mechanics required to work with someone in water in order to create a profound state of both physical and mental relaxation. \n  \nDuring the OBA part the receiver is also brought under water (with nose clip)\, which offers a unique experience.[/vc_column_text][/vc_column_inner][vc_column_inner width=”3/4″][vc_single_image image=”3077″ img_size=”860×560″][/vc_column_inner][/vc_row_inner][/vc_column][/vc_row][vc_row css=”.vc_custom_1543842936713{margin-top: 0px !important;margin-bottom: 0px !important;padding-top: 0px !important;padding-bottom: 0px !important;}”][vc_column width=”1/2″][vc_single_image image=”1516″ img_size=”1000c750″][/vc_column][vc_column width=”1/2″][vc_single_image image=”1517″ img_size=”1000×750″][/vc_column][/vc_row][vc_row css=”.vc_custom_1514354422699{margin-top: 0px !important;padding-top: 0px !important;}”][vc_column][vc_column_text]\nThe flowing interaction with water\, its fluid support and warm embrace\, and the practitioner’s presence provide a space for the client to experience the multi-layered benefits of this powerful and softening bodywork. Watsu & OBA offer an opportunity for profound relaxation and letting go\, for building trust\, for being nurtured and held\, for expanding inner and outer boundaries\, for releasing emotions and traumas – ultimately\, for freeing body and mind in a flow unique to each client and to each session. \n[/vc_column_text][/vc_column][/vc_row][vc_row css=”.vc_custom_1514262719624{margin-top: 15px !important;padding-top: 15px !important;}”][vc_column width=”1/6″][/vc_column][vc_column width=”2/3″][vc_single_image image=”1520″ img_size=”1000×750″][/vc_column][vc_column width=”1/6″][/vc_column][/vc_row][vc_row css=”.vc_custom_1514354459415{margin-top: 5px !important;padding-top: 5px !important;}”][vc_column][vc_column_text css=”.vc_custom_1538284195022{margin-bottom: 0px !important;}”]In this course\, you will practice basic techniques and qualities (grounding\, presence\, stillness\, movement\, attention) of being and moving another body in water. You will experience floating other people and being floated\, on the surface and under water\, thereby creating space for deep relaxation and nurturing body\, mind and spirit. \nParticipants in this course often appreciate the group space\, which fosters deep\, meaningful and nurturing connections.[/vc_column_text][/vc_column][/vc_row][vc_row css=”.vc_custom_1514354459415{margin-top: 5px !important;padding-top: 5px !important;}”][vc_column][vc_column_text css=”.vc_custom_1538296147030{margin-top: 15px !important;margin-bottom: 0px !important;padding-top: 15px !important;}”]Prerequisites:\nNo previous experience required. \nCredits: Watsu Basic is recognized by WABA (Worldwide Aquatic Bodywork Association) as part of the Watsu training program and gives 16 hours of credit for registration with WABA and Watsu India. OBA Basic is part of the Watsu India training program and gives an additional 15 hours of credit for registration with Watsu India and 15 supplementary hours with WABA.[/vc_column_text][vc_row_inner css=”.vc_custom_1514354980177{margin-top: 20px !important;padding-top: 20px !important;}”][vc_column_inner width=”1/4″][vc_single_image image=”1515″ img_size=”430×673″][/vc_column_inner][vc_column_inner width=”3/4″][vc_column_text css=”.vc_custom_1514354821521{margin-bottom: 0px !important;}”]Dariya (as WABA facilitator) & Daniel have been sharing their passion for aquatic body­work with groups since 2004. \nBesides the belief that a solid technical base provides possi­bilities for ease and lightness in further personal growth\, their main focus is to create spaces for flow\, deepening and connection.[/vc_column_text][/vc_column_inner][/vc_row_inner][/vc_column][/vc_row][vc_row css=”.vc_custom_1518336025008{margin-top: 20px !important;padding-top: 20px !important;}”][vc_column][vc_column_text css=”.vc_custom_1560238506306{margin-bottom: 0px !important;}”]Timings: 1.00 – 6.00 PM (First day starting at 1.15 PM!) \nPrice: ₹ 17\,500 \nPlease read the General Information before you apply for this course.[/vc_column_text][/vc_column][/vc_row]
URL:https://www.quiethealingcenter.info/course/watsu-oba-basic-with-dariya-daniel-7/
LOCATION:Quiet Healing Center\, India
CATEGORIES:2018,2019
ATTACH;FMTTYPE=image/jpeg:https://www.quiethealingcenter.info/wp-content/uploads/2017/10/dd-teaching-wobab-1000-01-custom.jpg
END:VEVENT
BEGIN:VEVENT
DTSTART;VALUE=DATE:20191019
DTEND;VALUE=DATE:20191021
DTSTAMP:20260422T045517
CREATED:20190529T223335Z
LAST-MODIFIED:20190530T211255Z
UID:3540-1571443200-1571615999@www.quiethealingcenter.info
SUMMARY:Woga® 1&2 (Yoga in Water) with Dariya
DESCRIPTION:[vc_row][vc_column][vc_column_text css=”.vc_custom_1538295941570{margin-bottom: 0px !important;}”]A 2-day course. \nWoga is the union of two words: water and yoga. It is based on yoga poses and stretches modified for warm water.[/vc_column_text][/vc_column][/vc_row][vc_row css=”.vc_custom_1518332568181{margin-top: 10px !important;padding-top: 10px !important;}”][vc_column width=”1/2″][vc_single_image image=”1864″ img_size=”1000×750″][/vc_column][vc_column width=”1/2″][vc_single_image image=”1866″ img_size=”1000×750″][/vc_column][/vc_row][vc_row][vc_column][vc_column_text css=”.vc_custom_1543750817246{margin-bottom: 0px !important;}”]Thanks to decrease in gravity\, water allows greater ease of movement\, unblocks articulations\, lengthens and melts muscles\, and removes negative tensions\, thereby preventing stress\, insomnia and anxiety.[/vc_column_text][vc_row_inner css=”.vc_custom_1518332589696{margin-top: 10px !important;padding-top: 10px !important;}”][vc_column_inner width=”1/6″][/vc_column_inner][vc_column_inner width=”2/3″][vc_single_image image=”1868″ img_size=”1000×750″][/vc_column_inner][vc_column_inner width=”1/6″][/vc_column_inner][/vc_row_inner][/vc_column][/vc_row][vc_row][vc_column][vc_row_inner][vc_column_inner][vc_column_text css=”.vc_custom_1559250681425{margin-bottom: 0px !important;}”]Water yoga is based on classic yoga poses and stretches\, modified for standing in pool water\, which is waist-to-chest high. You do not need to know how to swim. \nSessions are structured like their yoga equivalents on land: breathing\, warm-up exercises\, a series of poses\, and a relaxation period. The difference is that you are in a warm water pool! \nFocus of Woga 1&2 is Hatha Yoga in water (asanas in standing position\, on the wall\, in floating position\, and under water)\, pranayama and meditation.[/vc_column_text][/vc_column_inner][/vc_row_inner][vc_row_inner][vc_column_inner][vc_column_text css=”.vc_custom_1559250692559{margin-top: 15px !important;margin-bottom: 0px !important;padding-top: 15px !important;}”]Prerequisites:\nNo previous experience required (also no need to know how to swim). \nCredits: Woga 1&2 (Yoga in Water) is recognized by WABA (Worldwide Aquatic Bodywork Association) and gives 12 supplementary hours of credit for registration with WABA and Watsu India.[/vc_column_text][/vc_column_inner][/vc_row_inner][vc_row_inner css=”.vc_custom_1525957926295{margin-top: 20px !important;padding-top: 20px !important;}”][vc_column_inner width=”1/4″][vc_single_image image=”2506″ img_size=”430×538″][/vc_column_inner][vc_column_inner width=”3/4″][vc_column_text css=”.vc_custom_1518332850645{margin-bottom: 0px !important;}”]Dariya \nWABA facilitator\, has been sharing her passion for aquatic body­work with groups since 2004. Besides the belief that a solid technical base provides possi­bilities for ease and lightness in further personal growth\, her main focus is to create spaces for flow\, deepening and connection.[/vc_column_text][/vc_column_inner][/vc_row_inner][vc_row_inner][vc_column_inner][vc_column_text css=”.vc_custom_1545115963302{margin-top: 20px !important;margin-bottom: 0px !important;padding-top: 20px !important;}”]Timings: 9 AM – 6 PM \nPrice: ₹ 5\,950 (lunch included) \nPlease read the General Information before you apply for this course.[/vc_column_text][/vc_column_inner][/vc_row_inner][/vc_column][/vc_row]
URL:https://www.quiethealingcenter.info/course/woga-1-2-yoga-in-water-with-dariya-2-3-2/
LOCATION:Quiet Healing Center\, India
CATEGORIES:2019
ATTACH;FMTTYPE=image/jpeg:https://www.quiethealingcenter.info/wp-content/uploads/2017/07/dariya-woga-1000-01-custom.jpg
END:VEVENT
BEGIN:VEVENT
DTSTART;VALUE=DATE:20191026
DTEND;VALUE=DATE:20191028
DTSTAMP:20260422T045517
CREATED:20190922T154844Z
LAST-MODIFIED:20190922T155136Z
UID:3961-1572048000-1572220799@www.quiethealingcenter.info
SUMMARY:Open Heart-Space Meditation Workshop with Samrat
DESCRIPTION:[vc_row][vc_column][vc_column_text css=”.vc_custom_1563272224724{margin-bottom: 0px !important;padding-bottom: 0px !important;}”]Open Heart-Space Meditation is a simple practice of becoming aware of the reality as it is without judgment\, interpretation or reaction\, and settling into its vast\, luminous expanse.[/vc_column_text][/vc_column][/vc_row][vc_row css=”.vc_custom_1514262171038{margin-top: 15px !important;padding-top: 15px !important;}”][vc_column width=”1/3″][vc_single_image image=”1697″ img_size=”1000×1750″][/vc_column][vc_column width=”2/3″][vc_column_text css=”.vc_custom_1563272785417{margin-bottom: 0px !important;}”]We learn to embrace and let go of each experience as it arises and subsides. Eventually\, the mind falls silent and sinks into the open heart-space\, a doorway to oneness\, where the inner and outer worlds meet and merge. \nWe use practices from insight meditation and various spiritual traditions to help dissolve habitual patterns of closing ourselves from the reality that is ever-present in each moment. \nThe key pointers during this workshop will be dropping our identities and opening to an embrace of awareness and love.[/vc_column_text][/vc_column][/vc_row][vc_row][vc_column][vc_column_text css=”.vc_custom_1563272772506{margin-bottom: 0px !important;}”]No previous experience needed to attend this workshop![/vc_column_text][/vc_column][/vc_row][vc_row css=”.vc_custom_1525958152362{margin-top: 20px !important;padding-top: 20px !important;}”][vc_column width=”1/4″ css=”.vc_custom_1514261653544{margin-top: 5px !important;padding-top: 5px !important;}”][vc_single_image image=”2917″ img_size=”430×538″][/vc_column][vc_column width=”3/4″][vc_column_text css=”.vc_custom_1563277943920{margin-bottom: 0px !important;}”]Samrat \nSamrat Das grew up in the Integral Yoga Ashram of Sri Aurobindo and the Mother at Pondicherry\, India\, for 21 years. He has been living in Auroville\, an international township within India which aims towards human unity\, for the past 20 years.[/vc_column_text][/vc_column][/vc_row][vc_row css=”.vc_custom_1514262268909{margin-top: 15px !important;padding-top: 15px !important;}”][vc_column][vc_row_inner css=”.vc_custom_1514262311359{margin-top: 0px !important;padding-top: 0px !important;}”][vc_column_inner][vc_column_text css=”.vc_custom_1569167316578{margin-bottom: 0px !important;}”]Timings: 9.30 AM -12.30 PM \nPrice: ₹ 2\,400 \nPlease read the General Information before you apply for this wotkshop.[/vc_column_text][/vc_column_inner][/vc_row_inner][/vc_column][/vc_row]
URL:https://www.quiethealingcenter.info/course/open-heart-space-meditation-workshop-with-samrat-2-2/
LOCATION:Quiet Healing Center\, India
CATEGORIES:2019
ATTACH;FMTTYPE=image/jpeg:https://www.quiethealingcenter.info/wp-content/uploads/2018/02/samrat-meditation-custom.jpg
END:VEVENT
END:VCALENDAR