BEGIN:VCALENDAR
VERSION:2.0
PRODID:-//Quiet Healing Center - ECPv6.11.2.1//NONSGML v1.0//EN
CALSCALE:GREGORIAN
METHOD:PUBLISH
X-ORIGINAL-URL:https://www.quiethealingcenter.info
X-WR-CALDESC:Events for Quiet Healing Center
REFRESH-INTERVAL;VALUE=DURATION:PT1H
X-Robots-Tag:noindex
X-PUBLISHED-TTL:PT1H
BEGIN:VTIMEZONE
TZID:UTC
BEGIN:STANDARD
TZOFFSETFROM:+0000
TZOFFSETTO:+0000
TZNAME:UTC
DTSTART:20190101T000000
END:STANDARD
END:VTIMEZONE
BEGIN:VEVENT
DTSTART;VALUE=DATE:20190831
DTEND;VALUE=DATE:20190902
DTSTAMP:20260424T013256
CREATED:20190716T115328Z
LAST-MODIFIED:20190716T115328Z
UID:3903-1567209600-1567382399@www.quiethealingcenter.info
SUMMARY:Open Heart-Space Meditation Workshop with Samrat
DESCRIPTION:[vc_row][vc_column][vc_column_text css=”.vc_custom_1563272224724{margin-bottom: 0px !important;padding-bottom: 0px !important;}”]Open Heart-Space Meditation is a simple practice of becoming aware of the reality as it is without judgment\, interpretation or reaction\, and settling into its vast\, luminous expanse.[/vc_column_text][/vc_column][/vc_row][vc_row css=”.vc_custom_1514262171038{margin-top: 15px !important;padding-top: 15px !important;}”][vc_column width=”1/3″][vc_single_image image=”1697″ img_size=”1000×1750″][/vc_column][vc_column width=”2/3″][vc_column_text css=”.vc_custom_1563272785417{margin-bottom: 0px !important;}”]We learn to embrace and let go of each experience as it arises and subsides. Eventually\, the mind falls silent and sinks into the open heart-space\, a doorway to oneness\, where the inner and outer worlds meet and merge. \nWe use practices from insight meditation and various spiritual traditions to help dissolve habitual patterns of closing ourselves from the reality that is ever-present in each moment. \nThe key pointers during this workshop will be dropping our identities and opening to an embrace of awareness and love.[/vc_column_text][/vc_column][/vc_row][vc_row][vc_column][vc_column_text css=”.vc_custom_1563272772506{margin-bottom: 0px !important;}”]No previous experience needed to attend this workshop![/vc_column_text][/vc_column][/vc_row][vc_row css=”.vc_custom_1525958152362{margin-top: 20px !important;padding-top: 20px !important;}”][vc_column width=”1/4″ css=”.vc_custom_1514261653544{margin-top: 5px !important;padding-top: 5px !important;}”][vc_single_image image=”2917″ img_size=”430×538″][/vc_column][vc_column width=”3/4″][vc_column_text css=”.vc_custom_1563277943920{margin-bottom: 0px !important;}”]Samrat \nSamrat Das grew up in the Integral Yoga Ashram of Sri Aurobindo and the Mother at Pondicherry\, India\, for 21 years. He has been living in Auroville\, an international township within India which aims towards human unity\, for the past 20 years.[/vc_column_text][/vc_column][/vc_row][vc_row css=”.vc_custom_1514262268909{margin-top: 15px !important;padding-top: 15px !important;}”][vc_column][vc_row_inner css=”.vc_custom_1514262311359{margin-top: 0px !important;padding-top: 0px !important;}”][vc_column_inner][vc_column_text css=”.vc_custom_1563273066133{margin-bottom: 0px !important;}”]Timings: 9.30 AM -12.30 PM \nPrice: ₹ 4\,800 \nPlease read the General Information before you apply for this wotkshop.[/vc_column_text][/vc_column_inner][/vc_row_inner][/vc_column][/vc_row]
URL:https://www.quiethealingcenter.info/course/open-heart-space-meditation-workshop-with-samrat/
LOCATION:Quiet Healing Center\, India
CATEGORIES:2019
ATTACH;FMTTYPE=image/jpeg:https://www.quiethealingcenter.info/wp-content/uploads/2018/02/samrat-meditation-custom.jpg
END:VEVENT
BEGIN:VEVENT
DTSTART;VALUE=DATE:20190907
DTEND;VALUE=DATE:20190909
DTSTAMP:20260424T013256
CREATED:20190618T075702Z
LAST-MODIFIED:20190703T101914Z
UID:3643-1567814400-1567987199@www.quiethealingcenter.info
SUMMARY:Conscious Touch with Bodhi & Verena
DESCRIPTION:[vc_row][vc_column][vc_column_text css=”.vc_custom_1560841481825{margin-bottom: 0px !important;}”]\nA workshop to explore how to touch with simple massage techniques. It is designed to enhance the quality of Conscious Touch. \n[/vc_column_text][/vc_column][/vc_row][vc_row css=”.vc_custom_1514522279810{margin-top: 10px !important;padding-top: 10px !important;}”][vc_column width=”1/2″][vc_single_image image=”3367″ img_size=”full”][/vc_column][vc_column width=”1/2″][vc_single_image image=”3066″ img_size=”full”][/vc_column][/vc_row][vc_row][vc_column][vc_column_text css=”.vc_custom_1560844521749{margin-bottom: 0px !important;}”]Being aware of yourself while giving attention to another person is a fundamental practice for all flourishing and sustainable relationships; this is especially important while giving and receiving touch through massage. Conscious Touch is a powerful tool for deepening your connection in all kinds of relationships. \nDuring this workshop you will experience different ways to get into a deep heart-connection and to practice essential elements of massage. \nThese massage techniques can be shared with children\, family and friends. \n  \nGoals:\n \n\nAcquiring a better knowledge of the body.\nLearning basic massage techniques.\nGrowing self awareness.\nGetting into a deeper contact with yourself\, while giving attention to another person.\n\n  \nPrerequisites: No previous knowledge required.  The Seminar is open to all\, who would like to learn how to touch with love\, care\, presence\, and skill. The workshop is also useful for those in healing professions. \n  \n[/vc_column_text][/vc_column][/vc_row][vc_row css=”.vc_custom_1525959319424{margin-top: 20px !important;padding-top: 20px !important;}”][vc_column width=”1/4″][vc_single_image image=”3645″ img_size=”430×538″][/vc_column][vc_column width=”3/4″][vc_column_text css=”.vc_custom_1560842939425{margin-bottom: 0px !important;}”]\nBodhi\n \nBodhi is a Certified Holistic Therapist. She has a Diploma in Shiatsu and Divine Healing Exercises (O.D.H.A. School). She is trained in Body Balancing Biodynamic Massage\, Kobido Massage\, Reiki and Breathwork. She enjoys sharing her skills with others. \n[/vc_column_text][/vc_column][/vc_row][vc_row css=”.vc_custom_1525959319424{margin-top: 20px !important;padding-top: 20px !important;}”][vc_column width=”1/4″][vc_single_image image=”3749″ img_size=”430×538″][/vc_column][vc_column width=”3/4″][vc_column_text css=”.vc_custom_1560843209841{margin-bottom: 0px !important;}”]\nVerena\n \nVerena studied social work (Diploma) and is an Esalen® Massage Therapist\, Wingwave® Coach and Progressive Muscle Relaxation Trainer (E. Jacobsen). She is experienced in working with groups and likes to share the approach of being in full heart-connection. \n  \n[/vc_column_text][/vc_column][/vc_row][vc_row css=”.vc_custom_1514522448560{margin-top: 15px !important;padding-top: 15px !important;}”][vc_column][vc_column_text css=”.vc_custom_1562149152470{margin-bottom: 0px !important;}”]\nTimings: Saturday: 9.30 AM – 6.00 PM / Sunday: 9.00 AM – 4.00 PM \nPrice: ₹ 5\,950 (lunch included) \nPlease read the General Information before you apply for this course. \n[/vc_column_text][/vc_column][/vc_row]
URL:https://www.quiethealingcenter.info/course/conscious-touch-with-bodhi-verena/
LOCATION:Quiet Healing Center\, India
CATEGORIES:2019
ATTACH;FMTTYPE=image/jpeg:https://www.quiethealingcenter.info/wp-content/uploads/2019/02/esalen-1000-01-medium.jpg
END:VEVENT
BEGIN:VEVENT
DTSTART;VALUE=DATE:20190909
DTEND;VALUE=DATE:20190910
DTSTAMP:20260424T013256
CREATED:20190515T111337Z
LAST-MODIFIED:20191026T045058Z
UID:3510-1567987200-1568073599@www.quiethealingcenter.info
SUMMARY:Watsu® Yoga Round with Petra
DESCRIPTION:[vc_row][vc_column][/vc_column][/vc_row][vc_row css=”.vc_custom_1514262911343{margin-top: 10px !important;padding-top: 10px !important;}”][vc_column][vc_column_text css=”.vc_custom_1572065437617{margin-bottom: 0px !important;}”]Watsu Yoga Round is a powerful tool for deep relaxation and inner peace. It focuses on listening to the body and presence; it represents a way to come back to our heart\, to an inner silence that is fully alive and vibrant. It is an invitation to feel\, awaken and celebrate the energy of our being.[/vc_column_text][vc_row_inner css=”.vc_custom_1514262982910{margin-top: 5px !important;padding-top: 5px !important;}”][vc_column_inner width=”1/6″][/vc_column_inner][vc_column_inner width=”2/3″][vc_single_image image=”3620″ img_size=”1000×750″ alignment=”center”][/vc_column_inner][vc_column_inner width=”1/6″][/vc_column_inner][/vc_row_inner][/vc_column][/vc_row][vc_row css=”.vc_custom_1514263101990{margin-top: 0px !important;padding-top: 0px !important;}”][vc_column][vc_column_text css=”.vc_custom_1572065449188{margin-bottom: 0px !important;}”]When immersed in warm water during the Watsu Yoga Round\, the body does not suffer from the effects of gravity; the flow of movements and stretching alternated with moments of stillness invite a progressive well-being: body and mind become free to dance! \nPrerequisites: No previous experience required (also no need to know how to swim). \nBooking: 0413 2622329 / 9488084966 or E-mail: quiet@auroville.org.in[/vc_column_text][/vc_column][/vc_row][vc_row css=”.vc_custom_1514354459415{margin-top: 5px !important;padding-top: 5px !important;}”][vc_column][vc_row_inner css=”.vc_custom_1514354980177{margin-top: 20px !important;padding-top: 20px !important;}”][vc_column_inner width=”1/4″][vc_single_image image=”1756″ img_size=”430×673″][/vc_column_inner][vc_column_inner width=”3/4″][vc_column_text css=”.vc_custom_1557918567641{margin-bottom: 0px !important;}”]Petra Buschfeld \nCertified acupuncturist\, WABA facilitator for Watsu Basic and co-facilitater for Shiatsu for Watsu. She also facilitates OBA Intro and Woga 1 & 2.[/vc_column_text][/vc_column_inner][/vc_row_inner][/vc_column][/vc_row][vc_row css=”.vc_custom_1518336025008{margin-top: 20px !important;padding-top: 20px !important;}”][vc_column][vc_column_text css=”.vc_custom_1559325305049{margin-bottom: 0px !important;}”]Timings: 3.30 – 6.00 PM \nPrice: ₹ 300 \nPlease read the General Information before you apply for this course.[/vc_column_text][/vc_column][/vc_row]
URL:https://www.quiethealingcenter.info/course/watsu-yoga-round-with-petra/
LOCATION:Quiet Healing Center\, India
CATEGORIES:2019
ATTACH;FMTTYPE=image/jpeg:https://www.quiethealingcenter.info/wp-content/uploads/2019/05/watsu-yoga-round-1000-01a-medium.jpg
END:VEVENT
BEGIN:VEVENT
DTSTART;VALUE=DATE:20190911
DTEND;VALUE=DATE:20190914
DTSTAMP:20260424T013256
CREATED:20190515T104428Z
LAST-MODIFIED:20190606T083558Z
UID:3498-1568160000-1568419199@www.quiethealingcenter.info
SUMMARY:Watsu® Basic & OBA® Intro with Petra Buschfeld
DESCRIPTION:[vc_row][vc_column][vc_column_text css=”.vc_custom_1538292285315{margin-bottom: 0px !important;}”]\n\nA 3-days course on the surface and under water. \nWatsu & OBA are aquatic bodywork modalities given in a warm water pool (ideally 35°C). While Watsu is the mother of all water therapies\, created by Harold Dull in the 1980s\, OBA (formerly called Aquawellness) was developed afterwards by Kaya Femerling and Nirvano Martina Schulz. It combines elements of light movements and stretching\, massage and mobilization of the joints in connection with breathing and energetic work conducted both on the surface and under water. \n\n\n[/vc_column_text][/vc_column][/vc_row][vc_row css=”.vc_custom_1518295003769{margin-top: 10px !important;padding-top: 10px !important;}”][vc_column width=”1/2″][vc_single_image image=”1812″ img_size=”1000×750″][/vc_column][vc_column width=”1/2″][vc_single_image image=”1810″ img_size=”1000×750″][/vc_column][/vc_row][vc_row][vc_column][vc_column_text css=”.vc_custom_1538292371602{margin-bottom: 0px !important;}”]Watsu\, the part during which the receiver’s face remains on the surface\, introduces the qualities and body mechanics to work with someone in water. During the OBA part the receiver is brought under water (with nose clip)\, which offers a unique experience. \nWatsu & OBA offer an opportunity for profound relaxation and letting go\, building trust\, being nurtured and held\, expanding inner and outer boundaries\, releasing emotions and traumas – ultimately\, for freeing body and mind in a flow unique to each client and each session. \nIn this course\, you will practice basic techniques and qualities of being (grounding\, presence\, stillness\, movement\, attention) while moving another body in water. You will experience floating other people and being floated\, on the surface and under water\, thereby creating space for deep relaxation and nurturing body\, mind and spirit.[/vc_column_text][/vc_column][/vc_row][vc_row][vc_column][vc_column_text css=”.vc_custom_1538292436167{margin-top: 15px !important;margin-bottom: 0px !important;padding-top: 15px !important;}”]Prerequisites:\nNo previous experience required. \nCredits: Watsu Basic is recognized by WABA (Worldwide Aquatic Bodywork Association) as part of the Watsu training program and gives 16 hours of credit for registration with WABA and Watsu India. OBA Intro is part of the Watsu India training program and gives additional 8 hours of credit for registration with Watsu India and 8 supplementary hours with WABA.[/vc_column_text][/vc_column][/vc_row][vc_row][vc_column][vc_row_inner css=”.vc_custom_1525959818999{margin-top: 20px !important;padding-top: 20px !important;}”][vc_column_inner width=”1/4″][vc_single_image image=”1756″ img_size=”430×538″][/vc_column_inner][vc_column_inner width=”3/4″][vc_column_text css=”.vc_custom_1518348408035{margin-bottom: 0px !important;}”]Petra Buschfeld \nCertified acupuncturist\, WABA facilitator for Watsu Basic and co-facilitater for Shiatsu for Watsu. She also facilitates OBA Intro and Woga 1 & 2.[/vc_column_text][/vc_column_inner][/vc_row_inner][vc_column_text css=”.vc_custom_1538364190959{margin-top: 20px !important;margin-bottom: 0px !important;padding-top: 20px !important;}”]Timings: 8.45 AM – 6.30 PM \nPrice: ₹ 13\,950 (lunch included) \nPlease read the General Information before you apply for this course.[/vc_column_text][/vc_column][/vc_row]
URL:https://www.quiethealingcenter.info/course/watsu-basic-oba-intro-with-petra-buschfeld-4/
LOCATION:Quiet Healing Center\, India
CATEGORIES:2019
ATTACH;FMTTYPE=image/jpeg:https://www.quiethealingcenter.info/wp-content/uploads/2017/10/petra-portrait-1000-custom.jpg
END:VEVENT
BEGIN:VEVENT
DTSTART;VALUE=DATE:20190915
DTEND;VALUE=DATE:20190920
DTSTAMP:20260424T013256
CREATED:20190515T104806Z
LAST-MODIFIED:20190529T220954Z
UID:3500-1568505600-1568937599@www.quiethealingcenter.info
SUMMARY:Watsu® 1 (Transition Flow) with Dariya & Daniel
DESCRIPTION:[vc_row][vc_column][vc_column_text css=”.vc_custom_1538286295912{margin-bottom: 0px !important;}”]A 5-day course on the surface only.[/vc_column_text][/vc_column][/vc_row][vc_row css=”.vc_custom_1514262911343{margin-top: 10px !important;padding-top: 10px !important;}”][vc_column][vc_column_text css=”.vc_custom_1538286328403{margin-bottom: 0px !important;}”]In this course you will be taught to connect the basic movements and positions you have learned in Watsu Basic with long\, gracefully flowing transitions and to adapt this work to people of different sizes\, shapes\, and dispositions.[/vc_column_text][vc_row_inner css=”.vc_custom_1514262982910{margin-top: 5px !important;padding-top: 5px !important;}”][vc_column_inner width=”1/2″][vc_single_image image=”1525″ img_size=”1000×750″][/vc_column_inner][vc_column_inner width=”1/2″][vc_single_image image=”1526″ img_size=”1000×750″][/vc_column_inner][/vc_row_inner][/vc_column][/vc_row][vc_row css=”.vc_custom_1514263101990{margin-top: 0px !important;padding-top: 0px !important;}”][vc_column][vc_column_text css=”.vc_custom_1538286359666{margin-bottom: 0px !important;}”]You will also learn about your own body mechanics and how to support and move each person as effortlessly as possible.[/vc_column_text][/vc_column][/vc_row][vc_row css=”.vc_custom_1514262719624{margin-top: 15px !important;padding-top: 15px !important;}”][vc_column width=”1/4″][/vc_column][vc_column width=”1/2″][vc_single_image image=”1412″ img_size=”1000×750″ alignment=”center”][/vc_column][vc_column width=”1/4″][/vc_column][/vc_row][vc_row css=”.vc_custom_1514354459415{margin-top: 5px !important;padding-top: 5px !important;}”][vc_column][vc_column_text css=”.vc_custom_1538286471176{margin-bottom: 0px !important;}”]\nOn land\, you will be introduced to both Co-Centering and Tantsu\, and explore what being held means to you and others. \n[/vc_column_text][/vc_column][/vc_row][vc_row css=”.vc_custom_1514354459415{margin-top: 5px !important;padding-top: 5px !important;}”][vc_column][vc_column_text css=”.vc_custom_1538286534033{margin-top: 15px !important;margin-bottom: 0px !important;padding-top: 15px !important;}”]Prerequisites:\nWatsu & Liquid Flow Basic or Watsu Basic & OBA Intro or Watsu Basic. \nCredits: Watsu 1 is recognized by WABA (Worldwide Aquatic Bodywork Association) as part of the Watsu training program and gives 34 hours of credit for registration with WABA and Watsu India.[/vc_column_text][vc_row_inner css=”.vc_custom_1514354980177{margin-top: 20px !important;padding-top: 20px !important;}”][vc_column_inner width=”1/4″][vc_single_image image=”1515″ img_size=”430×673″][/vc_column_inner][vc_column_inner width=”3/4″][vc_column_text css=”.vc_custom_1514354821521{margin-bottom: 0px !important;}”]Dariya (as WABA facilitator) & Daniel have been sharing their passion for aquatic body­work with groups since 2004. \nBesides the belief that a solid technical base provides possi­bilities for ease and lightness in further personal growth\, their main focus is to create spaces for flow\, deepening and connection.[/vc_column_text][/vc_column_inner][/vc_row_inner][/vc_column][/vc_row][vc_row css=”.vc_custom_1518336025008{margin-top: 20px !important;padding-top: 20px !important;}”][vc_column][vc_column_text css=”.vc_custom_1538363828347{margin-bottom: 0px !important;}”]Timings: 9.00 – 6.00 PM \nPrice: ₹ 20\,500 (lunch included) \nPlease read the General Information before you apply for this course.[/vc_column_text][/vc_column][/vc_row]
URL:https://www.quiethealingcenter.info/course/watsu-1-transition-flow-with-dariya-daniel-5/
LOCATION:Quiet Healing Center\, India
CATEGORIES:2019
ATTACH;FMTTYPE=image/jpeg:https://www.quiethealingcenter.info/wp-content/uploads/2017/10/dariya-watsu-1-1000-03.jpg
END:VEVENT
BEGIN:VEVENT
DTSTART;VALUE=DATE:20190921
DTEND;VALUE=DATE:20190923
DTSTAMP:20260424T013256
CREATED:20190515T105004Z
LAST-MODIFIED:20190530T211408Z
UID:3504-1569024000-1569196799@www.quiethealingcenter.info
SUMMARY:Woga® 1&2 (Yoga in Water) with Petra Buschfeld
DESCRIPTION:[vc_row][vc_column][vc_column_text css=”.vc_custom_1538295768967{margin-bottom: 0px !important;}”]A 2-day course. \nWoga is the union of two words: water and yoga. It is based on yoga poses and stretches modified for warm water.[/vc_column_text][/vc_column][/vc_row][vc_row css=”.vc_custom_1518332568181{margin-top: 10px !important;padding-top: 10px !important;}”][vc_column width=”1/2″][vc_single_image image=”1871″ img_size=”1000×750″][/vc_column][vc_column width=”1/2″][vc_single_image image=”1863″ img_size=”1000×750″][/vc_column][/vc_row][vc_row][vc_column][vc_column_text css=”.vc_custom_1543750954479{margin-bottom: 0px !important;}”]Thanks to decrease in gravity\, water allows greater ease of movement\, unblocks articulations\, lengthens and melts muscles\, and removes negative tensions\, thereby preventing stress\, insomnia and anxiety.[/vc_column_text][vc_row_inner css=”.vc_custom_1518332589696{margin-top: 10px !important;padding-top: 10px !important;}”][vc_column_inner width=”1/6″][/vc_column_inner][vc_column_inner width=”2/3″][vc_single_image image=”1869″ img_size=”1000×750″][/vc_column_inner][vc_column_inner width=”1/6″][/vc_column_inner][/vc_row_inner][/vc_column][/vc_row][vc_row][vc_column][vc_row_inner][vc_column_inner][vc_column_text css=”.vc_custom_1559250837461{margin-bottom: 0px !important;}”]Water yoga is based on classic yoga poses and stretches\, modified for standing in pool water\, which is waist-to-chest high. You do not need to know how to swim. \nSessions are structured like their yoga equivalents on land: breathing\, warm-up exercises\, a series of poses\, and a relaxation period. The difference is that you are in a warm water pool! \nFocus of Woga 1&2 is Hatha Yoga in water (asanas in standing position\, on the wall\, in floating position\, and under water)\, pranayama and meditation.[/vc_column_text][/vc_column_inner][/vc_row_inner][vc_row_inner][vc_column_inner][vc_column_text css=”.vc_custom_1559250846727{margin-top: 15px !important;margin-bottom: 0px !important;padding-top: 15px !important;}”]Prerequisites:\nNo previous experience required (also no need to know how to swim). \nCredits: Woga 1&2 (Yoga in Water) is recognized by WABA (Worldwide Aquatic Bodywork Association) and gives 12 supplementary hours of credit for registration with WABA and Watsu India.[/vc_column_text][/vc_column_inner][/vc_row_inner][vc_row_inner css=”.vc_custom_1525957926295{margin-top: 20px !important;padding-top: 20px !important;}”][vc_column_inner width=”1/4″][vc_single_image image=”1756″ img_size=”430×538″][/vc_column_inner][vc_column_inner width=”3/4″][vc_column_text css=”.vc_custom_1538295896353{margin-bottom: 0px !important;}”]Petra Buschfeld \nCertified acupuncturist\, WABA facilitator for Watsu Basic and co-facilitater for Shiatsu for Watsu. She also facilitates OBA Intro and Woga 1 & 2.[/vc_column_text][/vc_column_inner][/vc_row_inner][vc_row_inner][vc_column_inner][vc_column_text css=”.vc_custom_1545116259836{margin-top: 20px !important;margin-bottom: 0px !important;padding-top: 20px !important;}”]Timings: 9 AM – 6 PM \nPrice: ₹ 5\,950 (lunch included) \nPlease read the General Information before you apply for this course.[/vc_column_text][/vc_column_inner][/vc_row_inner][/vc_column][/vc_row]
URL:https://www.quiethealingcenter.info/course/woga-1-2-yoga-in-water-with-petra-buschfeld-2/
LOCATION:Quiet Healing Center\, India
CATEGORIES:2019
ATTACH;FMTTYPE=image/jpeg:https://www.quiethealingcenter.info/wp-content/uploads/2017/07/petra-woga-1000-01-custom.jpg
END:VEVENT
BEGIN:VEVENT
DTSTART;VALUE=DATE:20190921
DTEND;VALUE=DATE:20190923
DTSTAMP:20260424T013256
CREATED:20190716T115549Z
LAST-MODIFIED:20190716T115914Z
UID:3911-1569024000-1569196799@www.quiethealingcenter.info
SUMMARY:Open Heart-Space Meditation Workshop with Samrat
DESCRIPTION:[vc_row][vc_column][vc_column_text css=”.vc_custom_1563272224724{margin-bottom: 0px !important;padding-bottom: 0px !important;}”]Open Heart-Space Meditation is a simple practice of becoming aware of the reality as it is without judgment\, interpretation or reaction\, and settling into its vast\, luminous expanse.[/vc_column_text][/vc_column][/vc_row][vc_row css=”.vc_custom_1514262171038{margin-top: 15px !important;padding-top: 15px !important;}”][vc_column width=”1/3″][vc_single_image image=”1697″ img_size=”1000×1750″][/vc_column][vc_column width=”2/3″][vc_column_text css=”.vc_custom_1563272785417{margin-bottom: 0px !important;}”]We learn to embrace and let go of each experience as it arises and subsides. Eventually\, the mind falls silent and sinks into the open heart-space\, a doorway to oneness\, where the inner and outer worlds meet and merge. \nWe use practices from insight meditation and various spiritual traditions to help dissolve habitual patterns of closing ourselves from the reality that is ever-present in each moment. \nThe key pointers during this workshop will be dropping our identities and opening to an embrace of awareness and love.[/vc_column_text][/vc_column][/vc_row][vc_row][vc_column][vc_column_text css=”.vc_custom_1563272772506{margin-bottom: 0px !important;}”]No previous experience needed to attend this workshop![/vc_column_text][/vc_column][/vc_row][vc_row css=”.vc_custom_1525958152362{margin-top: 20px !important;padding-top: 20px !important;}”][vc_column width=”1/4″ css=”.vc_custom_1514261653544{margin-top: 5px !important;padding-top: 5px !important;}”][vc_single_image image=”2917″ img_size=”430×538″][/vc_column][vc_column width=”3/4″][vc_column_text css=”.vc_custom_1563277943920{margin-bottom: 0px !important;}”]Samrat \nSamrat Das grew up in the Integral Yoga Ashram of Sri Aurobindo and the Mother at Pondicherry\, India\, for 21 years. He has been living in Auroville\, an international township within India which aims towards human unity\, for the past 20 years.[/vc_column_text][/vc_column][/vc_row][vc_row css=”.vc_custom_1514262268909{margin-top: 15px !important;padding-top: 15px !important;}”][vc_column][vc_row_inner css=”.vc_custom_1514262311359{margin-top: 0px !important;padding-top: 0px !important;}”][vc_column_inner][vc_column_text css=”.vc_custom_1563273066133{margin-bottom: 0px !important;}”]Timings: 9.30 AM -12.30 PM \nPrice: ₹ 4\,800 \nPlease read the General Information before you apply for this wotkshop.[/vc_column_text][/vc_column_inner][/vc_row_inner][/vc_column][/vc_row]
URL:https://www.quiethealingcenter.info/course/open-heart-space-meditation-workshop-with-samrat-2/
LOCATION:Quiet Healing Center\, India
CATEGORIES:2019
ATTACH;FMTTYPE=image/jpeg:https://www.quiethealingcenter.info/wp-content/uploads/2018/02/samrat-meditation-custom.jpg
END:VEVENT
BEGIN:VEVENT
DTSTART;VALUE=DATE:20190925
DTEND;VALUE=DATE:20190930
DTSTAMP:20260424T013256
CREATED:20190529T221652Z
LAST-MODIFIED:20190621T141055Z
UID:3516-1569369600-1569801599@www.quiethealingcenter.info
SUMMARY:Watsu® & Elements of Vipassana Introduction with Petra Buschfeld
DESCRIPTION:[vc_row][vc_column][vc_column_text css=”.vc_custom_1561126250319{margin-bottom: 0px !important;}”]A 5-days introduction into Watsu & Elements of Vipassana in warm water. \nAn important part of aquatic bodywork is about BEING instead of DOING something particular. Meditation is one of the best ways to enter into that state of awareness. \nVipassana\, which means to see things as they really are\, is one of India’s most ancient techniques of meditation. It was rediscovered by Gautama the Buddha more than 2500 years ago. Vipassana is a way of self-transformation through self-observation. It focuses on the deep interconnection between body and mind\, which can be directly experienced.[/vc_column_text][/vc_column][/vc_row][vc_row css=”.vc_custom_1518352126496{margin-top: 10px !important;padding-top: 10px !important;}”][vc_column width=”1/2″][vc_single_image image=”925″ img_size=”1000×750″][/vc_column][vc_column width=”1/2″][vc_single_image image=”930″ img_size=”1000×750″][/vc_column][/vc_row][vc_row][vc_column][vc_column_text css=”.vc_custom_1560239576992{margin-bottom: 0px !important;}”]Watsu is the first form of meditative aquatic bodywork\, developed by the poet Harold Dull in the 80s. Considered as one of the most profound developments in bodywork in recent times\, it brings the giver and receiver to a new level of connection and consciousness that involves our whole being. \nIn this residential retreat\, we combine elements of Vipassana meditation with the depth and practice of Watsu to encourage the search for our inner being. While isolating us in silence from all external contact for 5 days\, we will enter into a deep contact with our inner self. \nThis journey of observation and self-discovery can bring us to the roots of our mind and dissolve mental and emotional impurities\, giving us back balance\, love and compassion. \nPlease be aware that this is a 5 days residential retreat\, during which we stay for the entire time in isolation on the premises of Quiet. \n  \n[/vc_column_text][/vc_column][/vc_row][vc_row][vc_column][vc_column_text css=”.vc_custom_1561125534720{margin-bottom: 0px !important;}”]Prerequisites:\nWatsu Basic. \nCredits:\nWatsu & Elements of Vipassana Intro is recognized by WABA (Worldwide Aquatic Bodywork Association) and gives 50 hours of credit for registration with WABA and Watsu India.[/vc_column_text][vc_row_inner css=”.vc_custom_1525957806601{margin-top: 20px !important;padding-top: 20px !important;}”][vc_column_inner width=”1/4″][vc_single_image image=”1756″ img_size=”430×538″][/vc_column_inner][vc_column_inner width=”3/4″][vc_column_text css=”.vc_custom_1518352490708{margin-top: 0px !important;margin-bottom: 0px !important;padding-top: 0px !important;}”]Petra Buschfeld \nCertified acupuncturist\, WABA facilitator for Watsu Basic and co-facilitator for Shiatsu for Watsu. She also facilitates OBA Intro and Woga 1 & 2. \n[/vc_column_text][/vc_column_inner][/vc_row_inner][/vc_column][/vc_row][vc_row][vc_column][vc_column_text css=”.vc_custom_1561125504929{margin-top: 20px !important;margin-bottom: 0px !important;padding-top: 20px !important;}”]Timings: 7 AM – 10 PM (residential) – first day (25th) starting at 8.30 AM \nPrice: ₹ 19\,950 \nPlease read the General Information before you apply for this intensive.[/vc_column_text][/vc_column][/vc_row]
URL:https://www.quiethealingcenter.info/course/watsu-elements-of-vipassana-introduction-with-petra-buschfeld/
LOCATION:Quiet Healing Center\, India
CATEGORIES:2019
ATTACH;FMTTYPE=image/jpeg:https://www.quiethealingcenter.info/wp-content/uploads/2017/07/petra_vipassana_2_small.jpg
END:VEVENT
END:VCALENDAR