BEGIN:VCALENDAR
VERSION:2.0
PRODID:-//Quiet Healing Center - ECPv6.11.2.1//NONSGML v1.0//EN
CALSCALE:GREGORIAN
METHOD:PUBLISH
X-ORIGINAL-URL:https://www.quiethealingcenter.info
X-WR-CALDESC:Events for Quiet Healing Center
REFRESH-INTERVAL;VALUE=DURATION:PT1H
X-Robots-Tag:noindex
X-PUBLISHED-TTL:PT1H
BEGIN:VTIMEZONE
TZID:UTC
BEGIN:STANDARD
TZOFFSETFROM:+0000
TZOFFSETTO:+0000
TZNAME:UTC
DTSTART:20190101T000000
END:STANDARD
END:VTIMEZONE
BEGIN:VEVENT
DTSTART;VALUE=DATE:20190817
DTEND;VALUE=DATE:20190819
DTSTAMP:20260424T093928
CREATED:20190703T101351Z
LAST-MODIFIED:20190703T101617Z
UID:3795-1566000000-1566172799@www.quiethealingcenter.info
SUMMARY:Somatic Movement with Maggie
DESCRIPTION:[vc_row][vc_column][vc_column_text css=”.vc_custom_1562148732879{margin-bottom: 0px !important;}”]A 2-day neuromuscular re-education (mind-body training) course in the tradition of Thomas Hanna. \nSomatics is a system of slow mindful movements. It is a gentle\, easy and effective way to help you manage chronic and acute pain. Other benefits include more ease in the body\, better posture and deep relaxation. It teaches you to recognize\, release and reverse chronic pain patterns resulting from injury\, stress\, or habituated postures.[/vc_column_text][/vc_column][/vc_row][vc_row css=”.vc_custom_1514522279810{margin-top: 10px !important;padding-top: 10px !important;}”][vc_column width=”1/2″][vc_single_image image=”1536″ img_size=”1000×750″][/vc_column][vc_column width=”1/2″][vc_single_image image=”1537″ img_size=”1000×750″][/vc_column][/vc_row][vc_row][vc_column][vc_column_text css=”.vc_custom_1562148759373{margin-bottom: 0px !important;}”]We will begin with a short introduction – what Somatics is\, why it’s unique and how it works\, and then experience a variety of fun\, easy and gentle movements designed to help you create a deeper sense of awareness as to the places where you hold tension in your body. \nAt the end of the course there will be time for questions and a review of specific movements which can be practiced at home. \nHandouts of the home practice will be given. \nFor further information on Somatics please visit: Association for Hanna Somatics\, Novato Institute for Somatic Research and Training and International Institute for Somatic Movement Education.[/vc_column_text][/vc_column][/vc_row][vc_row css=”.vc_custom_1525959319424{margin-top: 20px !important;padding-top: 20px !important;}”][vc_column width=”1/4″][vc_single_image image=”1843″ img_size=”430×538″][/vc_column][vc_column width=”3/4″][vc_column_text css=”.vc_custom_1562148800242{margin-bottom: 0px !important;}”]Maggie \nOriginally from London\, Maggie joined Auroville in 2005 where she lives and works as a massage therapist and course facilitator. \nShe is a professionally trained Somatic Movement Educator and offers classes\, courses and individual therapies.[/vc_column_text][/vc_column][/vc_row][vc_row css=”.vc_custom_1514522448560{margin-top: 15px !important;padding-top: 15px !important;}”][vc_column][vc_column_text css=”.vc_custom_1562148974387{margin-bottom: 0px !important;}”]\nTimings: 9.30 AM – 5.00 PM \nPrice: ₹ 5\,500 (lunch included) \nPlease read the General Information before you apply for this course. \n[/vc_column_text][/vc_column][/vc_row]
URL:https://www.quiethealingcenter.info/course/somatic-movement-with-maggie-9-2/
LOCATION:Quiet Healing Center\, India
CATEGORIES:2019
ATTACH;FMTTYPE=image/jpeg:https://www.quiethealingcenter.info/wp-content/uploads/2017/12/somatics-1000-01-custom.jpg
END:VEVENT
BEGIN:VEVENT
DTSTART;VALUE=DATE:20190831
DTEND;VALUE=DATE:20190902
DTSTAMP:20260424T093928
CREATED:20190716T115328Z
LAST-MODIFIED:20190716T115328Z
UID:3903-1567209600-1567382399@www.quiethealingcenter.info
SUMMARY:Open Heart-Space Meditation Workshop with Samrat
DESCRIPTION:[vc_row][vc_column][vc_column_text css=”.vc_custom_1563272224724{margin-bottom: 0px !important;padding-bottom: 0px !important;}”]Open Heart-Space Meditation is a simple practice of becoming aware of the reality as it is without judgment\, interpretation or reaction\, and settling into its vast\, luminous expanse.[/vc_column_text][/vc_column][/vc_row][vc_row css=”.vc_custom_1514262171038{margin-top: 15px !important;padding-top: 15px !important;}”][vc_column width=”1/3″][vc_single_image image=”1697″ img_size=”1000×1750″][/vc_column][vc_column width=”2/3″][vc_column_text css=”.vc_custom_1563272785417{margin-bottom: 0px !important;}”]We learn to embrace and let go of each experience as it arises and subsides. Eventually\, the mind falls silent and sinks into the open heart-space\, a doorway to oneness\, where the inner and outer worlds meet and merge. \nWe use practices from insight meditation and various spiritual traditions to help dissolve habitual patterns of closing ourselves from the reality that is ever-present in each moment. \nThe key pointers during this workshop will be dropping our identities and opening to an embrace of awareness and love.[/vc_column_text][/vc_column][/vc_row][vc_row][vc_column][vc_column_text css=”.vc_custom_1563272772506{margin-bottom: 0px !important;}”]No previous experience needed to attend this workshop![/vc_column_text][/vc_column][/vc_row][vc_row css=”.vc_custom_1525958152362{margin-top: 20px !important;padding-top: 20px !important;}”][vc_column width=”1/4″ css=”.vc_custom_1514261653544{margin-top: 5px !important;padding-top: 5px !important;}”][vc_single_image image=”2917″ img_size=”430×538″][/vc_column][vc_column width=”3/4″][vc_column_text css=”.vc_custom_1563277943920{margin-bottom: 0px !important;}”]Samrat \nSamrat Das grew up in the Integral Yoga Ashram of Sri Aurobindo and the Mother at Pondicherry\, India\, for 21 years. He has been living in Auroville\, an international township within India which aims towards human unity\, for the past 20 years.[/vc_column_text][/vc_column][/vc_row][vc_row css=”.vc_custom_1514262268909{margin-top: 15px !important;padding-top: 15px !important;}”][vc_column][vc_row_inner css=”.vc_custom_1514262311359{margin-top: 0px !important;padding-top: 0px !important;}”][vc_column_inner][vc_column_text css=”.vc_custom_1563273066133{margin-bottom: 0px !important;}”]Timings: 9.30 AM -12.30 PM \nPrice: ₹ 4\,800 \nPlease read the General Information before you apply for this wotkshop.[/vc_column_text][/vc_column_inner][/vc_row_inner][/vc_column][/vc_row]
URL:https://www.quiethealingcenter.info/course/open-heart-space-meditation-workshop-with-samrat/
LOCATION:Quiet Healing Center\, India
CATEGORIES:2019
ATTACH;FMTTYPE=image/jpeg:https://www.quiethealingcenter.info/wp-content/uploads/2018/02/samrat-meditation-custom.jpg
END:VEVENT
END:VCALENDAR