BEGIN:VCALENDAR
VERSION:2.0
PRODID:-//Quiet Healing Center - ECPv6.11.2.1//NONSGML v1.0//EN
CALSCALE:GREGORIAN
METHOD:PUBLISH
X-ORIGINAL-URL:https://www.quiethealingcenter.info
X-WR-CALDESC:Events for Quiet Healing Center
REFRESH-INTERVAL;VALUE=DURATION:PT1H
X-Robots-Tag:noindex
X-PUBLISHED-TTL:PT1H
BEGIN:VTIMEZONE
TZID:UTC
BEGIN:STANDARD
TZOFFSETFROM:+0000
TZOFFSETTO:+0000
TZNAME:UTC
DTSTART:20190101T000000
END:STANDARD
END:VTIMEZONE
BEGIN:VEVENT
DTSTART;VALUE=DATE:20190301
DTEND;VALUE=DATE:20190304
DTSTAMP:20260424T174453
CREATED:20180930T075509Z
LAST-MODIFIED:20190118T172927Z
UID:2578-1551398400-1551657599@www.quiethealingcenter.info
SUMMARY:Watsu® & Pregnancy with Xavier Boisson
DESCRIPTION:[vc_row][vc_column][vc_column_text css=”.vc_custom_1538294006223{margin-bottom: 0px !important;}”]This 3-day course offers water students and practitioners the necessary tools for giving sessions to pregnant women and gaining a deeper insight into the fascinating world of pregnancy and birth in relation to aquatic bodywork. It also offers specific indications and contra-indications in the context of pregnancy and will allow you to give precious support to future mothers.[/vc_column_text][/vc_column][/vc_row][vc_row css=”.vc_custom_1518290856968{margin-top: 10px !important;padding-top: 10px !important;}”][vc_column width=”1/2″][vc_single_image image=”3092″ img_size=”1000×750″][/vc_column][vc_column width=”1/2″][vc_single_image image=”3093″ img_size=”full”][/vc_column][/vc_row][vc_row][vc_column][vc_column_text css=”.vc_custom_1538294026439{margin-bottom: 0px !important;}”]With Watsu\, we can help relieving specific pains and create psychological conditions to better prepare pregnant women for childbirth. The course also focuses on the prenatal energetic relation between parents and child and how the future father can fully participate in the pregnancy. With Watsu\, the family history starts well before birth…[/vc_column_text][/vc_column][/vc_row][vc_row][vc_column][vc_column_text css=”.vc_custom_1538294071339{margin-top: 15px !important;margin-bottom: 0px !important;padding-top: 15px !important;}”]Prerequisites: Watsu Basic or Watsu & Liquid Flow Basic. Credits: Watsu & Pregnancy gives 25 hours of credit as an elective with Watsu India.[/vc_column_text][/vc_column][/vc_row][vc_row][vc_column][vc_row_inner css=”.vc_custom_1525959502701{margin-top: 20px !important;padding-top: 20px !important;}”][vc_column_inner width=”1/4″][vc_single_image image=”1849″ img_size=”430×538″][/vc_column_inner][vc_column_inner width=”3/4″][vc_column_text css=”.vc_custom_1518347240024{margin-bottom: 0px !important;}”]Xavier Boisson WABA facilitator for Watsu Basic\, Watsu 1 and 2 and Tantsu\, and a WaterDance practitioner. He is also specialized in working with pregnant women (and their partner).[/vc_column_text][/vc_column_inner][/vc_row_inner][vc_column_text css=”.vc_custom_1538364031695{margin-top: 20px !important;margin-bottom: 0px !important;padding-top: 20px !important;}”]Timings: 8.45 AM – 6.30 PM Price: ₹ 14\,500 (lunch included) Please read the General Information before you apply for this course.[/vc_column_text][/vc_column][/vc_row]
URL:https://www.quiethealingcenter.info/course/watsu-pregnancy-with-xavier-boisson-2/
LOCATION:Quiet Healing Center\, India
CATEGORIES:2019
ATTACH;FMTTYPE=image/jpeg:https://www.quiethealingcenter.info/wp-content/uploads/2017/10/xavier-pregnant-1000-custom.jpg
END:VEVENT
BEGIN:VEVENT
DTSTART;VALUE=DATE:20190304
DTEND;VALUE=DATE:20190311
DTSTAMP:20260424T174453
CREATED:20180930T075654Z
LAST-MODIFIED:20190118T172820Z
UID:2580-1551657600-1552262399@www.quiethealingcenter.info
SUMMARY:Watsu® 2 with Xavier Boisson
DESCRIPTION:[vc_row][vc_column][vc_column_text css=”.vc_custom_1538294275857{margin-bottom: 0px !important;}”]A 7-day course on the surface only. \nWatsu 2 expands the Transition Flow taught in Watsu 1. You learn additional movements and bodywork in each position and to incorporate them in a session. \nYou also learn about the meridians and acupressure points in Watsu and to creatively explore your own movements\, while following the client’s tendency to move.[/vc_column_text][vc_row_inner css=”.vc_custom_1518291696008{margin-top: 10px !important;padding-top: 10px !important;}”][vc_column_inner width=”1/2″][vc_single_image image=”1949″ img_size=”1000×750″][/vc_column_inner][vc_column_inner width=”1/2″][vc_single_image image=”1953″ img_size=”1000×750″][/vc_column_inner][/vc_row_inner][/vc_column][/vc_row][vc_row][vc_column][vc_column_text css=”.vc_custom_1538294293486{margin-bottom: 0px !important;}”]Practicing acupressure massage\, lifts\, pushes and pulls introduced at this stage\, helps developing the ability to explore and play with energy.[/vc_column_text][/vc_column][/vc_row][vc_row][vc_column][vc_column_text css=”.vc_custom_1538294326615{margin-top: 15px !important;margin-bottom: 0px !important;padding-top: 15px !important;}”]Prerequisites:\nWatsu 1. \nCredits: Watsu 2 is recognized by WABA (Worldwide Aquatic Bodywork Association) as part of the Watsu training program and gives 50 hours of credit for registration with WABA and Watsu India.[/vc_column_text][/vc_column][/vc_row][vc_row css=”.vc_custom_1525959577614{margin-top: 20px !important;padding-top: 20px !important;}”][vc_column width=”1/4″][vc_single_image image=”1849″ img_size=”430×538″][/vc_column][vc_column width=”3/4″][vc_column_text css=”.vc_custom_1518347096505{margin-bottom: 0px !important;}”]Xavier Boisson \nWABA facilitator for Watsu Basic\, Watsu 1 and 2 and Tantsu\, and a WaterDance practitioner. He is also specialized in working with pregnant women (and their partner).[/vc_column_text][/vc_column][/vc_row][vc_row][vc_column][vc_column_text css=”.vc_custom_1538363999244{margin-top: 20px !important;margin-bottom: 0px !important;padding-top: 20px !important;}”]Timings: 8.45 AM – 6.30 PM \nPrice: ₹ 29\,500 (lunch included) \nPlease read the General Information before you apply for this course.[/vc_column_text][/vc_column][/vc_row]
URL:https://www.quiethealingcenter.info/course/watsu-2-with-xavier-boisson-2/
LOCATION:Quiet Healing Center\, India
CATEGORIES:2019
ATTACH;FMTTYPE=image/jpeg:https://www.quiethealingcenter.info/wp-content/uploads/2017/10/xavier-watsu-2-1000-13-custom.jpg
END:VEVENT
BEGIN:VEVENT
DTSTART;VALUE=DATE:20190312
DTEND;VALUE=DATE:20190318
DTSTAMP:20260424T174453
CREATED:20181203T132425Z
LAST-MODIFIED:20190309T040659Z
UID:3083-1552348800-1552867199@www.quiethealingcenter.info
SUMMARY:Watsu® & Liquid Flow Basic with Dariya & Daniel
DESCRIPTION:[vc_row][vc_column][vc_column_text css=”.vc_custom_1538284155480{margin-bottom: 0px !important;}”]A course of 6 half days.[/vc_column_text][/vc_column][/vc_row][vc_row css=”.vc_custom_1514262520964{margin-top: 10px !important;padding-top: 10px !important;}”][vc_column][vc_video max_width=”1125″ link=”https://youtu.be/YjJRgimktUo”][/vc_column][/vc_row][vc_row css=”.vc_custom_1514262911343{margin-top: 10px !important;padding-top: 10px !important;}”][vc_column][vc_column_text]Watsu & OBA are aquatic bodywork modalities given in a warm water pool (ideally 35°C).[/vc_column_text][vc_row_inner css=”.vc_custom_1514262982910{margin-top: 5px !important;padding-top: 5px !important;}”][vc_column_inner width=”1/4″][vc_column_text css=”.vc_custom_1543843372341{margin-bottom: 0px !important;}”]Watsu\, the part where the client’s face stays always on the surface\, introduces the qualities and body mechanics required to work with someone in water in order to create a profound state of both physical and mental relaxation. \n  \nDuring the Liquid Flow part the receiver is also brought under water (with nose clip)\, which offers a unique experience.[/vc_column_text][/vc_column_inner][vc_column_inner width=”3/4″][vc_single_image image=”3086″ img_size=”860×560″][/vc_column_inner][/vc_row_inner][/vc_column][/vc_row][vc_row css=”.vc_custom_1543842936713{margin-top: 0px !important;margin-bottom: 0px !important;padding-top: 0px !important;padding-bottom: 0px !important;}”][vc_column width=”1/2″][vc_single_image image=”1516″ img_size=”1000c750″][/vc_column][vc_column width=”1/2″][vc_single_image image=”1517″ img_size=”1000×750″][/vc_column][/vc_row][vc_row css=”.vc_custom_1514354422699{margin-top: 0px !important;padding-top: 0px !important;}”][vc_column][vc_column_text]\nThe flowing interaction with water\, its fluid support and warm embrace\, and the practitioner’s presence provide a space for the client to experience the multi-layered benefits of this powerful and softening bodywork. Watsu & OBA offer an opportunity for profound relaxation and letting go\, for building trust\, for being nurtured and held\, for expanding inner and outer boundaries\, for releasing emotions and traumas – ultimately\, for freeing body and mind in a flow unique to each client and to each session. \n[/vc_column_text][/vc_column][/vc_row][vc_row css=”.vc_custom_1514262719624{margin-top: 15px !important;padding-top: 15px !important;}”][vc_column width=”1/6″][/vc_column][vc_column width=”2/3″][vc_single_image image=”1520″ img_size=”1000×750″][/vc_column][vc_column width=”1/6″][/vc_column][/vc_row][vc_row css=”.vc_custom_1514354459415{margin-top: 5px !important;padding-top: 5px !important;}”][vc_column][vc_column_text css=”.vc_custom_1538284195022{margin-bottom: 0px !important;}”]In this course\, you will practice basic techniques and qualities (grounding\, presence\, stillness\, movement\, attention) of being and moving another body in water. You will experience floating other people and being floated\, on the surface and under water\, thereby creating space for deep relaxation and nurturing body\, mind and spirit. \nParticipants in this course often appreciate the group space\, which fosters deep\, meaningful and nurturing connections.[/vc_column_text][/vc_column][/vc_row][vc_row css=”.vc_custom_1514354459415{margin-top: 5px !important;padding-top: 5px !important;}”][vc_column][vc_column_text css=”.vc_custom_1543843462354{margin-top: 15px !important;margin-bottom: 0px !important;padding-top: 15px !important;}”]Prerequisites:\nNo previous experience required. \nCredits: Watsu Basic is recognized by WABA (Worldwide Aquatic Bodywork Association) as part of the Watsu training program and gives 16 hours of credit for registration with WABA and Watsu India. Liquid Flow Basic is part of the Watsu India training program and gives an additional 11 hours of credit for registration with Watsu India and 11 supplementary hours with WABA.[/vc_column_text][vc_row_inner css=”.vc_custom_1514354980177{margin-top: 20px !important;padding-top: 20px !important;}”][vc_column_inner width=”1/4″][vc_single_image image=”1515″ img_size=”430×673″][/vc_column_inner][vc_column_inner width=”3/4″][vc_column_text css=”.vc_custom_1514354821521{margin-bottom: 0px !important;}”]Dariya (as WABA facilitator) & Daniel have been sharing their passion for aquatic body­work with groups since 2004. \nBesides the belief that a solid technical base provides possi­bilities for ease and lightness in further personal growth\, their main focus is to create spaces for flow\, deepening and connection.[/vc_column_text][/vc_column_inner][/vc_row_inner][/vc_column][/vc_row][vc_row css=”.vc_custom_1518336025008{margin-top: 20px !important;padding-top: 20px !important;}”][vc_column][vc_column_text css=”.vc_custom_1552104402466{margin-bottom: 0px !important;}”]Timings: 8.00 AM – 12.30 PM \nPrice: ₹ 14\,950 \nPlease read the General Information before you apply for this course.[/vc_column_text][/vc_column][/vc_row]
URL:https://www.quiethealingcenter.info/course/watsu-liquid-flow-basic-with-dariya-daniel/
LOCATION:Quiet Healing Center\, India
CATEGORIES:2019
ATTACH;FMTTYPE=image/jpeg:https://www.quiethealingcenter.info/wp-content/uploads/2018/12/teaching-wlfb-custom.jpg
END:VEVENT
BEGIN:VEVENT
DTSTART;VALUE=DATE:20190312
DTEND;VALUE=DATE:20190319
DTSTAMP:20260424T174453
CREATED:20180930T081554Z
LAST-MODIFIED:20190118T172709Z
UID:2590-1552348800-1552953599@www.quiethealingcenter.info
SUMMARY:Shiatsu for Watsu® with Natacha Laborde & Petra Buschfeld
DESCRIPTION:[vc_row][vc_column][vc_column_text css=”.vc_custom_1538295374284{margin-bottom: 0px !important;}”]A 7-day course. \nWatsu\, the abbreviation of WATer ShiatSU\, originates from Masunaga’s Zen Shiatsu\, which was transferred and adapted to warm water by the Californian Shiatsu practitioner Harold Dull. Therefore a deeper knowledge of Shiatsu is highly recommended.[/vc_column_text][vc_row_inner css=”.vc_custom_1518289003609{margin-top: 10px !important;padding-top: 10px !important;}”][vc_column_inner width=”1/2″][vc_single_image image=”1891″ img_size=”1000×750″][/vc_column_inner][vc_column_inner width=”1/2″][vc_single_image image=”1892″ img_size=”1000×750″][/vc_column_inner][/vc_row_inner][/vc_column][/vc_row][vc_row][vc_column][vc_column_text css=”.vc_custom_1538295423994{margin-bottom: 0px !important;}”]Shiatsu is a modality\, which originated within the oldest healing system known to humanity. It restores and maintains health by adjusting and balancing the body’s primary communication network − the energy system. \nAbout 60% of this course is on land\, during which we will offer a simple Shiatsu protocol for applying pressure along the 12 main meridians (energy pathways) and some basic theory of Chinese Medicine (yin yang\, 5 elements system\, organ-clock). Practical exercises on land and in water will let you discover your own energy system and become more sensitive to your partner’s energy body. \nTo become a certified Watsu practitioner\, you need to have at least 50 hours of Shiatsu and 50 hours of Tantsu\, another method of land-based bodywork.[/vc_column_text][/vc_column][/vc_row][vc_row][vc_column][vc_column_text css=”.vc_custom_1538295487411{margin-top: 15px !important;margin-bottom: 0px !important;padding-top: 15px !important;}”]Prerequisites:\nWatsu 1 or equivalent course. \nCredits: Shiatsu for Watsu is recognized by WABA (Worldwide Aquatic Bodywork Association) as part of the Watsu learning program and gives 50 hours of credits for registration with WABA and Watsu India.[/vc_column_text][vc_row_inner css=”.vc_custom_1525959244727{margin-top: 20px !important;padding-top: 20px !important;}”][vc_column_inner width=”1/4″][vc_single_image image=”1769″ img_size=”430×673″][/vc_column_inner][vc_column_inner width=”3/4″][vc_column_text css=”.vc_custom_1518335664983{margin-bottom: 0px !important;}”]Natacha Laborde \nCertified Shiatsu facilitator and practitioner.[/vc_column_text][/vc_column_inner][/vc_row_inner][vc_row_inner][vc_column_inner width=”1/4″][vc_single_image image=”1756″ img_size=”430×538″][/vc_column_inner][vc_column_inner width=”3/4″][vc_column_text css=”.vc_custom_1518335783483{margin-bottom: 0px !important;}”]Petra Buschfeld \nCertified acupuncturist\, WABA facilitator for Watsu Basic and co-facilitater for Shiatsu for Watsu. She also facilitates OBA Intro and Woga 1 & 2.[/vc_column_text][/vc_column_inner][/vc_row_inner][/vc_column][/vc_row][vc_row css=”.vc_custom_1518288840921{margin-top: 20px !important;padding-top: 20px !important;}”][vc_column][vc_column_text css=”.vc_custom_1538363934152{margin-bottom: 0px !important;}”]Timings: 9 AM – 6.30 PM \nPrice: ₹ 28\,500 (lunch included) \nPlease read the General Information before you apply for this course.[/vc_column_text][/vc_column][/vc_row]
URL:https://www.quiethealingcenter.info/course/shiatsu-for-watsu-with-natacha-laborde-petra-buschfeld-2/
LOCATION:Quiet Healing Center\, India
CATEGORIES:2019
ATTACH;FMTTYPE=image/jpeg:https://www.quiethealingcenter.info/wp-content/uploads/2017/10/shiatsu-group-1000-02-custom.jpg
END:VEVENT
BEGIN:VEVENT
DTSTART;VALUE=DATE:20190319
DTEND;VALUE=DATE:20190321
DTSTAMP:20260424T174453
CREATED:20180930T082501Z
LAST-MODIFIED:20190118T172608Z
UID:2596-1552953600-1553126399@www.quiethealingcenter.info
SUMMARY:Woga® 1 & 2 (Yoga in Water) with Dariya
DESCRIPTION:[vc_row][vc_column][vc_column_text css=”.vc_custom_1538295768967{margin-bottom: 0px !important;}”]A 2-day course. \nWoga is the union of two words: water and yoga. It is based on yoga poses and stretches modified for warm water.[/vc_column_text][/vc_column][/vc_row][vc_row css=”.vc_custom_1518332568181{margin-top: 10px !important;padding-top: 10px !important;}”][vc_column width=”1/2″][vc_single_image image=”1864″ img_size=”1000×750″][/vc_column][vc_column width=”1/2″][vc_single_image image=”1866″ img_size=”1000×750″][/vc_column][/vc_row][vc_row][vc_column][vc_column_text css=”.vc_custom_1543750908093{margin-bottom: 0px !important;}”]Thanks to decrease in gravity\, water allows greater ease of movement\, unblocks articulations\, lengthens and melts muscles\, and removes negative tensions\, thereby preventing stress\, insomnia and anxiety.[/vc_column_text][vc_row_inner css=”.vc_custom_1518332589696{margin-top: 10px !important;padding-top: 10px !important;}”][vc_column_inner width=”1/6″][/vc_column_inner][vc_column_inner width=”2/3″][vc_single_image image=”1868″ img_size=”1000×750″][/vc_column_inner][vc_column_inner width=”1/6″][/vc_column_inner][/vc_row_inner][/vc_column][/vc_row][vc_row][vc_column][vc_row_inner][vc_column_inner][vc_column_text css=”.vc_custom_1543750892132{margin-bottom: 0px !important;}”]Water yoga is based on classic yoga poses and stretches\, modified for standing in pool water\, which is waist-to-chest high. You do not need to know how to swim. \nSessions are structured like their yoga equivalents on land: breathing\, warm-up exercises\, a series of poses\, and a relaxation period. The difference is that you are in a warm water pool! \nFocus of Woga 1 & 2 is Hatha Yoga in water (asanas in standing position\, on the wall\, in floating position\, and under water)\, pranayama and meditation.[/vc_column_text][/vc_column_inner][/vc_row_inner][vc_row_inner][vc_column_inner][vc_column_text css=”.vc_custom_1538285711086{margin-top: 15px !important;margin-bottom: 0px !important;padding-top: 15px !important;}”]Prerequisites:\nNo previous experience required (also no need to know how to swim). \nCredits: Woga 1 & 2 (Yoga in Water) is recognized by WABA (Worldwide Aquatic Bodywork Association) and gives 12 supplementary hours of credit for registration with WABA and Watsu India.[/vc_column_text][/vc_column_inner][/vc_row_inner][vc_row_inner css=”.vc_custom_1525957926295{margin-top: 20px !important;padding-top: 20px !important;}”][vc_column_inner width=”1/4″][vc_single_image image=”2506″ img_size=”430×538″][/vc_column_inner][vc_column_inner width=”3/4″][vc_column_text css=”.vc_custom_1518332850645{margin-bottom: 0px !important;}”]Dariya \nWABA facilitator\, has been sharing her passion for aquatic body­work with groups since 2004. Besides the belief that a solid technical base provides possi­bilities for ease and lightness in further personal growth\, her main focus is to create spaces for flow\, deepening and connection.[/vc_column_text][/vc_column_inner][/vc_row_inner][vc_row_inner][vc_column_inner][vc_column_text css=”.vc_custom_1545116016763{margin-top: 20px !important;margin-bottom: 0px !important;padding-top: 20px !important;}”]Timings: 9 AM – 6 PM \nPrice: ₹ 5\,950 (lunch included) \nPlease read the General Information before you apply for this course.[/vc_column_text][/vc_column_inner][/vc_row_inner][/vc_column][/vc_row]
URL:https://www.quiethealingcenter.info/course/woga-1-2-yoga-in-water-with-dariya-4/
LOCATION:Quiet Healing Center\, India
CATEGORIES:2019
ATTACH;FMTTYPE=image/jpeg:https://www.quiethealingcenter.info/wp-content/uploads/2017/07/dariya-woga-1000-01-custom.jpg
END:VEVENT
BEGIN:VEVENT
DTSTART;VALUE=DATE:20190321
DTEND;VALUE=DATE:20190327
DTSTAMP:20260424T174453
CREATED:20181007T154140Z
LAST-MODIFIED:20190118T172528Z
UID:2689-1553126400-1553644799@www.quiethealingcenter.info
SUMMARY:Instructor Training Course (ITC) Woga® with Gianni De Stefani
DESCRIPTION:[vc_row][vc_column][vc_column_text css=”.vc_custom_1538926799394{margin-bottom: 0px !important;}”]In this 6-day course\, you will:\n– acquire the basics of WOGA\n– be able to use the potential of yoga in shallow water\n– learn a WOGA exercise repertoire\n– receive didactic and methodical material to offer WOGA courses and/or incorporate WOGA into your water fitness classes.[/vc_column_text][/vc_column][/vc_row][vc_row css=”.vc_custom_1518327218348{margin-top: 10px !important;padding-top: 10px !important;}”][vc_column][vc_single_image image=”2692″ img_size=”1000×750″][/vc_column][/vc_row][vc_row][vc_column][vc_column_text css=”.vc_custom_1538926884161{margin-bottom: 0px !important;}”]Topics addressed: \n\nYoga philosophy in general\, background of Hatha Yoga and Pranayama\nPractical and theoretical knowledge of the physical laws of water\, which serves as the basis for a good general body feeling/image.\nMethodology and didactics for planning lessons in teaching Woga.\n\n[/vc_column_text][vc_row_inner][vc_column_inner][vc_column_text css=”.vc_custom_1538658156609{margin-top: 15px !important;margin-bottom: 0px !important;padding-top: 15px !important;}”]Prerequisites:\nWOGA 1&2 and a certified activity as instructor in aquatic sports or as bodyworker instructor\, or long time bodyworker in any kind of activity. \nCredits:\nITC Woga is recognized by WABA (Worldwide Aquatic Bodywork Association) and gives 42 supple­mentary hours of credit for registration with WABA and Watsu India.[/vc_column_text][/vc_column_inner][/vc_row_inner][/vc_column][/vc_row][vc_row][vc_column][vc_row_inner css=”.vc_custom_1525958644950{margin-top: 20px !important;padding-top: 20px !important;}”][vc_column_inner width=”1/4″][vc_single_image image=”1755″ img_size=”430×538″][/vc_column_inner][vc_column_inner width=”3/4″][vc_column_text css=”.vc_custom_1518347967446{margin-bottom: 0px !important;}”]Gianni De Stefani \nTravels worldwide since more than 30 years as organizer and WABA facilitator. He facilitates Watsu Basic\, Watsu 1\, 2 & 3\, Anatomy for Watsuer\, Adapted Watsu\, Watsu & Meditation\, Watsu for Babies\, OBA\, Woga\, Water Gymnastics and Rehab.[/vc_column_text][/vc_column_inner][/vc_row_inner][vc_column_text css=”.vc_custom_1545116052525{margin-top: 20px !important;margin-bottom: 0px !important;padding-top: 20px !important;}”]Timings: 8.45 AM – 6.30 PM \nPrice: ₹ 24\,750 (lunch included) \nPlease read the General Information before you apply for this course.[/vc_column_text][/vc_column][/vc_row]
URL:https://www.quiethealingcenter.info/course/instructor-training-course-itc-woga-with-gianni-de-stefani/
LOCATION:Quiet Healing Center\, India
CATEGORIES:2019
ATTACH;FMTTYPE=image/jpeg:https://www.quiethealingcenter.info/wp-content/uploads/2018/10/dsc08342.jpg
END:VEVENT
BEGIN:VEVENT
DTSTART;VALUE=DATE:20190325
DTEND;VALUE=DATE:20190331
DTSTAMP:20260424T174453
CREATED:20181011T133704Z
LAST-MODIFIED:20190118T172455Z
UID:2780-1553472000-1553990399@www.quiethealingcenter.info
SUMMARY:“Niramaya” Ayurvedic Therapeutic Massage Course with Dr. Sankar
DESCRIPTION:[vc_row][vc_column][vc_column_text css=”.vc_custom_1539265111570{margin-bottom: 0px !important;padding-bottom: 0px !important;}”]Dr. Sankar developed this unique “Niramaya” Ayurvedic therapeutic massage technique\, using the traditional concepts of Ayurvedic massage and marma (vital points) therapy in combination with modern anatomy and physiology. \nA hands-on approach is used to learn this innovative massage\, which rejuvenates the client and\, at the same time\, takes care of the well-being of the therapist.[/vc_column_text][/vc_column][/vc_row][vc_row css=”.vc_custom_1514262171038{margin-top: 15px !important;padding-top: 15px !important;}”][vc_column width=”1/2″][vc_single_image image=”2784″ img_size=”1000×750″][/vc_column][vc_column width=”1/2″][vc_single_image image=”2783″ img_size=”1000×750″][/vc_column][/vc_row][vc_row][vc_column][vc_column_text css=”.vc_custom_1539265265086{margin-bottom: 0px !important;}”]You will also learn to control your breathing before\, during and after the massage\, to protect yourself from negative energies\, and to become a receptive channel for transferring positive healing energies to your client. \nIn addition\, you will be introduced to the basic principles of Ayurveda as well as anatomy\, physiology\, yoga\, meditation\, and breathing. \nHailing from a traditional Ayurvedic doctors family\, Dr. Sankar is a gifted 5th-generation doctor\, who has been teaching in Asia and Europe. He also heads “Ayurtoday”\, an Ayurvedic therapy centre in Guruvayur\, Kerala. \nCourse syllabus \n\nA brief history and philosophy of Ayurveda\nBasic fundamental concepts of Ayurveda\nSatva\, Rajas\, Tamas (Trigunas/3 qualities or properties of the universe)\nPanchabhootas (5 great elements of the universe)\nVata\, Pitha\, Kapha (Tridoshas)\nSaptha Dhatus (7 structural elements of the body)\nBasic education of how to understand prakruthi (temperament/constitution) and vikruthi (present situation of the person in comparison with the tridoshas)\nSome Sanskrit terminologies used during the classes\nIntroduction to modern anatomy and physiology needed for the course\nYoga postures needed for the course\nBreathing techniques needed for the course\nRituals to be performed for the course\nProtection techniques\n\nCourse materials provided by Ayurtoday \n\nBasic booklet that includes the study material for the courses\nUniform for the course\nCertificate upon successful completion of the course\n\n[/vc_column_text][/vc_column][/vc_row][vc_row css=”.vc_custom_1525958152362{margin-top: 20px !important;padding-top: 20px !important;}”][vc_column width=”1/4″ css=”.vc_custom_1514261653544{margin-top: 5px !important;padding-top: 5px !important;}”][vc_single_image image=”2785″ img_size=”430×538″][/vc_column][vc_column width=”3/4″][vc_column_text css=”.vc_custom_1539265360048{margin-bottom: 0px !important;}”]Dr. Sankaranarayanan.K.P (alias Dr. Sankar) and “Ayurtoday” \nDr. Sankar was born on 30th January 1978 to an Ayurvedic doctor couple\, whose family has been practicing Ayurveda for more than a century and manufacturing Ayurvedic medicines over the past 80 years. \nAfter his studies at St. Thomas College\, he was selected to pursue his education at the Ayurvedic Medicinal College in Kerala and received a university degree in 2002. \nAs the 5th generation doctor\, Dr. Sankar became the head of the Sri Guruvayurappan Ayurveda Nursing Home\, a small\, but beautiful Ayurvedic centre in the temple town of Guruvayur\, Kerala. The centre was founded in 1984 by his father Dr. K. R. Prabhakaran\, a well-known Ayurvedic physician in those days. The Ayurvedic manufacturing unit was set up much earlier by his father’s uncle in 1924. \nDr. Sankar has been improving the nursing home and its manufacturing section ever since\, while taking care that the traditional Ayurvedic values are not lost. He has also been travelling to many Asian and European countries to train students in Ayurveda and to give workshops\, conferences and consultations. \nWith the aim of propagating this ancient Indian system of medicine and making it available to all those with a genuine interest\, Dr. Sankar founded AYURTODAY. Please click on www.ayurtoday.com for more information.[/vc_column_text][/vc_column][/vc_row][vc_row css=”.vc_custom_1514262268909{margin-top: 15px !important;padding-top: 15px !important;}”][vc_column][vc_row_inner css=”.vc_custom_1514262311359{margin-top: 0px !important;padding-top: 0px !important;}”][vc_column_inner][vc_column_text css=”.vc_custom_1539349426517{margin-bottom: 0px !important;}”]Timings: 9.00 AM – 4.00 PM \nPrice: ₹ 16\,950 (lunch included) \nPlease read the General Information before you apply for this intensive.[/vc_column_text][/vc_column_inner][/vc_row_inner][/vc_column][/vc_row]
URL:https://www.quiethealingcenter.info/course/niramaya-ayurvedic-therapeutic-massage-course-with-dr-sankar/
LOCATION:Quiet Healing Center\, India
CATEGORIES:2019
ATTACH;FMTTYPE=image/jpeg:https://www.quiethealingcenter.info/wp-content/uploads/2018/10/niramya-1000-01-large.jpg
END:VEVENT
END:VCALENDAR