BEGIN:VCALENDAR
VERSION:2.0
PRODID:-//Quiet Healing Center - ECPv6.11.2.1//NONSGML v1.0//EN
CALSCALE:GREGORIAN
METHOD:PUBLISH
X-ORIGINAL-URL:https://www.quiethealingcenter.info
X-WR-CALDESC:Events for Quiet Healing Center
REFRESH-INTERVAL;VALUE=DURATION:PT1H
X-Robots-Tag:noindex
X-PUBLISHED-TTL:PT1H
BEGIN:VTIMEZONE
TZID:UTC
BEGIN:STANDARD
TZOFFSETFROM:+0000
TZOFFSETTO:+0000
TZNAME:UTC
DTSTART:20180101T000000
END:STANDARD
END:VTIMEZONE
BEGIN:VEVENT
DTSTART;VALUE=DATE:20181221
DTEND;VALUE=DATE:20181223
DTSTAMP:20260425T014437
CREATED:20181209T174559Z
LAST-MODIFIED:20191214T040902Z
UID:3151-1545350400-1545523199@www.quiethealingcenter.info
SUMMARY:Somatic Movement with Maggie
DESCRIPTION:[vc_row][vc_column][vc_column_text css=”.vc_custom_1514521966088{margin-bottom: 0px !important;}”]A 2-day neuromuscular re-education (mind-body training) intensive in the tradition of Thomas Hanna. \nSomatics is a system of slow mindful movements. It is a gentle\, easy and effective way to help you manage chronic and acute pain. Other benefits include more ease in the body\, better posture and deep relaxation. It teaches you to recognize\, release and reverse chronic pain patterns resulting from injury\, stress\, or habituated postures.[/vc_column_text][/vc_column][/vc_row][vc_row css=”.vc_custom_1514522279810{margin-top: 10px !important;padding-top: 10px !important;}”][vc_column width=”1/2″][vc_single_image image=”1536″ img_size=”1000×750″][/vc_column][vc_column width=”1/2″][vc_single_image image=”1537″ img_size=”1000×750″][/vc_column][/vc_row][vc_row][vc_column][vc_column_text]We will begin with a short introduction – what Somatics is\, why it’s unique and how it works\, and then experience a variety of fun\, easy and gentle movements designed to help you create a deeper sense of awareness as to the places where you hold tension in your body. \nAt the end of the session there will be time for questions and a review of specific movements which can be practiced at home. \nHandouts of the home practice will be given. \nFor further information on Somatics please visit: Association for Hanna Somatics\, Novato Institute for Somatic Research and Training and International Institute for Somatic Movement Education.[/vc_column_text][/vc_column][/vc_row][vc_row css=”.vc_custom_1525959319424{margin-top: 20px !important;padding-top: 20px !important;}”][vc_column width=”1/4″][vc_single_image image=”1843″ img_size=”430×538″][/vc_column][vc_column width=”3/4″][vc_column_text css=”.vc_custom_1514522407392{margin-bottom: 0px !important;}”]Maggie \nOriginally from London\, Maggie joined Auroville in 2005 where she lives and works as a massage therapist and intensive facilitator. \nShe is a professionally trained Somatic Movement Educator and offers classes\, intensives and individual therapies.[/vc_column_text][/vc_column][/vc_row][vc_row css=”.vc_custom_1514522448560{margin-top: 15px !important;padding-top: 15px !important;}”][vc_column][vc_column_text css=”.vc_custom_1545116486244{margin-bottom: 0px !important;}”]\nTimings: 9.30 AM – 5.00 PM \nPrice: Rs 5\,500 (lunch included) \nPlease read the General Information before you apply for this course. \n[/vc_column_text][/vc_column][/vc_row]
URL:https://www.quiethealingcenter.info/course/somatic-movement-with-maggie-3/
LOCATION:Quiet Healing Center\, India
CATEGORIES:2017
ATTACH;FMTTYPE=image/jpeg:https://www.quiethealingcenter.info/wp-content/uploads/2017/12/somatics-1000-01-custom.jpg
END:VEVENT
BEGIN:VEVENT
DTSTART;VALUE=DATE:20181222
DTEND;VALUE=DATE:20181224
DTSTAMP:20260425T014437
CREATED:20180930T050703Z
LAST-MODIFIED:20181218T070044Z
UID:2501-1545436800-1545609599@www.quiethealingcenter.info
SUMMARY:Woga® 1 & 2 (Yoga in Water) with Dariya
DESCRIPTION:[vc_row][vc_column][vc_column_text css=”.vc_custom_1538295941570{margin-bottom: 0px !important;}”]A 2-day course. \nWoga is the union of two words: water and yoga. It is based on yoga poses and stretches modified for warm water.[/vc_column_text][/vc_column][/vc_row][vc_row css=”.vc_custom_1518332568181{margin-top: 10px !important;padding-top: 10px !important;}”][vc_column width=”1/2″][vc_single_image image=”1864″ img_size=”1000×750″][/vc_column][vc_column width=”1/2″][vc_single_image image=”1866″ img_size=”1000×750″][/vc_column][/vc_row][vc_row][vc_column][vc_column_text css=”.vc_custom_1543751031033{margin-bottom: 0px !important;}”]Thanks to decrease in gravity\, water allows greater ease of movement\, unblocks articulations\, lengthens and melts muscles\, and removes negative tensions\, thereby preventing stress\, insomnia and anxiety.[/vc_column_text][vc_row_inner css=”.vc_custom_1518332589696{margin-top: 10px !important;padding-top: 10px !important;}”][vc_column_inner width=”1/6″][/vc_column_inner][vc_column_inner width=”2/3″][vc_single_image image=”1868″ img_size=”1000×750″][/vc_column_inner][vc_column_inner width=”1/6″][/vc_column_inner][/vc_row_inner][/vc_column][/vc_row][vc_row][vc_column][vc_row_inner][vc_column_inner][vc_column_text css=”.vc_custom_1543751016922{margin-bottom: 0px !important;}”]Water yoga is based on classic yoga poses and stretches\, modified for standing in pool water\, which is waist-to-chest high. You do not need to know how to swim. \nSessions are structured like their yoga equivalents on land: breathing\, warm-up exercises\, a series of poses\, and a relaxation period. The difference is that you are in a warm water pool! \nFocus of Woga 1 & 2 is Hatha Yoga in water (asanas in standing position\, on the wall\, in floating position\, and under water)\, pranayama and meditation.[/vc_column_text][/vc_column_inner][/vc_row_inner][vc_row_inner][vc_column_inner][vc_column_text css=”.vc_custom_1538285711086{margin-top: 15px !important;margin-bottom: 0px !important;padding-top: 15px !important;}”]Prerequisites:\nNo previous experience required (also no need to know how to swim). \nCredits: Woga 1 & 2 (Yoga in Water) is recognized by WABA (Worldwide Aquatic Bodywork Association) and gives 12 supplementary hours of credit for registration with WABA and Watsu India.[/vc_column_text][/vc_column_inner][/vc_row_inner][vc_row_inner css=”.vc_custom_1525957926295{margin-top: 20px !important;padding-top: 20px !important;}”][vc_column_inner width=”1/4″][vc_single_image image=”2506″ img_size=”430×538″][/vc_column_inner][vc_column_inner width=”3/4″][vc_column_text css=”.vc_custom_1518332850645{margin-bottom: 0px !important;}”]Dariya \nWABA facilitator\, has been sharing her passion for aquatic body­work with groups since 2004. Besides the belief that a solid technical base provides possi­bilities for ease and lightness in further personal growth\, her main focus is to create spaces for flow\, deepening and connection.[/vc_column_text][/vc_column_inner][/vc_row_inner][vc_row_inner][vc_column_inner][vc_column_text css=”.vc_custom_1545116443063{margin-top: 20px !important;margin-bottom: 0px !important;padding-top: 20px !important;}”]Timings: 9 AM – 6 PM \nPrice: ₹ 5\,950 (lunch included) \nPlease read the General Information before you apply for this course.[/vc_column_text][/vc_column_inner][/vc_row_inner][/vc_column][/vc_row]
URL:https://www.quiethealingcenter.info/course/woga-1-2-yoga-in-water-with-dariya-2/
LOCATION:Quiet Healing Center\, India
CATEGORIES:2018
ATTACH;FMTTYPE=image/jpeg:https://www.quiethealingcenter.info/wp-content/uploads/2017/07/dariya-woga-1000-01-custom.jpg
END:VEVENT
BEGIN:VEVENT
DTSTART;VALUE=DATE:20181224
DTEND;VALUE=DATE:20181230
DTSTAMP:20260425T014437
CREATED:20181203T132032Z
LAST-MODIFIED:20181210T164908Z
UID:3081-1545609600-1546127999@www.quiethealingcenter.info
SUMMARY:Watsu® & OBA® Basic with Dariya & Daniel
DESCRIPTION:[vc_row][vc_column][vc_column_text css=”.vc_custom_1538284155480{margin-bottom: 0px !important;}”]A course of 6 half days.[/vc_column_text][/vc_column][/vc_row][vc_row css=”.vc_custom_1514262520964{margin-top: 10px !important;padding-top: 10px !important;}”][vc_column][vc_video max_width=”1125″ link=”https://youtu.be/YjJRgimktUo”][/vc_column][/vc_row][vc_row css=”.vc_custom_1514262911343{margin-top: 10px !important;padding-top: 10px !important;}”][vc_column][vc_column_text]Watsu & OBA are aquatic bodywork modalities given in a warm water pool (ideally 35°C).[/vc_column_text][vc_row_inner css=”.vc_custom_1514262982910{margin-top: 5px !important;padding-top: 5px !important;}”][vc_column_inner width=”1/4″][vc_column_text css=”.vc_custom_1543842801033{margin-bottom: 0px !important;}”]Watsu\, the part where the client’s face stays always on the surface\, introduces the qualities and body mechanics required to work with someone in water in order to create a profound state of both physical and mental relaxation. \n  \nDuring the OBA part the receiver is also brought under water (with nose clip)\, which offers a unique experience.[/vc_column_text][/vc_column_inner][vc_column_inner width=”3/4″][vc_single_image image=”3077″ img_size=”860×560″][/vc_column_inner][/vc_row_inner][/vc_column][/vc_row][vc_row css=”.vc_custom_1543842936713{margin-top: 0px !important;margin-bottom: 0px !important;padding-top: 0px !important;padding-bottom: 0px !important;}”][vc_column width=”1/2″][vc_single_image image=”1516″ img_size=”1000c750″][/vc_column][vc_column width=”1/2″][vc_single_image image=”1517″ img_size=”1000×750″][/vc_column][/vc_row][vc_row css=”.vc_custom_1514354422699{margin-top: 0px !important;padding-top: 0px !important;}”][vc_column][vc_column_text]\nThe flowing interaction with water\, its fluid support and warm embrace\, and the practitioner’s presence provide a space for the client to experience the multi-layered benefits of this powerful and softening bodywork. Watsu & OBA offer an opportunity for profound relaxation and letting go\, for building trust\, for being nurtured and held\, for expanding inner and outer boundaries\, for releasing emotions and traumas – ultimately\, for freeing body and mind in a flow unique to each client and to each session. \n[/vc_column_text][/vc_column][/vc_row][vc_row css=”.vc_custom_1514262719624{margin-top: 15px !important;padding-top: 15px !important;}”][vc_column width=”1/6″][/vc_column][vc_column width=”2/3″][vc_single_image image=”1520″ img_size=”1000×750″][/vc_column][vc_column width=”1/6″][/vc_column][/vc_row][vc_row css=”.vc_custom_1514354459415{margin-top: 5px !important;padding-top: 5px !important;}”][vc_column][vc_column_text css=”.vc_custom_1538284195022{margin-bottom: 0px !important;}”]In this course\, you will practice basic techniques and qualities (grounding\, presence\, stillness\, movement\, attention) of being and moving another body in water. You will experience floating other people and being floated\, on the surface and under water\, thereby creating space for deep relaxation and nurturing body\, mind and spirit. \nParticipants in this course often appreciate the group space\, which fosters deep\, meaningful and nurturing connections.[/vc_column_text][/vc_column][/vc_row][vc_row css=”.vc_custom_1514354459415{margin-top: 5px !important;padding-top: 5px !important;}”][vc_column][vc_column_text css=”.vc_custom_1538296147030{margin-top: 15px !important;margin-bottom: 0px !important;padding-top: 15px !important;}”]Prerequisites:\nNo previous experience required. \nCredits: Watsu Basic is recognized by WABA (Worldwide Aquatic Bodywork Association) as part of the Watsu training program and gives 16 hours of credit for registration with WABA and Watsu India. OBA Basic is part of the Watsu India training program and gives an additional 15 hours of credit for registration with Watsu India and 15 supplementary hours with WABA.[/vc_column_text][vc_row_inner css=”.vc_custom_1514354980177{margin-top: 20px !important;padding-top: 20px !important;}”][vc_column_inner width=”1/4″][vc_single_image image=”1515″ img_size=”430×673″][/vc_column_inner][vc_column_inner width=”3/4″][vc_column_text css=”.vc_custom_1514354821521{margin-bottom: 0px !important;}”]Dariya (as WABA facilitator) & Daniel have been sharing their passion for aquatic body­work with groups since 2004. \nBesides the belief that a solid technical base provides possi­bilities for ease and lightness in further personal growth\, their main focus is to create spaces for flow\, deepening and connection.[/vc_column_text][/vc_column_inner][/vc_row_inner][/vc_column][/vc_row][vc_row css=”.vc_custom_1518336025008{margin-top: 20px !important;padding-top: 20px !important;}”][vc_column][vc_column_text css=”.vc_custom_1538363858572{margin-bottom: 0px !important;}”]Timings: 1.00 – 6.00 PM \nPrice: ₹ 17\,100 \nPlease read the General Information before you apply for this course.[/vc_column_text][/vc_column][/vc_row]
URL:https://www.quiethealingcenter.info/course/watsu-oba-basic-with-dariya-daniel/
LOCATION:Quiet Healing Center\, India
CATEGORIES:2018,2019
ATTACH;FMTTYPE=image/jpeg:https://www.quiethealingcenter.info/wp-content/uploads/2017/10/dd-teaching-wobab-1000-01-custom.jpg
END:VEVENT
END:VCALENDAR