BEGIN:VCALENDAR
VERSION:2.0
PRODID:-//Quiet Healing Center - ECPv6.11.2.1//NONSGML v1.0//EN
CALSCALE:GREGORIAN
METHOD:PUBLISH
X-ORIGINAL-URL:https://www.quiethealingcenter.info
X-WR-CALDESC:Events for Quiet Healing Center
REFRESH-INTERVAL;VALUE=DURATION:PT1H
X-Robots-Tag:noindex
X-PUBLISHED-TTL:PT1H
BEGIN:VTIMEZONE
TZID:UTC
BEGIN:STANDARD
TZOFFSETFROM:+0000
TZOFFSETTO:+0000
TZNAME:UTC
DTSTART:20180101T000000
END:STANDARD
END:VTIMEZONE
BEGIN:VEVENT
DTSTART;VALUE=DATE:20180102
DTEND;VALUE=DATE:20180107
DTSTAMP:20260424T041134
CREATED:20171023T022019Z
LAST-MODIFIED:20190521T144425Z
UID:1096-1514851200-1515283199@www.quiethealingcenter.info
SUMMARY:Watsu® 1 (Transition Flow) with Dariya & Daniel
DESCRIPTION:[vc_row][vc_column][vc_column_text]A 5-day intensive on the surface only. \nIn this intensive you will connect the basic movements and positions you have been exposed to in Watsu Basic with long\, gracefully flowing transitions and to adapt this work to people of different sizes\, shapes\, and dispositions.[/vc_column_text][/vc_column][/vc_row][vc_row css=”.vc_custom_1514268106389{margin-top: 15px !important;padding-top: 15px !important;}”][vc_column width=”1/2″][vc_single_image image=”1525″ img_size=”1000×750″][/vc_column][vc_column width=”1/2″][vc_single_image image=”1526″ img_size=”1000×750″][/vc_column][/vc_row][vc_row][vc_column][vc_column_text]You will also gain insights about your own body mechanics and how to support and move each person as effortlessly as possible.\n[/vc_column_text][/vc_column][/vc_row][vc_row css=”.vc_custom_1514268134570{margin-top: 15px !important;padding-top: 15px !important;}”][vc_column width=”1/6″][/vc_column][vc_column width=”2/3″][vc_single_image image=”1527″ img_size=”1000×750″][/vc_column][vc_column width=”1/6″][/vc_column][/vc_row][vc_row][vc_column][vc_column_text]On land\, you will be introduced to both Co-Centering and Tantsu\, and explore what being held means to you and others.[/vc_column_text][mk_padding_divider][vc_row_inner][vc_column_inner width=”1/4″][vc_single_image image=”1515″ img_size=”430×673″][/vc_column_inner][vc_column_inner width=”3/4″][vc_column_text css=”.vc_custom_1514268412597{margin-bottom: 0px !important;}”]Dariya (as WABA facilitator) & Daniel have been sharing their passion for aquatic body­work with groups since 2004. \nBesides the belief that a solid technical base provides possi­bilities for ease and lightness in further personal growth\, their main focus is to create spaces for flow\, deepening and connection.[/vc_column_text][/vc_column_inner][/vc_row_inner][/vc_column][/vc_row][vc_row][vc_column][mk_padding_divider size=”30″][vc_column_text]Timings: 9.00 AM – 6.00 PM \nPrice: Rs 20\,500 (lunch included) \nPlease read the General Information before you apply for this course.[/vc_column_text][/vc_column][/vc_row]
URL:https://www.quiethealingcenter.info/course/watsu-1-transition-flow-with-dariya-daniel-2/
LOCATION:Quiet Healing Center\, India
CATEGORIES:2017
ATTACH;FMTTYPE=image/jpeg:https://www.quiethealingcenter.info/wp-content/uploads/2017/10/dariya-watsu-1-1000-03.jpg
END:VEVENT
BEGIN:VEVENT
DTSTART;VALUE=DATE:20180108
DTEND;VALUE=DATE:20180109
DTSTAMP:20260424T041134
CREATED:20171229T044852Z
LAST-MODIFIED:20180510T132036Z
UID:1547-1515369600-1515455999@www.quiethealingcenter.info
SUMMARY:Somatic Movement with Maggie
DESCRIPTION:[vc_row][vc_column][vc_column_text css=”.vc_custom_1514522917907{margin-bottom: 0px !important;}”]A 1-day neuromuscular re-education (mind-body training) intensive in the tradition of Thomas Hanna. \nSomatics is a system of slow mindful movements. It is a gentle\, easy and effective way to help you manage chronic and acute pain. Other benefits include more ease in the body\, better posture and deep relaxation. It teaches you to recognize\, release and reverse chronic pain patterns resulting from injury\, stress\, or habituated postures.[/vc_column_text][/vc_column][/vc_row][vc_row css=”.vc_custom_1514522279810{margin-top: 10px !important;padding-top: 10px !important;}”][vc_column width=”1/2″][vc_single_image image=”1536″ img_size=”1000×750″][/vc_column][vc_column width=”1/2″][vc_single_image image=”1537″ img_size=”1000×750″][/vc_column][/vc_row][vc_row][vc_column][vc_column_text]We will begin with a short introduction – what Somatics is\, why it’s unique and how it works\, and then experience a variety of fun\, easy and gentle movements designed to help you create a deeper sense of awareness as to the places where you hold tension in your body. \nAt the end of the session there will be time for questions and a review of specific movements which can be practiced at home. \nHandouts of the home practice will be given. \nFor further information on Somatics please visit: Association for Hanna Somatics\, Novato Institute for Somatic Research and Training and International Institute for Somatic Movement Education.[/vc_column_text][/vc_column][/vc_row][vc_row css=”.vc_custom_1525958436976{margin-top: 20px !important;padding-top: 20px !important;}”][vc_column width=”1/4″][vc_single_image image=”1843″ img_size=”430×538″][/vc_column][vc_column width=”3/4″][vc_column_text css=”.vc_custom_1514522407392{margin-bottom: 0px !important;}”]Maggie \nOriginally from London\, Maggie joined Auroville in 2005 where she lives and works as a massage therapist and intensive facilitator. \nShe is a professionally trained Somatic Movement Educator and offers classes\, intensives and individual therapies.[/vc_column_text][/vc_column][/vc_row][vc_row css=”.vc_custom_1514522448560{margin-top: 15px !important;padding-top: 15px !important;}”][vc_column][vc_column_text css=”.vc_custom_1514522935087{margin-bottom: 0px !important;}”]\nTimings: 9.30 AM – 5.00 PM \nPrice: Rs 2\,700 (lunch included) \nPlease read the General Information before you apply for this course. \n[/vc_column_text][/vc_column][/vc_row]
URL:https://www.quiethealingcenter.info/course/somatic-movement-with-maggie-4/
LOCATION:Quiet Healing Center\, India
CATEGORIES:2017
ATTACH;FMTTYPE=image/jpeg:https://www.quiethealingcenter.info/wp-content/uploads/2017/12/somatics-1000-01-custom.jpg
END:VEVENT
BEGIN:VEVENT
DTSTART;VALUE=DATE:20180108
DTEND;VALUE=DATE:20180115
DTSTAMP:20260424T041134
CREATED:20171023T024756Z
LAST-MODIFIED:20180211T115346Z
UID:1100-1515369600-1515974399@www.quiethealingcenter.info
SUMMARY:Liquid Flow Essence with Dariya & Daniel
DESCRIPTION:[vc_row][vc_column][vc_column_text]A 7-day intensive.[/vc_column_text][vc_row_inner css=”.vc_custom_1514524143365{margin-top: 5px !important;padding-top: 5px !important;}”][vc_column_inner][vc_video max_width=”1125″ link=”https://youtu.be/IBiYFkS0-fU”][/vc_column_inner][/vc_row_inner][/vc_column][/vc_row][vc_row css=”.vc_custom_1514524079151{margin-top: 10px !important;padding-top: 10px !important;}”][vc_column][vc_column_text]\nLiquid Flow is an aquatic bodywork modality given in a warm water pool (ideally 35°C). Developed at the Quiet Healing Center\, Auroville\, Liquid Flow is inspired and based on the forms and qualities of Watsu\, OBA\, Healing Dance\, and WaterDance. \n[/vc_column_text][/vc_column][/vc_row][vc_row css=”.vc_custom_1514524124546{margin-top: 10px !important;padding-top: 10px !important;}”][vc_column width=”1/3″][vc_single_image image=”1653″ img_size=”350×548″][/vc_column][vc_column width=”2/3″][vc_single_image image=”1928″ img_size=”1000×750″][/vc_column][/vc_row][vc_row css=”.vc_custom_1518349611998{margin-top: 0px !important;padding-top: 0px !important;}”][vc_column][vc_column_text]With a complete sense of presence and attention\, the practitioner moves\, folds\, stretches\, and massages the receiver’s floating body on the surface\, inducing a profound state of both physical and mental relaxation. Depending on the choice of the receiver\, a session can also include an underwater part (with nose clip)\, which offers a unique experience of being moved under water.[/vc_column_text][vc_row_inner css=”.vc_custom_1518349826174{margin-top: 10px !important;padding-top: 10px !important;}”][vc_column_inner width=”1/2″][vc_single_image image=”1925″ img_size=”1000×750″][/vc_column_inner][vc_column_inner width=”1/2″][vc_single_image image=”1926″ img_size=”1000×750″][/vc_column_inner][/vc_row_inner][vc_row_inner css=”.vc_custom_1518349850698{margin-top: 0px !important;padding-top: 0px !important;}”][vc_column_inner][vc_column_text]The flowing interaction with water\, its fluid support and warm embrace\, and the practitioner’s presence provide a space for the receiver to experience the multilayered benefits of this powerful and softening bodywork. Liquid Flow offers an opportunity for profound relaxation and letting go\, for building trust\, for being nurtured and held\, for expanding inner and outer boundaries\, for releasing emotions and traumas – ultimately\, for freeing body and mind in a flow unique to each receiver and to each session.[/vc_column_text][/vc_column_inner][/vc_row_inner][vc_row_inner css=”.vc_custom_1518349873104{margin-top: 10px !important;padding-top: 10px !important;}”][vc_column_inner width=”1/6″][/vc_column_inner][vc_column_inner width=”2/3″][vc_column_text][/vc_column_text][vc_single_image image=”1927″ img_size=”1000×750″][/vc_column_inner][vc_column_inner width=”1/6″][/vc_column_inner][/vc_row_inner][/vc_column][/vc_row][vc_row css=”.vc_custom_1514524237726{margin-top: 10px !important;padding-top: 10px !important;}”][vc_column][vc_column_text]This 7-day high-level intensive with the main Liquid Flow sequence is for participants\, who wish to dive deeper into the beauty of aquatic bodywork. During the intensive\, you will expand your knowledge and focus on flow and continuity of movement\, which offer possibilities for improving your therapeutic work and holding space for a sense of timelessness. \nIn combination with exercises on land\, you will experience the profound\, multilayered effects of this powerful\, yet softening\, work. \n  \n[/vc_column_text][vc_row_inner][vc_column_inner width=”1/4″][vc_single_image image=”1515″ img_size=”430×673″][/vc_column_inner][vc_column_inner width=”3/4″][vc_column_text css=”.vc_custom_1514524374539{margin-bottom: 0px !important;}”]Dariya (as WABA facilitator) & Daniel have been sharing their passion for aquatic body­work with groups since 2004. \nBesides the belief that a solid technical base provides possi­bilities for ease and lightness in further personal growth\, their main focus is to create spaces for flow\, deepening and connection.[/vc_column_text][/vc_column_inner][/vc_row_inner][/vc_column][/vc_row][vc_row css=”.vc_custom_1514524402844{margin-top: 15px !important;padding-top: 15px !important;}”][vc_column][vc_column_text]Timings: 9 AM – 6 PM (plus 1 evening!) \nPrice: Rs 29\,500 (lunch included) \nPlease read the General Information before you apply for this intensive. \n[/vc_column_text][/vc_column][/vc_row]
URL:https://www.quiethealingcenter.info/course/liquid-flow-essence-with-dariya-daniel/
LOCATION:Quiet Healing Center\, India
CATEGORIES:2017
ATTACH;FMTTYPE=image/jpeg:https://www.quiethealingcenter.info/wp-content/uploads/2017/10/dariya-1000-116.jpg
END:VEVENT
BEGIN:VEVENT
DTSTART;VALUE=DATE:20180116
DTEND;VALUE=DATE:20180122
DTSTAMP:20260424T041134
CREATED:20171023T025903Z
LAST-MODIFIED:20180120T180438Z
UID:1105-1516060800-1516579199@www.quiethealingcenter.info
SUMMARY:WaterDance 1 with Arjana
DESCRIPTION:[vc_row][vc_column][vc_column_text]A 6-day intensive\, mainly under water. \nWaterDance (also known as WATA or WasserTanzen) is a dynamic\, mind- and playful movement therapy. It was developed by Peter Schröter and Arjana C. Brunschwiler in the late 80s.[/vc_column_text][/vc_column][/vc_row][vc_row css=”.vc_custom_1514524611789{margin-top: 10px !important;padding-top: 10px !important;}”][vc_column width=”1/2″][vc_single_image image=”1551″ img_size=”1000×750″][/vc_column][vc_column width=”1/2″][vc_single_image image=”1552″ img_size=”1000×750″][/vc_column][/vc_row][vc_row css=”.vc_custom_1514524853996{margin-top: 0px !important;padding-top: 0px !important;}”][vc_column][vc_column_text]In WaterDance we explore the breath in various ways. Having an intimate relationship with our own breath is a good base for any healing touch and deep connection. Active and passive breathing exercises and meditations will reveal how respiratory behaviour can affect both the thoughts and the emotions. \nWe will begin with bringing water-frightened or traumatized people into a soft\, slow and safe contact with the underwater world. The very first “submersions” are devoted a great deal of attention\, patience and time. \nDuring this intensive\, the movements of the “WaterDance Short Form” will be shown and practiced. By moving different body types through water\, participants gradually adapt their technique and increase their confidence\, ease and graceful fluidity. By using kumbhaka (apnea) under water\, the receiver is invited to relax into deep states of inner silence\, freedom and joy. \nOn land\, we will examine our ability to really listen to another person and meet them where they are. We will use the group circle as well as break up into smaller groups and pairs. \nVisits to the surrounding nature after long periods of time in the water assist us in rebalancing with the earth element. Simple natural tasks bring moments of contemplation and oneness of being. \n  \n[/vc_column_text][vc_row_inner][vc_column_inner width=”1/4″][vc_single_image image=”1554″ img_size=”430×673″][/vc_column_inner][vc_column_inner width=”3/4″][vc_column_text css=”.vc_custom_1514524951906{margin-bottom: 0px !important;}”]Arjana \n“Take a drop of water. If you know how to listen to it\, it will tell you about the earth\, the sea and the sky… “. 30 years ago\, Arjana discovered the beauty and the healing powers of Aquatic Bodywork and since then she is sharing this gift as an international facilitator of WaterDance and WATSU (Europe\, USA\, Hawaii\, New Zealand\, Israel\, Czech Republic\, Poland\, Bali…). \nImportant professional milestones:\n– Studying and practicing different forms of bodywork since 1985\n– Co-Founder of WaterDance (1987)\n– Certified WATSU facilitator (1992)\n– Co-Founder and director of the Institute of Aquatic Bodywork Switzerland (1992-2004)\n– Founder of the Aquatic Bodywork Center in Belgium “Le Centre” (1996) \nIn addition to her work in the water\, Arjana has been trained in Hatha Yoga (Mexico and Belgium)\, Hormon Yoga (Switzerland)\, perineology (BeBo Switzerland)\, Natural Systemic Therapy (SNT Switzerland)\, Federal Adult Eduction (SVEB Switzerland)\, and Subtle Energy Healingwork (Energy Mastery School USA).\n[/vc_column_text][/vc_column_inner][/vc_row_inner][/vc_column][/vc_row][vc_row css=”.vc_custom_1514525037028{margin-top: 20px !important;padding-top: 20px !important;}”][vc_column][vc_column_text]\nTimings: 8.45 AM – 6.30 PM \nPrice: Rs 29\,500 (lunch included) \nPlease read the General Information before you apply for this intensive.[/vc_column_text][/vc_column][/vc_row]
URL:https://www.quiethealingcenter.info/course/waterdance-1-with-arjana/
LOCATION:Quiet Healing Center\, India
CATEGORIES:2017
ATTACH;FMTTYPE=image/jpeg:https://www.quiethealingcenter.info/wp-content/uploads/2017/10/arjana-on-the-side-1000-custom.jpg
END:VEVENT
BEGIN:VEVENT
DTSTART;VALUE=DATE:20180122
DTEND;VALUE=DATE:20180129
DTSTAMP:20260424T041134
CREATED:20171023T032505Z
LAST-MODIFIED:20180211T113640Z
UID:1110-1516579200-1517183999@www.quiethealingcenter.info
SUMMARY:Watsu® 3 with Gianni De Stefani
DESCRIPTION:[vc_row][vc_column][vc_column_text css=”.vc_custom_1518348895093{margin-bottom: 0px !important;}”]A 7-day intensive on the surface only. \nWatsu 3 is for people who have given enough practice sessions to develop a comfortable\, intuitive awareness of how to float another person and who are ready to adapt and further explore aquatic bodywork outside the fixed form of Watsu 2.[/vc_column_text][/vc_column][/vc_row][vc_row css=”.vc_custom_1514526927389{margin-top: 10px !important;padding-top: 10px !important;}”][vc_column width=”1/2″][vc_single_image image=”1562″ img_size=”1000×750″][/vc_column][vc_column width=”1/2″][vc_single_image image=”1564″ img_size=”1000×750″][/vc_column][/vc_row][vc_row][vc_column][vc_column_text css=”.vc_custom_1518348916773{margin-bottom: 0px !important;}”]Powerful stretches and advanced techniques are introduced while rolls that require a spontaneous adaptation are shown as a gateway into Watsu’s “Free Flow”.[/vc_column_text][vc_row_inner css=”.vc_custom_1514527447670{margin-top: 20px !important;padding-top: 20px !important;}”][vc_column_inner width=”1/4″][vc_single_image image=”1755″ img_size=”430×538″][/vc_column_inner][vc_column_inner width=”3/4″][vc_column_text css=”.vc_custom_1518348795778{margin-bottom: 0px !important;}”]Gianni De Stefani \nTravels worldwide since more than 30 years as organizer and WABA facilitator. He facilitates Watsu Basic\, Watsu 1\, 2 & 3\, Anatomy for Watsuer\, Adapted Watsu\, Watsu & Meditation\, Watsu for Babies\, OBA\, Woga\, Water Gymnastics and Rehab.[/vc_column_text][/vc_column_inner][/vc_row_inner][/vc_column][/vc_row][vc_row css=”.vc_custom_1514527471572{margin-top: 15px !important;padding-top: 15px !important;}”][vc_column][vc_column_text css=”.vc_custom_1514527540651{margin-bottom: 0px !important;}”]Timings: 8..45 AM – 6.30 PM \nPrice: Rs 29\,500 (lunch included) \nPlease read the General Information before you apply for this course.[/vc_column_text][/vc_column][/vc_row]
URL:https://www.quiethealingcenter.info/course/watsu-3-with-gianni-de-stefani-2/
LOCATION:Quiet Healing Center\, India
CATEGORIES:2017
ATTACH;FMTTYPE=image/jpeg:https://www.quiethealingcenter.info/wp-content/uploads/2017/10/watsu-gianni-1000-08-custom.jpg
END:VEVENT
BEGIN:VEVENT
DTSTART;VALUE=DATE:20180130
DTEND;VALUE=DATE:20180205
DTSTAMP:20260424T041134
CREATED:20171023T033253Z
LAST-MODIFIED:20180120T175430Z
UID:1114-1517270400-1517788799@www.quiethealingcenter.info
SUMMARY:WaterDance 2 with Arjana
DESCRIPTION:[vc_row][vc_column][vc_column_text]A 6-day intensive\, mainly under water. \nIn WaterDance 2\, we deepen the work of WaterDance 1\, using the same principles while expanding the material with a fuller repertoire of underwater moves and techniques. We continue to listen and deeply connect to the breath\, which is the linking thread throughout a WaterDance session.[/vc_column_text][/vc_column][/vc_row][vc_row css=”.vc_custom_1514526010013{margin-top: 10px !important;padding-top: 10px !important;}”][vc_column width=”2/3″][vc_single_image image=”1551″ img_size=”1000×673″][/vc_column][vc_column width=”1/3″][vc_single_image image=”1431″ img_size=”530×743″][/vc_column][/vc_row][vc_row][vc_column][vc_column_text]We also explore the “WaterDance Extended Form”\, which involves new moves and ways of linking sequences. These expanded techniques guide us deeper into a space of fluidity and grace. \nBy the end of this intensive\, you have been exposed to enough material to give full secure sessions and to initiate profound healing. WATA becomes a real dance in meditation\, for both giver and receiver. \nThe intimacy and gentle bonding that a group creates in the water opens the door to authentic exchanges also on “dry land”. In sharing circles\, the participants learn to trust the healing field that the group soul gradually is creating. \nVarious tools like guided meditations\, body- and energy work\, active breathing exercises\, communication skills and a conscious contact with the earth\, shall help to balance the four elements in and around us. Consciously including the other 3 elements during land work helps to counterbalance and to reharmonise the dissolving and melting qualities of the work in the warm water.[/vc_column_text][vc_row_inner css=”.vc_custom_1514526187989{margin-top: 20px !important;padding-top: 20px !important;}”][vc_column_inner width=”1/4″][vc_single_image image=”1554″ img_size=”430×673″][/vc_column_inner][vc_column_inner width=”3/4″][vc_column_text css=”.vc_custom_1514526122318{margin-bottom: 0px !important;}”]Arjana \n“Take a drop of water. If you know how to listen to it\, it will tell you about the earth\, the sea and the sky… “. 30 years ago\, Arjana discovered the beauty and the healing powers of Aquatic Bodywork and since then she is sharing this gift as an international facilitator of WaterDance and WATSU (Europe\, USA\, Hawaii\, New Zealand\, Israel\, Czech Republic\, Poland\, Bali…). \nImportant professional milestones:\n– Studying and practicing different forms of bodywork since 1985\n– Co-Founder of WaterDance (1987)\n– Certified WATSU facilitator (1992)\n– Co-Founder and director of the Institute of Aquatic Bodywork Switzerland (1992-2004)\n– Founder of the Aquatic Bodywork Center in Belgium “Le Centre” (1996) \nIn addition to her work in the water\, Arjana has been trained in Hatha Yoga (Mexico and Belgium)\, Hormon Yoga (Switzerland)\, perineology (BeBo Switzerland)\, Natural Systemic Therapy (SNT Switzerland)\, Federal Adult Eduction (SVEB Switzerland)\, and Subtle Energy Healingwork (Energy Mastery School USA).[/vc_column_text][/vc_column_inner][/vc_row_inner][/vc_column][/vc_row][vc_row css=”.vc_custom_1514526154744{margin-top: 20px !important;padding-top: 20px !important;}”][vc_column][vc_column_text]\nTimings: 8.45 AM – 6.30 PM \nPrice: Rs 29\,500 (lunch included) \nPlease read the General Information before you apply for this intensive.[/vc_column_text][/vc_column][/vc_row]
URL:https://www.quiethealingcenter.info/course/waterdance-2-with-arjana/
LOCATION:Quiet Healing Center\, India
CATEGORIES:2017
ATTACH;FMTTYPE=image/jpeg:https://www.quiethealingcenter.info/wp-content/uploads/2017/10/arjana-with-indian-girl-1000-custom.jpg
END:VEVENT
END:VCALENDAR