BEGIN:VCALENDAR
VERSION:2.0
PRODID:-//Quiet Healing Center - ECPv6.11.2.1//NONSGML v1.0//EN
CALSCALE:GREGORIAN
METHOD:PUBLISH
X-ORIGINAL-URL:https://www.quiethealingcenter.info
X-WR-CALDESC:Events for Quiet Healing Center
REFRESH-INTERVAL;VALUE=DURATION:PT1H
X-Robots-Tag:noindex
X-PUBLISHED-TTL:PT1H
BEGIN:VTIMEZONE
TZID:UTC
BEGIN:STANDARD
TZOFFSETFROM:+0000
TZOFFSETTO:+0000
TZNAME:UTC
DTSTART:20170101T000000
END:STANDARD
END:VTIMEZONE
BEGIN:VEVENT
DTSTART;VALUE=DATE:20171216
DTEND;VALUE=DATE:20171218
DTSTAMP:20260425T004400
CREATED:20180211T070935Z
LAST-MODIFIED:20181202T114459Z
UID:1873-1513382400-1513555199@www.quiethealingcenter.info
SUMMARY:Woga® 1 & 2 (Yoga in Water) with Dariya
DESCRIPTION:[vc_row][vc_column][vc_column_text css=”.vc_custom_1518332244675{margin-bottom: 0px !important;}”]A 2-day intensive. \nWoga is the union of two words: water and yoga. It is based on yoga poses and stretches modified for warm water.[/vc_column_text][/vc_column][/vc_row][vc_row css=”.vc_custom_1518332568181{margin-top: 10px !important;padding-top: 10px !important;}”][vc_column width=”1/2″][vc_single_image image=”1864″ img_size=”1000×750″][/vc_column][vc_column width=”1/2″][vc_single_image image=”1866″ img_size=”1000×750″][/vc_column][/vc_row][vc_row][vc_column][vc_column_text css=”.vc_custom_1543751081011{margin-bottom: 0px !important;}”]Thanks to decrease in gravity\, water allows greater ease of movement\, unblocks articulations\, lengthens and melts muscles\, and removes negative tensions\, thereby preventing stress\, insomnia and anxiety.[/vc_column_text][vc_row_inner css=”.vc_custom_1518332589696{margin-top: 10px !important;padding-top: 10px !important;}”][vc_column_inner width=”1/6″][/vc_column_inner][vc_column_inner width=”2/3″][vc_single_image image=”1868″ img_size=”1000×750″][/vc_column_inner][vc_column_inner width=”1/6″][/vc_column_inner][/vc_row_inner][/vc_column][/vc_row][vc_row][vc_column][vc_row_inner][vc_column_inner][vc_column_text css=”.vc_custom_1543751095255{margin-bottom: 0px !important;}”]Water yoga is based on classic yoga poses and stretches\, modified for standing in pool water\, which is waist-to-chest high. You do not need to know how to swim. \nSessions are structured like their yoga equivalents on land: breathing\, warm-up exercises\, a series of poses\, and a relaxation period. The difference is that you are in a warm water pool! \nFocus of Woga 1 & 2 is Hatha Yoga in water (asanas in standing position\, on the wall\, in floating position\, and under water)\, pranayama and meditation.[/vc_column_text][/vc_column_inner][/vc_row_inner][vc_row_inner css=”.vc_custom_1525957926295{margin-top: 20px !important;padding-top: 20px !important;}”][vc_column_inner width=”1/4″][vc_single_image image=”561″ img_size=”430×538″][/vc_column_inner][vc_column_inner width=”3/4″][vc_column_text css=”.vc_custom_1518332850645{margin-bottom: 0px !important;}”]Dariya \nWABA facilitator\, has been sharing her passion for aquatic body­work with groups since 2004. Besides the belief that a solid technical base provides possi­bilities for ease and lightness in further personal growth\, her main focus is to create spaces for flow\, deepening and connection.[/vc_column_text][/vc_column_inner][/vc_row_inner][vc_row_inner][vc_column_inner][vc_column_text css=”.vc_custom_1518332819035{margin-top: 20px !important;margin-bottom: 0px !important;padding-top: 20px !important;}”]Timings: 9 AM – 6 PM \nPrice: Rs 5\,950 (lunch included) \nPlease read the General Information before you apply for this intensive.[/vc_column_text][/vc_column_inner][/vc_row_inner][/vc_column][/vc_row]
URL:https://www.quiethealingcenter.info/course/woga-1-2-yoga-in-water-with-dariya-3/
LOCATION:Quiet Healing Center\, India
CATEGORIES:2017
ATTACH;FMTTYPE=image/jpeg:https://www.quiethealingcenter.info/wp-content/uploads/2017/07/dariya-woga-1000-01c.jpg
END:VEVENT
BEGIN:VEVENT
DTSTART;VALUE=DATE:20171219
DTEND;VALUE=DATE:20171221
DTSTAMP:20260425T004400
CREATED:20180211T123923Z
LAST-MODIFIED:20190709T182721Z
UID:1947-1513641600-1513814399@www.quiethealingcenter.info
SUMMARY:Water & Dance with Dariya & Daniel
DESCRIPTION:[vc_row][vc_column][vc_column_text css=”.vc_custom_1518296742000{margin-bottom: 0px !important;}”]A 2-day celebration for ALL lovers of movement and flow. \nWe will playfully explore and express ourselves through movement and dance on land and in warm water\, on our own\, with partners and in group. From self-connection to allowing movements to emerge\, no one deciding where to go\, the doors open for non-verbal communication and deep sharing…[/vc_column_text][/vc_column][/vc_row][vc_row css=”.vc_custom_1518296962064{margin-top: 10px !important;padding-top: 10px !important;}”][vc_column][vc_row_inner][vc_column_inner width=”1/2″][vc_single_image image=”1825″ img_size=”1000×750″][/vc_column_inner][vc_column_inner width=”1/2″][vc_single_image image=”1826″ img_size=”1000×750″][/vc_column_inner][/vc_row_inner][vc_row_inner][vc_column_inner width=”1/2″][vc_single_image image=”1827″ img_size=”1000×750″][/vc_column_inner][vc_column_inner width=”1/2″][vc_single_image image=”1824″ img_size=”1000×750″][/vc_column_inner][/vc_row_inner][/vc_column][/vc_row][vc_row][vc_column][vc_column_text css=”.vc_custom_1562696840209{margin-bottom: 0px !important;}”]Connecting on land to our deeper longings\, we give the body permission to find its own way of expression and possibly contacting others. Warm water with its sense of weightlessness and fluidity invites us to let go and experiment with our own organic and fluid way of movement. \nLet’s celebrate this journey together! \n  \nPrerequisites: No previous experience required (also no need to know how to swim). \nCredits: Water & Dance gives 15 hours of credit for registration as a supplementary class with Watsu India.[/vc_column_text][vc_row_inner css=”.vc_custom_1525958013403{margin-top: 20px !important;padding-top: 20px !important;}”][vc_column_inner width=”1/4″][vc_single_image image=”1653″ img_size=”430×538″][/vc_column_inner][vc_column_inner width=”3/4″][vc_column_text css=”.vc_custom_1518334220949{margin-bottom: 0px !important;}”]Dariya (as WABA facilitator) & Daniel \nHave been sharing their passion for aquatic body­work with groups since 2004. Besides the belief that a solid technical base provides possi­bilities for ease and lightness in further personal growth\, their main focus is to create spaces for flow\, deepening and connection.[/vc_column_text][/vc_column_inner][/vc_row_inner][/vc_column][/vc_row][vc_row][vc_column][vc_column_text css=”.vc_custom_1518297038145{margin-top: 20px !important;margin-bottom: 0px !important;padding-top: 20px !important;}”]Timings: 9 AM – 6 PM \nPrice: Rs 6\,950 (lunch included) \nPlease read the General Information before you apply for this intensive.[/vc_column_text][/vc_column][/vc_row]
URL:https://www.quiethealingcenter.info/course/water-dance-with-dariya-daniel/
LOCATION:Quiet Healing Center\, India
CATEGORIES:2017
ATTACH;FMTTYPE=image/jpeg:https://www.quiethealingcenter.info/wp-content/uploads/2017/10/water-dance-1000-02-custom.jpg
END:VEVENT
BEGIN:VEVENT
DTSTART;VALUE=DATE:20171222
DTEND;VALUE=DATE:20171223
DTSTAMP:20260425T004400
CREATED:20180211T071520Z
LAST-MODIFIED:20180510T131717Z
UID:1875-1513900800-1513987199@www.quiethealingcenter.info
SUMMARY:Watsu® 1 Integration Day with Dariya
DESCRIPTION:[vc_row][vc_column][vc_column_text css=”.vc_custom_1518331677983{margin-bottom: 0px !important;}”]Integration Days are excellent opportunities to refresh\, adapt and further explore the techniques and sequence learned in Watsu 1 and their effects on both giver and receiver.[/vc_column_text][/vc_column][/vc_row][vc_row css=”.vc_custom_1518295157965{margin-top: 10px !important;padding-top: 10px !important;}”][vc_column width=”1/2″][vc_single_image image=”1788″ img_size=”1000×750″][/vc_column][vc_column width=”1/2″][vc_single_image image=”1787″ img_size=”1000×750″][/vc_column][/vc_row][vc_row css=”.vc_custom_1518333385247{margin-top: 0px !important;padding-top: 0px !important;}”][vc_column][vc_column_text css=”.vc_custom_1518295174902{margin-bottom: 0px !important;}”]Special attention is given to details of the movements and their necessary adaptations according to the size\, buoyancy and flexibility of the receiver. \nBy refining the gracefully flowing transitions of Watsu’s major positions and perfecting your own body mechanics\, you will support and move each person as effortlessly as possible.in water.[/vc_column_text][vc_row_inner css=”.vc_custom_1525958220623{margin-top: 20px !important;padding-top: 20px !important;}”][vc_column_inner width=”1/4″][vc_single_image image=”561″ img_size=”430×538″][/vc_column_inner][vc_column_inner width=”3/4″][vc_column_text css=”.vc_custom_1518331021469{margin-bottom: 0px !important;}”]Dariya \nWABA facilitator\, has been sharing her passion for aquatic body­work with groups since 2004. Besides the belief that a solid technical base provides possi­bilities for ease and lightness in further personal growth\, her main focus is to create spaces for flow\, deepening and connection[/vc_column_text][/vc_column_inner][/vc_row_inner][/vc_column][/vc_row][vc_row][vc_column][vc_column_text css=”.vc_custom_1518295231917{margin-top: 20px !important;margin-bottom: 0px !important;padding-top: 20px !important;}”]Timings: 9 AM – 5 PM \nPrice: Rs 3\,500 (lunch included) \nPlease read the General Information before you apply for this intensive.[/vc_column_text][/vc_column][/vc_row]
URL:https://www.quiethealingcenter.info/course/watsu-1-integration-day-with-dariya/
LOCATION:Quiet Healing Center\, India
CATEGORIES:2017
ATTACH;FMTTYPE=image/jpeg:https://www.quiethealingcenter.info/wp-content/uploads/2017/10/watsu-integration-day-1000-01-custom.jpg
END:VEVENT
BEGIN:VEVENT
DTSTART;VALUE=DATE:20171222
DTEND;VALUE=DATE:20180101
DTSTAMP:20260425T004400
CREATED:20171213T143005Z
LAST-MODIFIED:20180510T131552Z
UID:1372-1513900800-1514764799@www.quiethealingcenter.info
SUMMARY:Holistic Rebalancing Massage with Ananda
DESCRIPTION:[vc_row][vc_column][vc_single_image image=”1388″ img_size=”1125×250″][/vc_column][/vc_row][vc_row][vc_column][vc_column_text css=”.vc_custom_1514262019241{margin-bottom: 0px !important;padding-bottom: 0px !important;}”]“Body-mind-energy has a natural\, self-balancing\, self-healing capacity. The therapist simply plays the role of a catalyst using effective techniques\, loving energy and meditative presence.” \nHolistic Rebalancing is a powerful balancing tool for body-mind-energy based on healing techniques developed in 80’s. It’s a synthesis work combined with deep tissue massage\, joint release\, energy work\, breath work\, body awareness and meditation.[/vc_column_text][/vc_column][/vc_row][vc_row css=”.vc_custom_1514262171038{margin-top: 15px !important;padding-top: 15px !important;}”][vc_column width=”1/2″][vc_single_image image=”1508″ img_size=”1000×750″][vc_single_image image=”1510″ img_size=”1000×750″][/vc_column][vc_column width=”1/2″][vc_single_image image=”1509″ img_size=”1000×750″][vc_single_image image=”1511″ img_size=”1000×750″][/vc_column][/vc_row][vc_row][vc_column][vc_column_text]In this 10-days exploration (with the first 3 days as an optional introduction) you will be exposed to:\n• powerful techniques of joint release to melt & relax\, deep tissue massage to release pain/holdings/memory\, and energy work to heal from inside;\n• the physical and energetic body anatomy;\n• breath work and tools for body awareness;\n• reading and various approach of different body types;\n• 5 types of touch related to the 5 elements: water\, fire\, air\, earth\, space;\n• special focus on neck\, shoulder & back;\n• meditations to be healthy and energetic as a hollow bamboo for the natural healing process;\n• effective ways to give deep healing sessions effortlessly;\n• to hold space with changing body-mind-emotions-energy.[/vc_column_text][/vc_column][/vc_row][vc_row css=”.vc_custom_1525958152362{margin-top: 20px !important;padding-top: 20px !important;}”][vc_column width=”1/4″ css=”.vc_custom_1514261653544{margin-top: 5px !important;padding-top: 5px !important;}”][vc_single_image image=”1394″ img_size=”430×538″][/vc_column][vc_column width=”3/4″][vc_column_text css=”.vc_custom_1514354631518{margin-bottom: 0px !important;}”]Ananda is a meditator\, facilitator and therapist\, focusing on wellness and connecting with inner essence through body\, mind\, emotions and energy. \nHe started his journey long ago to travel inside and outside\, exploring various forms of yoga\, meditation\, mystics and energetic spaces. Practicing healing sessions for over 10 years\, Ananda is professionally trained with international certifications for various forms of healing such as Watsu\, Aquawellness\, Foot Reflexology\, Hypnotherapy\, Pranic Healing\, Alchemy of Touch – Rebalancing. \nHaving left behind his profession as a software architect 5 years ago\, he shares his meditation retreats and holistic rebalancing across India\, Vietnam and Europe to connect with the essence of love and freedom inside.[/vc_column_text][/vc_column][/vc_row][vc_row css=”.vc_custom_1514262268909{margin-top: 15px !important;padding-top: 15px !important;}”][vc_column][vc_row_inner css=”.vc_custom_1514262311359{margin-top: 0px !important;padding-top: 0px !important;}”][vc_column_inner][vc_column_text]Timings: 9.30 AM – 5.00 PM \nPrice for the full 10 days intensive (22 -31 December 2017): Rs. 28\,950 including lunch\, Rs. 25\,950 without lunch. \nPrice for the 3 days introduction intensive (22 – 24 December 2017): Rs. 8\,850 including lunch\, Rs. 7\,950 without lunch. \nPlease read the General Information before you apply for this intensive.[/vc_column_text][/vc_column_inner][/vc_row_inner][/vc_column][/vc_row]
URL:https://www.quiethealingcenter.info/course/yoga-immersion-workshop-with-nuthan-manohar-oct-2/
LOCATION:Quiet Healing Center\, India
CATEGORIES:2017
ATTACH;FMTTYPE=image/jpeg:https://www.quiethealingcenter.info/wp-content/uploads/2017/12/holistic-rebalancing-1000-24-custom.jpg
END:VEVENT
BEGIN:VEVENT
DTSTART;VALUE=DATE:20171223
DTEND;VALUE=DATE:20171225
DTSTAMP:20260425T004400
CREATED:20180211T072334Z
LAST-MODIFIED:20180510T131826Z
UID:1880-1513987200-1514159999@www.quiethealingcenter.info
SUMMARY:Couples in Flow with Dariya & Daniel
DESCRIPTION:[vc_row][vc_column][vc_column_text css=”.vc_custom_1518295460492{margin-bottom: 0px !important;}”]Welcome couples to this 2-day journey of relaxation\, connection and celebration on land and in warm water. \nWe offer you a safe space and simple explorations where you can rediscover one another in new ways of intimacy. You will acquire easily applicable skills to hold space for each other\, fun ways to be together\, and connect with others in the group.[/vc_column_text][/vc_column][/vc_row][vc_row css=”.vc_custom_1518295744857{margin-top: 10px !important;padding-top: 10px !important;}”][vc_column width=”1/2″][vc_single_image image=”1820″ img_size=”1000×750″][/vc_column][vc_column width=”1/2″][vc_single_image image=”1819″ img_size=”1000×750″][/vc_column][/vc_row][vc_row][vc_column][vc_column_text css=”.vc_custom_1518295770025{margin-bottom: 0px !important;}”]This intensive is inspired by aquatic bodywork (Watsu\, Liquid Flow etc.)\, Tantsu (simple ways of holding and massaging on land)\, free dance\, deep listening\, and our innate longing to play\, connect and simply be. \nSpace is limited to 8 couples.[/vc_column_text][vc_row_inner css=”.vc_custom_1525958306269{margin-top: 20px !important;padding-top: 20px !important;}”][vc_column_inner width=”1/4″][vc_single_image image=”1653″ img_size=”430×538″][/vc_column_inner][vc_column_inner width=”3/4″][vc_column_text css=”.vc_custom_1518333694408{margin-bottom: 0px !important;}”]Dariya (as WABA facilitator) & Daniel \nHave been sharing their passion for aquatic body­work with groups since 2004. Besides the belief that a solid technical base provides possi­bilities for ease and lightness in further personal growth\, their main focus is to create spaces for flow\, deepening and connection.[/vc_column_text][/vc_column_inner][/vc_row_inner][/vc_column][/vc_row][vc_row][vc_column][vc_column_text css=”.vc_custom_1518295821308{margin-top: 20px !important;margin-bottom: 0px !important;padding-top: 20px !important;}”]Timings: 9 AM – 6 PM \nPrice: Rs 9\,950 (lunch included) \nPlease read the General Information before you apply for this intensive.[/vc_column_text][/vc_column][/vc_row]
URL:https://www.quiethealingcenter.info/course/couples-in-flow-with-dariya-daniel-4/
LOCATION:Quiet Healing Center\, India
CATEGORIES:2017
ATTACH;FMTTYPE=image/jpeg:https://www.quiethealingcenter.info/wp-content/uploads/2017/10/dd-1000-05a-custom.jpg
END:VEVENT
BEGIN:VEVENT
DTSTART;VALUE=DATE:20171225
DTEND;VALUE=DATE:20171231
DTSTAMP:20260425T004400
CREATED:20170715T055815Z
LAST-MODIFIED:20180211T080038Z
UID:944-1514160000-1514678399@www.quiethealingcenter.info
SUMMARY:Watsu® & OBA® Basic with Dariya & Daniel
DESCRIPTION:[vc_row][vc_column][vc_column_text]An intensive of 6 half days.[/vc_column_text][/vc_column][/vc_row][vc_row css=”.vc_custom_1514262520964{margin-top: 10px !important;padding-top: 10px !important;}”][vc_column][vc_video max_width=”1125″ link=”https://youtu.be/YjJRgimktUo”][/vc_column][/vc_row][vc_row css=”.vc_custom_1514262911343{margin-top: 10px !important;padding-top: 10px !important;}”][vc_column][vc_column_text]Watsu & OBA are aquatic bodywork modalities given in a warm water pool (ideally 35°C).[/vc_column_text][vc_row_inner css=”.vc_custom_1514262982910{margin-top: 5px !important;padding-top: 5px !important;}”][vc_column_inner width=”1/3″][vc_single_image image=”1417″ img_size=”430×673″][/vc_column_inner][vc_column_inner width=”2/3″][vc_single_image image=”1522″ img_size=”1000×750″][/vc_column_inner][/vc_row_inner][/vc_column][/vc_row][vc_row css=”.vc_custom_1514263101990{margin-top: 0px !important;padding-top: 0px !important;}”][vc_column][vc_column_text]Watsu\, the part where the client’s face stays always on the surface\, introduces the qualities and body mechanics required to work with someone in water in order to create a profound state of both physical and mental relaxation. During the OBA part the receiver is also brought under water (with nose clip)\, which offers a unique experience.[/vc_column_text][/vc_column][/vc_row][vc_row css=”.vc_custom_1514262670812{margin-top: 15px !important;margin-bottom: 0px !important;padding-top: 15px !important;padding-bottom: 0px !important;}”][vc_column width=”1/2″][vc_single_image image=”1516″ img_size=”1000c750″][/vc_column][vc_column width=”1/2″][vc_single_image image=”1517″ img_size=”1000×750″][/vc_column][/vc_row][vc_row css=”.vc_custom_1514354422699{margin-top: 0px !important;padding-top: 0px !important;}”][vc_column][vc_column_text]\nThe flowing interaction with water\, its fluid support and warm embrace\, and the practitioner’s presence provide a space for the client to experience the multi-layered benefits of this powerful and softening bodywork. Watsu & OBA offer an opportunity for profound relaxation and letting go\, for building trust\, for being nurtured and held\, for expanding inner and outer boundaries\, for releasing emotions and traumas – ultimately\, for freeing body and mind in a flow unique to each client and to each session. \n[/vc_column_text][/vc_column][/vc_row][vc_row css=”.vc_custom_1514262719624{margin-top: 15px !important;padding-top: 15px !important;}”][vc_column width=”1/6″][/vc_column][vc_column width=”2/3″][vc_single_image image=”1520″ img_size=”1000×750″][/vc_column][vc_column width=”1/6″][/vc_column][/vc_row][vc_row css=”.vc_custom_1514354459415{margin-top: 5px !important;padding-top: 5px !important;}”][vc_column][vc_column_text]In this intensive\, you will practice basic techniques and qualities (grounding\, presence\, stillness\, movement\, attention) of being and moving another body in water. You will experience floating other people and being floated\, on the surface and under water\, thereby creating space for deep relaxation and nurturing body\, mind and spirit. \nParticipants in this intensive often appreciate the group space\, which fosters deep\, meaningful and nurturing connections.[/vc_column_text][vc_row_inner css=”.vc_custom_1514354980177{margin-top: 20px !important;padding-top: 20px !important;}”][vc_column_inner width=”1/4″][vc_single_image image=”1515″ img_size=”430×673″][/vc_column_inner][vc_column_inner width=”3/4″][vc_column_text css=”.vc_custom_1514354821521{margin-bottom: 0px !important;}”]Dariya (as WABA facilitator) & Daniel have been sharing their passion for aquatic body­work with groups since 2004. \nBesides the belief that a solid technical base provides possi­bilities for ease and lightness in further personal growth\, their main focus is to create spaces for flow\, deepening and connection.[/vc_column_text][/vc_column_inner][/vc_row_inner][/vc_column][/vc_row][vc_row css=”.vc_custom_1518336025008{margin-top: 20px !important;padding-top: 20px !important;}”][vc_column][vc_column_text]Timings: 1.00 – 6.00 PM \nPrice: Rs 17\,000 \nPlease read the General Information before you apply for this intensive.[/vc_column_text][/vc_column][/vc_row]
URL:https://www.quiethealingcenter.info/course/watsu-oba-basic-with-dariya-daniel-2/
LOCATION:Quiet Healing Center\, India
CATEGORIES:2017
ATTACH;FMTTYPE=image/jpeg:https://www.quiethealingcenter.info/wp-content/uploads/2017/10/dd-teaching-wobab-1000-01-custom.jpg
END:VEVENT
END:VCALENDAR