BEGIN:VCALENDAR
VERSION:2.0
PRODID:-//Quiet Healing Center - ECPv6.11.2.1//NONSGML v1.0//EN
CALSCALE:GREGORIAN
METHOD:PUBLISH
X-WR-CALNAME:Quiet Healing Center
X-ORIGINAL-URL:https://www.quiethealingcenter.info
X-WR-CALDESC:Events for Quiet Healing Center
REFRESH-INTERVAL;VALUE=DURATION:PT1H
X-Robots-Tag:noindex
X-PUBLISHED-TTL:PT1H
BEGIN:VTIMEZONE
TZID:UTC
BEGIN:STANDARD
TZOFFSETFROM:+0000
TZOFFSETTO:+0000
TZNAME:UTC
DTSTART:20260101T000000
END:STANDARD
END:VTIMEZONE
BEGIN:VEVENT
DTSTART;VALUE=DATE:20260326
DTEND;VALUE=DATE:20260401
DTSTAMP:20260421T123634
CREATED:20250716T075138Z
LAST-MODIFIED:20250716T075138Z
UID:8957-1774483200-1775001599@www.quiethealingcenter.info
SUMMARY:Tantsu® 1 with Xavier Boisson & Dariya
DESCRIPTION:[vc_row][vc_column][vc_column_text css=”.vc_custom_1518286297842{margin-bottom: 0px !important;}”]A 6-day intensive. \nTantsu grew out of Watsu. Watsu is a form of aquatic bodywork developed in the 1980s by Harold Dull\, floating and stretching people in warm water. In Tantsu\, the unconditional holding of Watsu is brought back onto land. \nTantsu offers a deep state of listening and creates an unconditional union and cradle of connected breath and presence. The trust established by this cradle and its creative exploration make it ideal for giving a Tantsu session to anybody.[/vc_column_text][/vc_column][/vc_row][vc_row css=”.vc_custom_1518286318726{margin-top: 10px !important;padding-top: 10px !important;}”][vc_column width=”1/2″][vc_single_image image=”1643″ img_size=”1000×750″][/vc_column][vc_column width=”1/2″][vc_single_image image=”1645″ img_size=”1000×750″][/vc_column][/vc_row][vc_row][vc_column][vc_column_text css=”.vc_custom_1518286348471{margin-bottom: 0px !important;}”]During the first four days\, you will be exposed to the basics of Tantsu: cradling someone in a comfortable hold\, which gives access to a deep level of relaxation and stillness. The micro-movements that appear will guide your moves\, stretches and rotations of shoulders\, arms\, hips and legs\, thereby releasing blockages in the energy flow. \nThe following two days will take you deeper into body-listening and exploration of various possible body movements. You will also gain knowledge about meridians\, hara\, and the connection between mind and body. \nIn this intensive Tantsu will become a joyful expression of caring love.[/vc_column_text][/vc_column][/vc_row][vc_row][vc_column][vc_column_text css=”.vc_custom_1752652289799{margin-bottom: 0px !important;}”]Prerequisites: No previous experience required. \nCredits: Tantsu 1 is recognised by WABA (Worldwide Aquatic Bodywork Association) as part of the Watsu learning program and gives 50 hours of credits for registration with WABA and Watsu India. \n[/vc_column_text][/vc_column][/vc_row][vc_row][vc_column][vc_row_inner css=”.vc_custom_1525959091628{margin-top: 20px !important;padding-top: 20px !important;}”][vc_column_inner width=”1/4″][vc_single_image image=”1849″ img_size=”430×538″][/vc_column_inner][vc_column_inner width=”3/4″][vc_column_text css=”.vc_custom_1518329894399{margin-bottom: 0px !important;}”]Xavier Boisson \nWABA facilitator for Watsu Basic\, Watsu 1 and 2 and Tantsu\, and a WaterDance practitioner. He is also specialized in working with pregnant women (and their partner).[/vc_column_text][/vc_column_inner][/vc_row_inner][vc_row_inner css=”.vc_custom_1525959091628{margin-top: 20px !important;padding-top: 20px !important;}”][vc_column_inner width=”1/4″][vc_single_image image=”7925″ img_size=”430×538″ css=””][/vc_column_inner][vc_column_inner width=”3/4″][vc_column_text css=”.vc_custom_1752652073685{margin-bottom: 0px !important;}”]Dariya \nDariya is a WABA facilitator and Liquid Flow co-founder. She has been teaching aquatic bodywork since 2004.\nHer believe is\, that a solid technical base provides ease towards her main focus\, which is creating & holding spaces for flow\, deepening and connection.[/vc_column_text][/vc_column_inner][/vc_row_inner][/vc_column][/vc_row][vc_row css=”.vc_custom_1518286419907{margin-top: 20px !important;padding-top: 20px !important;}”][vc_column][vc_column_text css=”.vc_custom_1750456027034{margin-bottom: 0px !important;}”]Timings: 8.45 am – 6.30 pm \nPrice: ₹ 36\,500 (lunch included) \nPlease read the General Information before you apply for this intensive.[/vc_column_text][/vc_column][/vc_row]
URL:https://www.quiethealingcenter.info/course/tantsu-1-with-xavier-boisson-dariya/
LOCATION:Quiet Healing Center\, India
CATEGORIES:2017,2026
ATTACH;FMTTYPE=image/jpeg:https://www.quiethealingcenter.info/wp-content/uploads/2017/10/tantsu-1000-01-custom.jpg
END:VEVENT
BEGIN:VEVENT
DTSTART;VALUE=DATE:20260327
DTEND;VALUE=DATE:20260402
DTSTAMP:20260421T123634
CREATED:20250716T075309Z
LAST-MODIFIED:20250716T075309Z
UID:9190-1774569600-1775087999@www.quiethealingcenter.info
SUMMARY:Watsu® 1 with Elisa Muñoz Blanco & Fred
DESCRIPTION:[vc_row][vc_column][vc_column_text css=”.vc_custom_1748184131988{margin-bottom: 0px !important;}”]A 6-day course on the surface.\nCreated by Harold Dull in the 1980s\, Watsu is given in a warm water pool (ideally 35°C) and known as the mother of all other aquatic bodywork modalities.[/vc_column_text][/vc_column][/vc_row][vc_row css=”.vc_custom_1518295003769{margin-top: 10px !important;padding-top: 10px !important;}”][vc_column width=”1/2″][vc_single_image image=”9201″ img_size=”full” css=””][/vc_column][vc_column width=”1/2″][vc_single_image image=”9202″ img_size=”full” css=””][/vc_column][/vc_row][vc_row][vc_column][vc_column_text css=”.vc_custom_1721585574412{margin-bottom: 0px !important;}”]In this 50-hour course\, you will first learn the basic movements and positions of Watsu. Then\, you will connect them with long\, gracefully flowing transitions and adapt this work to people of different sizes\, shapes\, and dispositions. \nAt the same time\, you will practise basic qualities such as grounding\, presence\, stillness\, movement\, and attention in moving another person in water. You will experience floating others and being floated\, thereby creating space for deep relaxation and nurturing body\, mind and spirit. \nOn land\, you will be introduced to both Co-Centering and Tantsu\, and explore what it means to be held for yourself and others.\nBy the end of this course\, you will have learnt the complete Watsu 1 sequence for further practice sessions till you feel ready to move on to Watsu 2.[/vc_column_text][/vc_column][/vc_row][vc_row][vc_column][vc_column_text css=”.vc_custom_1714824539822{margin-top: 15px !important;margin-bottom: 0px !important;padding-top: 15px !important;}”]Prerequisites: No previous experience required. \nCredits: Watsu 1 is recognized by WABA (Worldwide Aquatic Bodywork Association) as part of the Watsu training program and gives 50 hours of credit for registration with WABA and Watsu India. \n  \n[/vc_column_text][/vc_column][/vc_row][vc_row][vc_column][vc_row_inner css=”.vc_custom_1525959818999{margin-top: 20px !important;padding-top: 20px !important;}”][vc_column_inner width=”1/4″][vc_single_image image=”9302″ img_size=”430×538″ css=””][/vc_column_inner][vc_column_inner width=”3/4″][vc_column_text css=”.vc_custom_1752433448694{margin-bottom: 0px !important;}”]Prof. Elisa Muñoz Blanco\, PT\, MSc\, WABA Certified Senior Instructor \nElisa Muñoz Blanco is a senior Watsu instructor\, leading physiotherapist\, and pioneer in aquatic therapies. With over two decades of experience\, she has developed Craniosacral Therapy in Water™ and integrates advanced body-mind approaches in her work.\nFounder of the Watsupath™ Training Institute\, Elisa has trained countless professionals worldwide. She is also an accomplished author and international speaker\, known for combining scientific rigour with deep compassion.\nElisa teaches at renowned universities and hospitals and continues her clinical work alongside studies in Psychosomatic Medicine\, affirming her holistic vision of health.[/vc_column_text][/vc_column_inner][/vc_row_inner][vc_row_inner css=”.vc_custom_1525959818999{margin-top: 20px !important;padding-top: 20px !important;}”][vc_column_inner width=”1/4″][vc_single_image image=”5827″ img_size=”430×538″ css=””][/vc_column_inner][vc_column_inner width=”3/4″][vc_column_text css=”.vc_custom_1751745625440{margin-bottom: 0px !important;}”]Fred \nFred has been teaching for over 30 years\, sharing his knowledge across a variety of subjects including physical education\, learning strategies\, and cooperative practices.\nThe art of transmitting knowledge has always been his true passion.\nHe is a certified instructor of Watsu Basic and OBA (Basic\, 1\, 2\, and 3).[/vc_column_text][/vc_column_inner][/vc_row_inner][vc_column_text css=”.vc_custom_1750457735885{margin-top: 20px !important;margin-bottom: 0px !important;padding-top: 20px !important;}”]Timings: 8.45 am – 6.30 pm \nPrice: ₹ 36\,500 (lunch included) \nPlease read the General Information before you apply for this course.[/vc_column_text][/vc_column][/vc_row]
URL:https://www.quiethealingcenter.info/course/watsu-1-with-elisa-munoz-blanco-fred/
LOCATION:Quiet Healing Center\, India
CATEGORIES:2023,2024,2025,2026
ATTACH;FMTTYPE=image/jpeg:https://www.quiethealingcenter.info/wp-content/uploads/2025/07/featured-image-watsu-1-elisa.jpg
END:VEVENT
END:VCALENDAR