BEGIN:VCALENDAR
VERSION:2.0
PRODID:-//Quiet Healing Center - ECPv6.11.2.1//NONSGML v1.0//EN
CALSCALE:GREGORIAN
METHOD:PUBLISH
X-ORIGINAL-URL:https://www.quiethealingcenter.info
X-WR-CALDESC:Events for Quiet Healing Center
REFRESH-INTERVAL;VALUE=DURATION:PT1H
X-Robots-Tag:noindex
X-PUBLISHED-TTL:PT1H
BEGIN:VTIMEZONE
TZID:UTC
BEGIN:STANDARD
TZOFFSETFROM:+0000
TZOFFSETTO:+0000
TZNAME:UTC
DTSTART:20200101T000000
END:STANDARD
END:VTIMEZONE
BEGIN:VEVENT
DTSTART;VALUE=DATE:20200416
DTEND;VALUE=DATE:20200421
DTSTAMP:20260424T004337
CREATED:20190701T231200Z
LAST-MODIFIED:20190701T231200Z
UID:3609-1586995200-1587427199@www.quiethealingcenter.info
SUMMARY:Watsu® 1 (Transition Flow) with Dariya & Daniel
DESCRIPTION:[vc_row][vc_column][vc_column_text css=”.vc_custom_1538286295912{margin-bottom: 0px !important;}”]A 5-day course on the surface only.[/vc_column_text][/vc_column][/vc_row][vc_row css=”.vc_custom_1514262911343{margin-top: 10px !important;padding-top: 10px !important;}”][vc_column][vc_column_text css=”.vc_custom_1538286328403{margin-bottom: 0px !important;}”]In this course you will be taught to connect the basic movements and positions you have learned in Watsu Basic with long\, gracefully flowing transitions and to adapt this work to people of different sizes\, shapes\, and dispositions.[/vc_column_text][vc_row_inner css=”.vc_custom_1514262982910{margin-top: 5px !important;padding-top: 5px !important;}”][vc_column_inner width=”1/2″][vc_single_image image=”1525″ img_size=”1000×750″][/vc_column_inner][vc_column_inner width=”1/2″][vc_single_image image=”1526″ img_size=”1000×750″][/vc_column_inner][/vc_row_inner][/vc_column][/vc_row][vc_row css=”.vc_custom_1514263101990{margin-top: 0px !important;padding-top: 0px !important;}”][vc_column][vc_column_text css=”.vc_custom_1538286359666{margin-bottom: 0px !important;}”]You will also learn about your own body mechanics and how to support and move each person as effortlessly as possible.[/vc_column_text][/vc_column][/vc_row][vc_row css=”.vc_custom_1514262719624{margin-top: 15px !important;padding-top: 15px !important;}”][vc_column width=”1/4″][/vc_column][vc_column width=”1/2″][vc_single_image image=”1412″ img_size=”1000×750″ alignment=”center”][/vc_column][vc_column width=”1/4″][/vc_column][/vc_row][vc_row css=”.vc_custom_1514354459415{margin-top: 5px !important;padding-top: 5px !important;}”][vc_column][vc_column_text css=”.vc_custom_1538286471176{margin-bottom: 0px !important;}”]\nOn land\, you will be introduced to both Co-Centering and Tantsu\, and explore what being held means to you and others. \n[/vc_column_text][/vc_column][/vc_row][vc_row css=”.vc_custom_1514354459415{margin-top: 5px !important;padding-top: 5px !important;}”][vc_column][vc_column_text css=”.vc_custom_1538286534033{margin-top: 15px !important;margin-bottom: 0px !important;padding-top: 15px !important;}”]Prerequisites:\nWatsu & Liquid Flow Basic or Watsu Basic & OBA Intro or Watsu Basic. \nCredits: Watsu 1 is recognized by WABA (Worldwide Aquatic Bodywork Association) as part of the Watsu training program and gives 34 hours of credit for registration with WABA and Watsu India.[/vc_column_text][vc_row_inner css=”.vc_custom_1514354980177{margin-top: 20px !important;padding-top: 20px !important;}”][vc_column_inner width=”1/4″][vc_single_image image=”1515″ img_size=”430×673″][/vc_column_inner][vc_column_inner width=”3/4″][vc_column_text css=”.vc_custom_1514354821521{margin-bottom: 0px !important;}”]Dariya (as WABA facilitator) & Daniel have been sharing their passion for aquatic body­work with groups since 2004. \nBesides the belief that a solid technical base provides possi­bilities for ease and lightness in further personal growth\, their main focus is to create spaces for flow\, deepening and connection.[/vc_column_text][/vc_column_inner][/vc_row_inner][/vc_column][/vc_row][vc_row css=”.vc_custom_1518336025008{margin-top: 20px !important;padding-top: 20px !important;}”][vc_column][vc_column_text css=”.vc_custom_1562022717049{margin-bottom: 0px !important;}”]Timings: 9.00 – 6.00 PM \nPrice: ₹ 21\,250 (lunch included) \nPlease read the General Information before you apply for this course.[/vc_column_text][/vc_column][/vc_row]
URL:https://www.quiethealingcenter.info/course/watsu-1-transition-flow-with-dariya-daniel-7/
LOCATION:Quiet Healing Center\, India
CATEGORIES:2020
ATTACH;FMTTYPE=image/jpeg:https://www.quiethealingcenter.info/wp-content/uploads/2017/10/dariya-watsu-1-1000-03.jpg
END:VEVENT
BEGIN:VEVENT
DTSTART;VALUE=DATE:20200418
DTEND;VALUE=DATE:20200420
DTSTAMP:20260424T004337
CREATED:20200218T033243Z
LAST-MODIFIED:20200218T033940Z
UID:4275-1587168000-1587340799@www.quiethealingcenter.info
SUMMARY:Conscious Touch with Bodhi & Verena
DESCRIPTION:[vc_row][vc_column][vc_column_text css=”.vc_custom_1581997143728{margin-bottom: 0px !important;}”]A workshop to explore how to touch with simple massage techniques. \nThis workshop is designed to enhance the quality of Touch. Being aware of oneself while giving attention to another person is a fundamental practice for all flourishing and sustainable relationships. This is especially important in giving and receiving Conscious Touch in Massage.[/vc_column_text][/vc_column][/vc_row][vc_row css=”.vc_custom_1514522279810{margin-top: 10px !important;padding-top: 10px !important;}”][vc_column width=”1/2″][vc_single_image image=”3367″ img_size=”full”][/vc_column][vc_column width=”1/2″][vc_single_image image=”3066″ img_size=”full”][/vc_column][/vc_row][vc_row][vc_column][vc_column_text css=”.vc_custom_1581997168153{margin-bottom: 0px !important;}”]Conscious Touch a powerful skill for deepening connection in all kinds of relationships. During the workshop you will experience different ways to get into deep heart contact and to practice essential elements of massage. \nGoals: \n\nGetting a better knowledge of the body\nLearning basic massage techniques\nGrowing self awareness\nGetting a deeper contact to oneself\, while giving attention to another person\nThese massage techniques can be shared with children\, family and friends.\n\nThe Seminar is open to all who would like to learn how to touch with love\, care\, presence\, and skill. \nThe workshop is also useful for those in helping and healing professions. \n  \nPrerequisites: No previous knowledge required. \n[/vc_column_text][/vc_column][/vc_row][vc_row css=”.vc_custom_1525959319424{margin-top: 20px !important;padding-top: 20px !important;}”][vc_column width=”1/4″][vc_single_image image=”3645″ img_size=”430×538″][/vc_column][vc_column width=”3/4″][vc_column_text css=”.vc_custom_1581996708502{margin-bottom: 0px !important;}”]\nBodhi\n \nBodhi is a Certified Holistic Therapist. She has a Diploma in Shiatsu and Divine Healing Exercises (O.D.H.A. School). She is trained in Body Balancing Biodynamic Massage\, Kobido Massage\, Reiki and Breathwork. She enjoys sharing her skills with others. \n  \n[/vc_column_text][/vc_column][/vc_row][vc_row css=”.vc_custom_1525959319424{margin-top: 20px !important;padding-top: 20px !important;}”][vc_column width=”1/4″][vc_single_image image=”3749″ img_size=”430×538″][/vc_column][vc_column width=”3/4″][vc_column_text css=”.vc_custom_1581996723155{margin-bottom: 0px !important;}”]\nVerena\n \nVerena studied social work (Diplom)\, is an Esalen®️ Massage Therapist\, Wingwave®️ Coach and Progressive Muscle Relaxation Trainer (Dr. E. Jacobsen). She is experienced in working with groups and likes to share the approach of being in heart full contact. \n  \n  \n[/vc_column_text][/vc_column][/vc_row][vc_row css=”.vc_custom_1514522448560{margin-top: 15px !important;padding-top: 15px !important;}”][vc_column][vc_column_text css=”.vc_custom_1581996754227{margin-bottom: 0px !important;}”]\nTimings: Saturday: 9.30 AM – 6.00 PM / Sunday: 9.00 AM – 4.00 PM \nPrice: ₹ 5\,950 (lunch included) \nPlease read the General Information before you apply for this course. \n[/vc_column_text][/vc_column][/vc_row]
URL:https://www.quiethealingcenter.info/course/conscious-touch-with-bodhi-verena-3/
LOCATION:Quiet Healing Center\, India
CATEGORIES:2020
ATTACH;FMTTYPE=image/jpeg:https://www.quiethealingcenter.info/wp-content/uploads/2019/02/esalen-1000-01-medium.jpg
END:VEVENT
END:VCALENDAR