BEGIN:VCALENDAR
VERSION:2.0
PRODID:-//Quiet Healing Center - ECPv6.11.2.1//NONSGML v1.0//EN
CALSCALE:GREGORIAN
METHOD:PUBLISH
X-ORIGINAL-URL:https://www.quiethealingcenter.info
X-WR-CALDESC:Events for Quiet Healing Center
REFRESH-INTERVAL;VALUE=DURATION:PT1H
X-Robots-Tag:noindex
X-PUBLISHED-TTL:PT1H
BEGIN:VTIMEZONE
TZID:UTC
BEGIN:STANDARD
TZOFFSETFROM:+0000
TZOFFSETTO:+0000
TZNAME:UTC
DTSTART:20200101T000000
END:STANDARD
END:VTIMEZONE
BEGIN:VEVENT
DTSTART;VALUE=DATE:20200326
DTEND;VALUE=DATE:20200401
DTSTAMP:20260422T215458
CREATED:20190708T092240Z
LAST-MODIFIED:20200219T121515Z
UID:3601-1585180800-1585699199@www.quiethealingcenter.info
SUMMARY:Shamanic Aquatic Bodywork with Shanti & Helen
DESCRIPTION:[vc_row][vc_column][vc_column_text css=”.vc_custom_1560889339850{margin-bottom: 0px !important;}”]A 6-day course.[/vc_column_text][/vc_column][/vc_row][vc_row css=”.vc_custom_1514526483386{margin-top: 10px !important;padding-top: 10px !important;}”][vc_column width=”1/3″][vc_single_image image=”4284″ img_size=”350×450″][/vc_column][vc_column width=”2/3″][vc_column_text css=”.vc_custom_1560893927392{margin-bottom: 0px !important;}”]Water is one of the main elements in Nature\, and the most important\, because life itself creates new life forms in water. \n  \nWe will initiate you into our holistic view of aquatic bodywork\, including all elements of nature\, finding the interconnectedness of earth\, water\, fire and air within ourselves! \n  \nWe will work in water and on land with the potential and resources of each one of you individually\, finding your unique strengths\, beauty and gifts you share with the world (and your clients).[/vc_column_text][/vc_column][/vc_row][vc_row][vc_column][vc_column_text css=”.vc_custom_1582114166006{margin-bottom: 0px !important;}”]Together we will rediscover the magic healing power of aquatic body work: touch with full awareness\, intention\, heart-connection\, peaceful mind\, being connected with the breath of life itself in harmony with our inner and outer nature\, which we will celebrate during our time together. \n  \n[/vc_column_text][vc_row_inner][vc_column_inner width=”1/2″][vc_single_image image=”4287″ img_size=”full”][/vc_column_inner][vc_column_inner width=”1/2″][vc_single_image image=”4286″ img_size=”full”][/vc_column_inner][/vc_row_inner][/vc_column][/vc_row][vc_row][vc_column][vc_row_inner css=”.vc_custom_1514526571368{margin-top: 20px !important;padding-top: 20px !important;}”][vc_column_inner][vc_column_text css=”.vc_custom_1582114221033{margin-bottom: 0px !important;}”]Prerequisites: Watsu & Liquid Flow Basic or Watsu Basic & OBA Basic. \nCredits: Shamanic Aquatic Bodywork is recognized by WABA (Worldwide Aquatic Bodywork Association) and gives 50 hours of credit for registration as a supplementary class with WABA (Worldwide Aquatic Bodywork Association) and as an elective with Watsu India. \nShamanic Aquatic Bodywork is recognized as Waterdance 3 for those participants\, who have already done Waterdance 2 & logged 10 Waterdance 2 practice sessions.[/vc_column_text][/vc_column_inner][/vc_row_inner][/vc_column][/vc_row][vc_row][vc_column][vc_row_inner css=”.vc_custom_1514526571368{margin-top: 20px !important;padding-top: 20px !important;}”][vc_column_inner width=”1/4″][vc_single_image image=”3706″ img_size=”673×430″][/vc_column_inner][vc_column_inner width=”3/4″][vc_column_text css=”.vc_custom_1560888844990{margin-bottom: 0px !important;}”]Shanti & Helen \nShanti & Helen are trained in prenatal shock therapy\, shamanic family constellation and other nature connected modalities\, as well as highly experienced long time Watsu and WaterDance instructors.\n[/vc_column_text][/vc_column_inner][/vc_row_inner][/vc_column][/vc_row][vc_row][vc_column][mk_padding_divider size=”30″][vc_column_text css=”.vc_custom_1560888880459{margin-bottom: 0px !important;}”]Timings: 8.45 AM – 6.30 PM \nPrice: ₹ 29\,500 (lunch included) \nPlease read the General Information before you apply for this course.[/vc_column_text][/vc_column][/vc_row]
URL:https://www.quiethealingcenter.info/course/shamanic-aquatic-bodywork-with-shanti-helen/
LOCATION:Quiet Healing Center\, India
CATEGORIES:2020
ATTACH;FMTTYPE=image/jpeg:https://www.quiethealingcenter.info/wp-content/uploads/2019/07/shamanic-04-medium.jpg
END:VEVENT
END:VCALENDAR