BEGIN:VCALENDAR
VERSION:2.0
PRODID:-//Quiet Healing Center - ECPv6.11.2.1//NONSGML v1.0//EN
CALSCALE:GREGORIAN
METHOD:PUBLISH
X-WR-CALNAME:Quiet Healing Center
X-ORIGINAL-URL:https://www.quiethealingcenter.info
X-WR-CALDESC:Events for Quiet Healing Center
REFRESH-INTERVAL;VALUE=DURATION:PT1H
X-Robots-Tag:noindex
X-PUBLISHED-TTL:PT1H
BEGIN:VTIMEZONE
TZID:UTC
BEGIN:STANDARD
TZOFFSETFROM:+0000
TZOFFSETTO:+0000
TZNAME:UTC
DTSTART:20200101T000000
END:STANDARD
END:VTIMEZONE
BEGIN:VEVENT
DTSTART;VALUE=DATE:20200318
DTEND;VALUE=DATE:20200324
DTSTAMP:20260424T020312
CREATED:20190708T092539Z
LAST-MODIFIED:20190709T181858Z
UID:3591-1584489600-1585007999@www.quiethealingcenter.info
SUMMARY:WaterDance 2 with Shanti & Helen
DESCRIPTION:[vc_row][vc_column][vc_column_text css=”.vc_custom_1560895412543{margin-bottom: 0px !important;}”]A 6-day course\, mainly under water. \nIn this course\, you will build upon the skills learned and integrated in WaterDance 1. Your perception of WaterDance’s potential will expand pro­foundly\, while you increasingly incorporate its principles and master the movement-material within a broader repertoire of underwater moves\, ad­vanced holdings and techniques.[/vc_column_text][/vc_column][/vc_row][vc_row css=”.vc_custom_1514526010013{margin-top: 10px !important;padding-top: 10px !important;}”][vc_column width=”1/2″][vc_single_image image=”3739″ img_size=”1000×750″][/vc_column][vc_column width=”1/2″][vc_single_image image=”3732″ img_size=”1000×750″][/vc_column][/vc_row][vc_row][vc_column][vc_column_text css=”.vc_custom_1560895422853{margin-bottom: 0px !important;}”]Step by step\, you will also learn how to effortlessly link different ‘ideas’ into an artful choreography of a graceful\, seamless continuum-flow. \nAs an apprentice in the art of breath-connection\, rhythm\, gentleness and clarity\, you will enter into an interactive flow of breath and open a new space of joy and silence within you and your clients.[/vc_column_text][vc_row_inner css=”.vc_custom_1514526187989{margin-top: 20px !important;padding-top: 20px !important;}”][vc_column_inner][vc_column_text css=”.vc_custom_1562696337622{margin-bottom: 0px !important;}”]Prerequisites: WaterDance 1 and 10 practice sessions (or according to teacher’s evaluation). \nCredits: WaterDance 2 is recognized by WABA (Worldwide Aquatic Bodywork Association) and gives 50 hours of credit for registration with WABA and Watsu India. \n[/vc_column_text][/vc_column_inner][/vc_row_inner][/vc_column][/vc_row][vc_row][vc_column][vc_row_inner css=”.vc_custom_1514526187989{margin-top: 20px !important;padding-top: 20px !important;}”][vc_column_inner width=”1/4″][vc_single_image image=”3706″ img_size=”673×430″][/vc_column_inner][vc_column_inner width=”3/4″][vc_column_text css=”.vc_custom_1560895337273{margin-bottom: 0px !important;}”]Shanti & Helen \nShanti & Helen are trained in prenatal shock therapy\, shamanic family constellation and other nature connected modalities\, as well as highly experienced long time Watsu and WaterDance instructors.\n[/vc_column_text][/vc_column_inner][/vc_row_inner][/vc_column][/vc_row][vc_row css=”.vc_custom_1514526154744{margin-top: 20px !important;padding-top: 20px !important;}”][vc_column][vc_column_text css=”.vc_custom_1562577934287{margin-bottom: 0px !important;}”]Timings: 8.45 AM – 6.30 PM \nPrice: ₹ 29\,950 (lunch included) \nPlease read the General Information before you apply for this course.[/vc_column_text][/vc_column][/vc_row]
URL:https://www.quiethealingcenter.info/course/waterdance-2-with-shanti-helen/
LOCATION:Quiet Healing Center\, India
CATEGORIES:2020
ATTACH;FMTTYPE=image/jpeg:https://www.quiethealingcenter.info/wp-content/uploads/2019/06/shanti-flying1000.jpg
END:VEVENT
BEGIN:VEVENT
DTSTART;VALUE=DATE:20200321
DTEND;VALUE=DATE:20200323
DTSTAMP:20260424T020312
CREATED:20190922T155803Z
LAST-MODIFIED:20191122T061306Z
UID:3971-1584748800-1584921599@www.quiethealingcenter.info
SUMMARY:Open Heart-Space Meditation Workshop with Samrat
DESCRIPTION:[vc_row][vc_column][vc_column_text css=”.vc_custom_1563272224724{margin-bottom: 0px !important;padding-bottom: 0px !important;}”]Open Heart-Space Meditation is a simple practice of becoming aware of the reality as it is without judgment\, interpretation or reaction\, and settling into its vast\, luminous expanse.[/vc_column_text][/vc_column][/vc_row][vc_row css=”.vc_custom_1514262171038{margin-top: 15px !important;padding-top: 15px !important;}”][vc_column width=”1/3″][vc_single_image image=”1697″ img_size=”1000×1750″][/vc_column][vc_column width=”2/3″][vc_column_text css=”.vc_custom_1563272785417{margin-bottom: 0px !important;}”]We learn to embrace and let go of each experience as it arises and subsides. Eventually\, the mind falls silent and sinks into the open heart-space\, a doorway to oneness\, where the inner and outer worlds meet and merge. \nWe use practices from insight meditation and various spiritual traditions to help dissolve habitual patterns of closing ourselves from the reality that is ever-present in each moment. \nThe key pointers during this workshop will be dropping our identities and opening to an embrace of awareness and love.[/vc_column_text][/vc_column][/vc_row][vc_row][vc_column][vc_column_text css=”.vc_custom_1563272772506{margin-bottom: 0px !important;}”]No previous experience needed to attend this workshop![/vc_column_text][/vc_column][/vc_row][vc_row css=”.vc_custom_1525958152362{margin-top: 20px !important;padding-top: 20px !important;}”][vc_column width=”1/4″ css=”.vc_custom_1514261653544{margin-top: 5px !important;padding-top: 5px !important;}”][vc_single_image image=”2917″ img_size=”430×538″][/vc_column][vc_column width=”3/4″][vc_column_text css=”.vc_custom_1563277943920{margin-bottom: 0px !important;}”]Samrat \nSamrat Das grew up in the Integral Yoga Ashram of Sri Aurobindo and the Mother at Pondicherry\, India\, for 21 years. He has been living in Auroville\, an international township within India which aims towards human unity\, for the past 20 years.[/vc_column_text][/vc_column][/vc_row][vc_row css=”.vc_custom_1514262268909{margin-top: 15px !important;padding-top: 15px !important;}”][vc_column][vc_row_inner css=”.vc_custom_1514262311359{margin-top: 0px !important;padding-top: 0px !important;}”][vc_column_inner][vc_column_text css=”.vc_custom_1569167677754{margin-bottom: 0px !important;}”]Timings: 9.30 AM -12.30 PM \nPrice: ₹ 2\,550 \nPlease read the General Information before you apply for this wotkshop.[/vc_column_text][/vc_column_inner][/vc_row_inner][/vc_column][/vc_row]
URL:https://www.quiethealingcenter.info/course/open-heart-space-meditation-workshop-with-samrat-2-2-2-2-2-2-2/
LOCATION:Quiet Healing Center\, India
CATEGORIES:2020
ATTACH;FMTTYPE=image/jpeg:https://www.quiethealingcenter.info/wp-content/uploads/2019/10/individual-meditation-sessions-overview.jpg
END:VEVENT
END:VCALENDAR