BEGIN:VCALENDAR
VERSION:2.0
PRODID:-//Quiet Healing Center - ECPv6.11.2.1//NONSGML v1.0//EN
CALSCALE:GREGORIAN
METHOD:PUBLISH
X-WR-CALNAME:Quiet Healing Center
X-ORIGINAL-URL:https://www.quiethealingcenter.info
X-WR-CALDESC:Events for Quiet Healing Center
REFRESH-INTERVAL;VALUE=DURATION:PT1H
X-Robots-Tag:noindex
X-PUBLISHED-TTL:PT1H
BEGIN:VTIMEZONE
TZID:UTC
BEGIN:STANDARD
TZOFFSETFROM:+0000
TZOFFSETTO:+0000
TZNAME:UTC
DTSTART:20200101T000000
END:STANDARD
END:VTIMEZONE
BEGIN:VEVENT
DTSTART;VALUE=DATE:20200305
DTEND;VALUE=DATE:20200311
DTSTAMP:20260424T071506
CREATED:20190708T092717Z
LAST-MODIFIED:20190709T181806Z
UID:3590-1583366400-1583884799@www.quiethealingcenter.info
SUMMARY:WaterDance 1 with Shanti & Helen
DESCRIPTION:[vc_row][vc_column][vc_column_text css=”.vc_custom_1562696259183{margin-bottom: 0px !important;}”]A 6-day course\, mainly under water. \nWaterDance (also known as WATA or WasserTanzen) is a dynamic\, mind- and playful movement therapy. It was developed by Peter Schröter and Arjana C. Brunschwiler in the late 80s.[/vc_column_text][/vc_column][/vc_row][vc_row css=”.vc_custom_1514524611789{margin-top: 10px !important;padding-top: 10px !important;}”][vc_column width=”1/2″][vc_single_image image=”3733″ img_size=”1000×750″][/vc_column][vc_column width=”1/2″][vc_single_image image=”3740″ img_size=”1000×750″][/vc_column][/vc_row][vc_row css=”.vc_custom_1514524853996{margin-top: 0px !important;padding-top: 0px !important;}”][vc_column][vc_column_text css=”.vc_custom_1560894779424{margin-bottom: 0px !important;}”]This course teaches the WaterDance Short Form\, a simple but effective sequence\, which gives you all the basic skills to take someone under water with a nose clip. \nYou will learn to establish – with full presence and awareness – an appropriate rhythm in alignment with your client’s individual breathing needs. \nMastering the art of breath-connection will enable you to establish a deep bond with your client in a session that inspires trust\, kindles confidence\, and offers presence and attentiveness which is essential when bringing someone gently under water. \n  \n[/vc_column_text][vc_row_inner][vc_column_inner][vc_column_text css=”.vc_custom_1560894673078{margin-bottom: 0px !important;}”]Prerequisite: Watsu & Liquid Flow Basic or Watsu & OBA Basic. \nCredits: WaterDance 1 is recognized by WABA (Worldwide Aquatic Bodywork Association) and gives 50 hours of credit for registration with WABA and Watsu India. \n  \n[/vc_column_text][/vc_column_inner][/vc_row_inner][vc_row_inner][vc_column_inner width=”1/4″][vc_single_image image=”3706″ img_size=”673×430″][/vc_column_inner][vc_column_inner width=”3/4″][vc_column_text css=”.vc_custom_1560894623632{margin-bottom: 0px !important;}”]Shanti & Helen \nShanti & Helen are trained in prenatal shock therapy\, shamanic family constellation and other nature connected modalities\, as well as highly experienced long time Watsu and WaterDance instructors.\n[/vc_column_text][/vc_column_inner][/vc_row_inner][/vc_column][/vc_row][vc_row css=”.vc_custom_1514525037028{margin-top: 20px !important;padding-top: 20px !important;}”][vc_column][vc_column_text css=”.vc_custom_1562578032709{margin-bottom: 0px !important;}”]Timings: 8.45 AM – 6.30 PM \nPrice: ₹ 29\,950 (lunch included) \nPlease read the General Information before you apply for this course.[/vc_column_text][/vc_column][/vc_row]
URL:https://www.quiethealingcenter.info/course/waterdance-1-with-shanti-helen/
LOCATION:Quiet Healing Center\, India
CATEGORIES:2020
ATTACH;FMTTYPE=image/jpeg:https://www.quiethealingcenter.info/wp-content/uploads/2019/06/shanti-on-the-side-signed-1000.jpg
END:VEVENT
END:VCALENDAR