BEGIN:VCALENDAR
VERSION:2.0
PRODID:-//Quiet Healing Center - ECPv6.11.2.1//NONSGML v1.0//EN
CALSCALE:GREGORIAN
METHOD:PUBLISH
X-WR-CALNAME:Quiet Healing Center
X-ORIGINAL-URL:https://www.quiethealingcenter.info
X-WR-CALDESC:Events for Quiet Healing Center
REFRESH-INTERVAL;VALUE=DURATION:PT1H
X-Robots-Tag:noindex
X-PUBLISHED-TTL:PT1H
BEGIN:VTIMEZONE
TZID:UTC
BEGIN:STANDARD
TZOFFSETFROM:+0000
TZOFFSETTO:+0000
TZNAME:UTC
DTSTART:20200101T000000
END:STANDARD
END:VTIMEZONE
BEGIN:VEVENT
DTSTART;VALUE=DATE:20200227
DTEND;VALUE=DATE:20200304
DTSTAMP:20260423T073152
CREATED:20190701T231452Z
LAST-MODIFIED:20190709T183340Z
UID:3586-1582761600-1583279999@www.quiethealingcenter.info
SUMMARY:Watsu® 2 with Xavier Boisson
DESCRIPTION:[vc_row][vc_column][vc_column_text css=”.vc_custom_1562022920635{margin-bottom: 0px !important;}”]A 6-day course on the surface only. \nWatsu 2 expands the Transition Flow taught in Watsu 1. You learn additional movements and bodywork in each position and to incorporate them in a session. \nYou also learn about the meridians and acupressure points in Watsu and to creatively explore your own movements\, while following the client’s tendency to move.[/vc_column_text][vc_row_inner css=”.vc_custom_1518291696008{margin-top: 10px !important;padding-top: 10px !important;}”][vc_column_inner width=”1/2″][vc_single_image image=”1949″ img_size=”1000×750″][/vc_column_inner][vc_column_inner width=”1/2″][vc_single_image image=”1953″ img_size=”1000×750″][/vc_column_inner][/vc_row_inner][/vc_column][/vc_row][vc_row][vc_column][vc_column_text css=”.vc_custom_1538294293486{margin-bottom: 0px !important;}”]Practicing acupressure massage\, lifts\, pushes and pulls introduced at this stage\, helps developing the ability to explore and play with energy.[/vc_column_text][/vc_column][/vc_row][vc_row][vc_column][vc_column_text css=”.vc_custom_1562697219960{margin-top: 15px !important;margin-bottom: 0px !important;padding-top: 15px !important;}”]Prerequisites: Watsu 1. \nCredits: Watsu 2 is recognized by WABA (Worldwide Aquatic Bodywork Association) as part of the Watsu training program and gives 50 hours of credit for registration with WABA and Watsu India.[/vc_column_text][/vc_column][/vc_row][vc_row css=”.vc_custom_1525959577614{margin-top: 20px !important;padding-top: 20px !important;}”][vc_column width=”1/4″][vc_single_image image=”1849″ img_size=”430×538″][/vc_column][vc_column width=”3/4″][vc_column_text css=”.vc_custom_1518347096505{margin-bottom: 0px !important;}”]Xavier Boisson \nWABA facilitator for Watsu Basic\, Watsu 1 and 2 and Tantsu\, and a WaterDance practitioner. He is also specialized in working with pregnant women (and their partner).[/vc_column_text][/vc_column][/vc_row][vc_row][vc_column][vc_column_text css=”.vc_custom_1562022888750{margin-top: 20px !important;margin-bottom: 0px !important;padding-top: 20px !important;}”]Timings: 8.45 AM – 6.30 PM \nPrice: ₹ 30\,250 (lunch included) \nPlease read the General Information before you apply for this course.[/vc_column_text][/vc_column][/vc_row]
URL:https://www.quiethealingcenter.info/course/watsu-2-with-xavier-boisson-3/
LOCATION:Quiet Healing Center\, India
CATEGORIES:2020
ATTACH;FMTTYPE=image/jpeg:https://www.quiethealingcenter.info/wp-content/uploads/2017/10/xavier-watsu-2-1000-13-custom.jpg
END:VEVENT
END:VCALENDAR