BEGIN:VCALENDAR
VERSION:2.0
PRODID:-//Quiet Healing Center - ECPv6.11.2.1//NONSGML v1.0//EN
CALSCALE:GREGORIAN
METHOD:PUBLISH
X-WR-CALNAME:Quiet Healing Center
X-ORIGINAL-URL:https://www.quiethealingcenter.info
X-WR-CALDESC:Events for Quiet Healing Center
REFRESH-INTERVAL;VALUE=DURATION:PT1H
X-Robots-Tag:noindex
X-PUBLISHED-TTL:PT1H
BEGIN:VTIMEZONE
TZID:UTC
BEGIN:STANDARD
TZOFFSETFROM:+0000
TZOFFSETTO:+0000
TZNAME:UTC
DTSTART:20200101T000000
END:STANDARD
END:VTIMEZONE
BEGIN:VEVENT
DTSTART;VALUE=DATE:20200215
DTEND;VALUE=DATE:20200225
DTSTAMP:20260421T213220
CREATED:20190701T231357Z
LAST-MODIFIED:20190701T231357Z
UID:3576-1581724800-1582588799@www.quiethealingcenter.info
SUMMARY:Watsu® 1 (TF) & OBA® 1 - Fluid Body with Gianni De Stefani
DESCRIPTION:[vc_row][vc_column][vc_column_text css=”.vc_custom_1562022790150{margin-bottom: 0px !important;}”]This 8-day course (with a 2-day break after 5 days) on the surface as well as under water is a “classic” in our course repertoire. \nDuring the Transition Flow (TF)\, you will acquire the skills to connect the basic movements you have learned in Watsu Basic with long\, gracefully flowing transitions. \nYou will also learn about your own body mechanics and how to support and move each person as effortlessly as possible.[/vc_column_text][/vc_column][/vc_row][vc_row css=”.vc_custom_1518327218348{margin-top: 10px !important;padding-top: 10px !important;}”][vc_column width=”1/2″][vc_single_image image=”1562″ img_size=”1000×750″][/vc_column][vc_column width=”1/2″][vc_single_image image=”1800″ img_size=”1000×750″][/vc_column][/vc_row][vc_row][vc_column][vc_column_text css=”.vc_custom_1538292696518{margin-bottom: 0px !important;}”]OBA 1 – Fluid Body focuses mainly on underwater movements\, where the whole body can be moved in playful new ways.[/vc_column_text][vc_row_inner css=”.vc_custom_1518326792558{margin-top: 10px !important;padding-top: 10px !important;}”][vc_column_inner width=”2/3″][vc_single_image image=”1831″ img_size=”1000×638″][/vc_column_inner][vc_column_inner width=”1/3″][vc_single_image image=”1832″ img_size=”350×464″][/vc_column_inner][/vc_row_inner][vc_row_inner][vc_column_inner][vc_column_text css=”.vc_custom_1518326827586{margin-bottom: 0px !important;}”]Especially designed movements allow the whole spine to swing and let the energy flow again. Because of the weightlessness of the body in water\, the radius of joint movements becomes wider and the whole body can be moved in a playful and new way. Chronic physical pain as well as emotional tensions can be released. This form of therapy invites you to experience a completely unique way of healing in water and undertake a journey back to your origins\, into the endless depth of your inner ocean. \nOn land\, you will be introduced to both Co-Centering and Tantsu\, and explore and share what being held means to you and others.[/vc_column_text][/vc_column_inner][/vc_row_inner][vc_row_inner][vc_column_inner][vc_column_text css=”.vc_custom_1538292756104{margin-top: 15px !important;margin-bottom: 0px !important;padding-top: 15px !important;}”]Prerequisites:\nWatsu & Liquid Flow Basic or Watsu Basic & OBA Basic. \nCredits: Watsu 1 (TF) & OBA 1 – Fluid Body is recognized by WABA (Worldwide Aquatic Bodywork Association) as part of the Watsu training program and gives 59 hours of credit for registration with WABA and Watsu India.[/vc_column_text][/vc_column_inner][/vc_row_inner][/vc_column][/vc_row][vc_row][vc_column][vc_row_inner css=”.vc_custom_1525958644950{margin-top: 20px !important;padding-top: 20px !important;}”][vc_column_inner width=”1/4″][vc_single_image image=”1755″ img_size=”430×538″][/vc_column_inner][vc_column_inner width=”3/4″][vc_column_text css=”.vc_custom_1518347967446{margin-bottom: 0px !important;}”]Gianni De Stefani \nTravels worldwide since more than 30 years as organizer and WABA facilitator. He facilitates Watsu Basic\, Watsu 1\, 2 & 3\, Anatomy for Watsuer\, Adapted Watsu\, Watsu & Meditation\, Watsu for Babies\, OBA\, Woga\, Water Gymnastics and Rehab.[/vc_column_text][/vc_column_inner][/vc_row_inner][vc_column_text css=”.vc_custom_1562022829455{margin-top: 20px !important;margin-bottom: 0px !important;padding-top: 20px !important;}”]Timings: 8.45 AM – 6.30 PM (no course on 20 & 21) \nPrice: ₹ 36\,500 (lunch included) \nPlease read the General Information before you apply for this course.[/vc_column_text][/vc_column][/vc_row]
URL:https://www.quiethealingcenter.info/course/watsu-1-tf-oba-1-fluid-body-with-gianni-de-stefani-2/
LOCATION:Quiet Healing Center\, India
CATEGORIES:2020
ATTACH;FMTTYPE=image/jpeg:https://www.quiethealingcenter.info/wp-content/uploads/2017/10/watsu-gianni-1000-20-custom.jpg
END:VEVENT
BEGIN:VEVENT
DTSTART;VALUE=DATE:20200222
DTEND;VALUE=DATE:20200224
DTSTAMP:20260421T213220
CREATED:20191028T042852Z
LAST-MODIFIED:20191028T044057Z
UID:4102-1582329600-1582502399@www.quiethealingcenter.info
SUMMARY:Mantra & Yantra Sastra Workshop with Swami Omkar
DESCRIPTION:[vc_row][vc_column][vc_column_text css=”.vc_custom_1572237579446{margin-bottom: 0px !important;}”]Invoke the Divine Sound & Cosmic Energy inside You[/vc_column_text][/vc_column][/vc_row][vc_row css=”.vc_custom_1514522279810{margin-top: 10px !important;padding-top: 10px !important;}”][vc_column width=”2/3″][vc_single_image image=”3226″ img_size=”1000×750″][/vc_column][vc_column width=”1/3″][vc_column_text css=”.vc_custom_1572236867868{margin-bottom: 0px !important;}”]Mantra Sastra is the Indian science of cosmic sound\, which teaches that you can understand the creation through cosmic sound\, called mantra. By using mantra you can attain a higher spiritual level and merge with the supreme sound. \nPracticing mantra is one of the oldest yoga practices called Japa Yoga. Swami Omkar will guide you into the world of cosmic sound and teach you how to practice mantra in your daily life. Your mind and inner world will become vibrant and alive through practicing mantra.[/vc_column_text][/vc_column][/vc_row][vc_row css=”.vc_custom_1572236988133{margin-top: 0px !important;padding-top: 0px !important;}”][vc_column][vc_column_text css=”.vc_custom_1572236930462{margin-bottom: 0px !important;}”]Mantra Yoga helps to: \n\npromote mental and physical health;\n keep your living space and surroundings peaceful;\nunlock your brain activity to a higher level;\n create a vibrant life.\n\n[/vc_column_text][/vc_column][/vc_row][vc_row][vc_column][vc_row_inner css=”.vc_custom_1518329265299{margin-top: 10px !important;padding-top: 10px !important;}”][vc_column_inner width=”2/3″][vc_column_text css=”.vc_custom_1572237133132{margin-bottom: 0px !important;}”]Yantra Sastra is an ancient tool to access cosmic energy. Based on sacred geometry\, Yantra is a physical device\, which helps us to navigate through life; it can be energized and used as a tool for your life and beyond. \nIn this workshop\, you will create a Yantra for health\, wealth\, overcoming obstacles\, and for spiritual growth. You will draw your own Yantra and energize it. The workshop will also enable you to guide others to create their own Yantra for a better life. \nA copper plate\, copper needle (to draw your Yantra) and booklet are provided. \n  \n[/vc_column_text][/vc_column_inner][vc_column_inner width=”1/3″][vc_single_image image=”3227″ img_size=”750×638″][/vc_column_inner][/vc_row_inner][/vc_column][/vc_row][vc_row css=”.vc_custom_1518290516301{margin-top: 20px !important;padding-top: 20px !important;}”][vc_column width=”1/4″][vc_single_image image=”1781″ img_size=”430×538″][/vc_column][vc_column width=”3/4″][vc_column_text css=”.vc_custom_1572236609014{margin-bottom: 0px !important;}”]Swami Omkar\n \nSwami Omkar has been teaching Vedic science and wisdom in India and abroad. He likes to share his deep knowledge with everyone\, who is eager to learn these ancient Mantra and Yantra methods to improve their lives and realise their dreams.[/vc_column_text][/vc_column][/vc_row][vc_row css=”.vc_custom_1518290458448{margin-top: 20px !important;padding-top: 20px !important;}”][vc_column][vc_column_text css=”.vc_custom_1572236645264{margin-bottom: 0px !important;}”]\nTimings: 9.30 AM – 4.00 PM \nPrice: ₹ 7\,500 (lunch and material included) \nPlease read the General Information before you apply for this course. \n[/vc_column_text][/vc_column][/vc_row]
URL:https://www.quiethealingcenter.info/course/mantra-yantra-sastra-workshop-with-swami-omkar/
LOCATION:Quiet Healing Center\, India
CATEGORIES:2020
ATTACH;FMTTYPE=image/jpeg:https://www.quiethealingcenter.info/wp-content/uploads/2017/12/swami-omkar-portrait-1000-custom.jpg
END:VEVENT
BEGIN:VEVENT
DTSTART;VALUE=DATE:20200222
DTEND;VALUE=DATE:20200225
DTSTAMP:20260421T213220
CREATED:20190701T230056Z
LAST-MODIFIED:20190701T230102Z
UID:3579-1582329600-1582588799@www.quiethealingcenter.info
SUMMARY:Tantsu® 1 with Xavier Boisson (part 2)
DESCRIPTION:[vc_row][vc_column][vc_column_text css=”.vc_custom_1538293478333{margin-bottom: 0px !important;}”]A 6-day course in total\, this being part 2 (second 3 days). \nTantsu grew out of Watsu. Watsu is a form of aquatic bodywork developed in the 1980s by Harold Dull\, floating and stretching people in warm water. In Tantsu\, the unconditional holding of Watsu is brought back onto land. \nTantsu offers a deep state of listening and creates an unconditional union and cradle of connected breath and presence. The trust established by this cradle and its creative exploration make it ideal for giving a Tantsu session to anybody.[/vc_column_text][/vc_column][/vc_row][vc_row css=”.vc_custom_1518286318726{margin-top: 10px !important;padding-top: 10px !important;}”][vc_column width=”1/2″][vc_single_image image=”1643″ img_size=”1000×750″][/vc_column][vc_column width=”1/2″][vc_single_image image=”1645″ img_size=”1000×750″][/vc_column][/vc_row][vc_row][vc_column][vc_column_text css=”.vc_custom_1518286348471{margin-bottom: 0px !important;}”]During the first four days\, you will be exposed to the basics of Tantsu: cradling someone in a comfortable hold\, which gives access to a deep level of relaxation and stillness. The micro-movements that appear will guide your moves\, stretches and rotations of shoulders\, arms\, hips and legs\, thereby releasing blockages in the energy flow. \nThe following two days will take you deeper into body-listening and exploration of various possible body movements. You will also gain knowledge about meridians\, hara\, and the connection between mind and body. \nIn this intensive Tantsu will become a joyful expression of caring love.[/vc_column_text][/vc_column][/vc_row][vc_row][vc_column][vc_column_text css=”.vc_custom_1538293297528{margin-top: 15px !important;margin-bottom: 0px !important;padding-top: 15px !important;}”]Prerequisites:\nNo previous experience required. \nCredits: Tantsu 1 is recognized by WABA (Worldwide Aquatic Bodywork Association) as part of the Watsu training program and gives 50 hours of credit for registration with WABA and Watsu India.[/vc_column_text][vc_row_inner css=”.vc_custom_1525959091628{margin-top: 20px !important;padding-top: 20px !important;}”][vc_column_inner width=”1/4″][vc_single_image image=”1849″ img_size=”430×538″][/vc_column_inner][vc_column_inner width=”3/4″][vc_column_text css=”.vc_custom_1518329894399{margin-bottom: 0px !important;}”]Xavier Boisson \nWABA facilitator for Watsu Basic\, Watsu 1 and 2 and Tantsu\, and a WaterDance practitioner. He is also specialized in working with pregnant women (and their partner).[/vc_column_text][/vc_column_inner][/vc_row_inner][/vc_column][/vc_row][vc_row css=”.vc_custom_1518286419907{margin-top: 20px !important;padding-top: 20px !important;}”][vc_column][vc_column_text css=”.vc_custom_1562022053361{margin-bottom: 0px !important;}”]Timings: 8.45 AM – 6.30 PM \nPrice: ₹ 29\,250 (lunch included) for part 1 and 2 together. \nPlease read the General Information before you apply for this course.[/vc_column_text][/vc_column][/vc_row]
URL:https://www.quiethealingcenter.info/course/tantsu-1-with-xavier-boisson-part-2/
LOCATION:Quiet Healing Center\, India
CATEGORIES:2020
ATTACH;FMTTYPE=image/jpeg:https://www.quiethealingcenter.info/wp-content/uploads/2017/10/tantsu-1000-01-custom.jpg
END:VEVENT
END:VCALENDAR