BEGIN:VCALENDAR
VERSION:2.0
PRODID:-//Quiet Healing Center - ECPv6.11.2.1//NONSGML v1.0//EN
CALSCALE:GREGORIAN
METHOD:PUBLISH
X-ORIGINAL-URL:https://www.quiethealingcenter.info
X-WR-CALDESC:Events for Quiet Healing Center
REFRESH-INTERVAL;VALUE=DURATION:PT1H
X-Robots-Tag:noindex
X-PUBLISHED-TTL:PT1H
BEGIN:VTIMEZONE
TZID:UTC
BEGIN:STANDARD
TZOFFSETFROM:+0000
TZOFFSETTO:+0000
TZNAME:UTC
DTSTART:20200101T000000
END:STANDARD
END:VTIMEZONE
BEGIN:VEVENT
DTSTART;VALUE=DATE:20200131
DTEND;VALUE=DATE:20200207
DTSTAMP:20260424T084153
CREATED:20190701T225612Z
LAST-MODIFIED:20200131T124414Z
UID:3568-1580428800-1581033599@www.quiethealingcenter.info
SUMMARY:Inner Watsu® with Watsu India Team
DESCRIPTION:[vc_row][vc_column][vc_column_text css=”.vc_custom_1560885084309{margin-bottom: 0px !important;}”]This 7-day course is for experienced water students\, who want to dive deeper in the different layers of Watsu. \n“When your psychological energy returns beyond the period of the first childhood and penetrates in the heritage of your ancestral life\, it is here that your deep spiritual world\, whose existence you had never suspected\, opens itself wide.” C. G. Jung[/vc_column_text][vc_row_inner css=”.vc_custom_1518283886295{margin-top: 10px !important;padding-top: 10px !important;}”][vc_column_inner width=”1/3″][vc_single_image image=”1750″ img_size=”430×538″][/vc_column_inner][vc_column_inner width=”1/3″][vc_single_image image=”1751″ img_size=”430×538″][/vc_column_inner][vc_column_inner width=”1/3″][vc_single_image image=”1752″ img_size=”430×538″][/vc_column_inner][/vc_row_inner][/vc_column][/vc_row][vc_row][vc_column][vc_column_text css=”.vc_custom_1560884922143{margin-bottom: 0px !important;}”]With this beautiful citation of Jung\, we want to indicate the direction of the deep inner work that is carried out during this Inner Watsu course. Through an interdisciplinary approach and discussion on issues related to aquatic bodywork and personal growth\, you will deepen your experience and understanding of working with human beings in warm water.[/vc_column_text][vc_row_inner css=”.vc_custom_1518283911912{margin-top: 10px !important;padding-top: 10px !important;}”][vc_column_inner width=”2/3″][vc_single_image image=”1753″ img_size=”1000×750″][/vc_column_inner][vc_column_inner width=”1/3″][vc_single_image image=”1754″ img_size=”350×548″][/vc_column_inner][/vc_row_inner][/vc_column][/vc_row][vc_row][vc_column][vc_column_text css=”.vc_custom_1580474164588{margin-bottom: 0px !important;}”]In this intense course you will be exposed to different topics\, including Art of Touch\, Boundaries/Intimacy\, Chakras & Pranayama\, Communication skills\, DE.ME.LE (group and individual work)\, Ethics/Profession & Marketing\, powerful Meditation techniques\, Quality of Relation\, Rebirthing\, Self-Awareness/Breath-Awareness\, and Shiatsu. \n  \nPrerequisites: Watsu 2 or an equivalent course. \nCredits: Inner Watsu is recognized by WABA (Worldwide Aquatic Bodywork Association) as part of the Watsu training program and gives 50 hours of credit for registration with WABA and Watsu India. \n  \nThis course is guided by a collective team of teachers.[/vc_column_text][vc_row_inner][vc_column_inner width=”1/3″][vc_single_image image=”1755″ img_size=”430×538″][/vc_column_inner][vc_column_inner width=”1/3″][vc_single_image image=”1653″ img_size=”430×538″][/vc_column_inner][vc_column_inner width=”1/3″][vc_single_image image=”1756″ img_size=”430×538″][/vc_column_inner][/vc_row_inner][vc_row_inner][vc_column_inner][vc_column_text css=”.vc_custom_1560885007084{margin-bottom: 0px !important;}”]Please be aware that this is a deeply touching course and therefore avoid other activities during the time of the course![/vc_column_text][/vc_column_inner][/vc_row_inner][/vc_column][/vc_row][vc_row css=”.vc_custom_1518284345140{margin-top: 20px !important;padding-top: 20px !important;}”][vc_column][vc_column_text css=”.vc_custom_1562021767238{margin-bottom: 0px !important;}”]Timings: 9 AM – 6.30 PM (plus at least one evening!) \nPrice: Rs 29\,950 (lunch included) \nPlease read the General Information before you apply for this course.[/vc_column_text][/vc_column][/vc_row]
URL:https://www.quiethealingcenter.info/course/inner-watsu-with-watsu-india-team/
LOCATION:Quiet Healing Center\, India
CATEGORIES:2020
ATTACH;FMTTYPE=image/jpeg:https://www.quiethealingcenter.info/wp-content/uploads/2017/10/lotus-1000-03-custom.jpg
END:VEVENT
END:VCALENDAR