BEGIN:VCALENDAR
VERSION:2.0
PRODID:-//Quiet Healing Center - ECPv6.11.2.1//NONSGML v1.0//EN
CALSCALE:GREGORIAN
METHOD:PUBLISH
X-ORIGINAL-URL:https://www.quiethealingcenter.info
X-WR-CALDESC:Events for Quiet Healing Center
REFRESH-INTERVAL;VALUE=DURATION:PT1H
X-Robots-Tag:noindex
X-PUBLISHED-TTL:PT1H
BEGIN:VTIMEZONE
TZID:UTC
BEGIN:STANDARD
TZOFFSETFROM:+0000
TZOFFSETTO:+0000
TZNAME:UTC
DTSTART:20200101T000000
END:STANDARD
END:VTIMEZONE
BEGIN:VEVENT
DTSTART;VALUE=DATE:20200127
DTEND;VALUE=DATE:20200206
DTSTAMP:20260424T084024
CREATED:20190701T224652Z
LAST-MODIFIED:20200126T044841Z
UID:3757-1580083200-1580947199@www.quiethealingcenter.info
SUMMARY:Holistic Rebalancing Massage Training with Ananda
DESCRIPTION:[vc_row][vc_column][vc_single_image image=”1388″ img_size=”1125×250″][/vc_column][/vc_row][vc_row][vc_column][vc_column_text css=”.vc_custom_1539264251662{margin-bottom: 0px !important;padding-bottom: 0px !important;}”]“Body-mind-energy has a natural\, self-balancing\, self-healing capacity. The therapist simply plays the role of a catalyst using effective techniques\, loving energy and meditative presence.” \nHolistic Rebalancing is a powerful balancing tool for body-mind-energy based on healing techniques developed in 80’s. It’s a synthesis work combined with deep tissue massage\, joint release\, energy work\, breath work\, body awareness and meditation.[/vc_column_text][/vc_column][/vc_row][vc_row css=”.vc_custom_1514262171038{margin-top: 15px !important;padding-top: 15px !important;}”][vc_column width=”1/2″][vc_single_image image=”1508″ img_size=”1000×750″][vc_single_image image=”1510″ img_size=”1000×750″][/vc_column][vc_column width=”1/2″][vc_single_image image=”1509″ img_size=”1000×750″][vc_single_image image=”1511″ img_size=”1000×750″][/vc_column][/vc_row][vc_row][vc_column][vc_column_text css=”.vc_custom_1580009753756{margin-bottom: 0px !important;}”]In this 10-days course you will learn:\n• powerful techniques of joint release to melt & relax\, deep tissue massage to release pain/holdings/memory\, and energy work to heal from inside;\n• the physical and energetic body anatomy;\n• breath work and tools for body awareness;\n• reading and various approach of different body types;\n• 5 types of touch related to the 5 elements: water\, fire\, air\, earth\, space;\n• special focus on neck\, shoulder & back;\n• meditations to be healthy and energetic as a hollow bamboo for the natural healing process;\n• effective ways to give deep healing sessions effortlessly;\n• to hold space with changing body-mind-emotions-energy.[/vc_column_text][/vc_column][/vc_row][vc_row css=”.vc_custom_1525958152362{margin-top: 20px !important;padding-top: 20px !important;}”][vc_column width=”1/4″ css=”.vc_custom_1514261653544{margin-top: 5px !important;padding-top: 5px !important;}”][vc_single_image image=”1394″ img_size=”430×538″][/vc_column][vc_column width=”3/4″][vc_column_text css=”.vc_custom_1539183205579{margin-bottom: 0px !important;}”]Ananda is a meditator\, facilitator and therapist\, focusing on wellness and connecting with inner essence through body\, mind\, emotions and energy. \nHe started his journey long ago to travel inside and outside\, exploring various forms of yoga\, meditation\, mystics and energetic spaces. Practicing healing sessions for over 10 years\, Ananda is professionally trained with international certifications for various forms of healing such as Watsu\, Aquawellness\, Foot Reflexology\, Hypnotherapy\, Pranic Healing\, Alchemy of Touch – Rebalancing. \nHaving left behind his profession as a software architect 5 years ago\, he shares his meditation retreats and rebalancing across India\, Vietnam and Europe to connect with the essence of love and freedom inside.[/vc_column_text][/vc_column][/vc_row][vc_row css=”.vc_custom_1514262268909{margin-top: 15px !important;padding-top: 15px !important;}”][vc_column][vc_row_inner css=”.vc_custom_1514262311359{margin-top: 0px !important;padding-top: 0px !important;}”][vc_column_inner][vc_column_text css=”.vc_custom_1580009724749{margin-bottom: 0px !important;}”]Timings: 9.00 AM – 4.30 PM \nPrice: ₹ 29\,750 (lunch included) \nPlease read the General Information before you apply for this course.[/vc_column_text][/vc_column_inner][/vc_row_inner][/vc_column][/vc_row]
URL:https://www.quiethealingcenter.info/course/holistic-rebalancing-massage-training-with-ananda/
LOCATION:Quiet Healing Center\, India
CATEGORIES:2020
ATTACH;FMTTYPE=image/jpeg:https://www.quiethealingcenter.info/wp-content/uploads/2017/12/holistic-rebalancing-1000-24-custom.jpg
END:VEVENT
END:VCALENDAR