BEGIN:VCALENDAR
VERSION:2.0
PRODID:-//Quiet Healing Center - ECPv6.11.2.1//NONSGML v1.0//EN
CALSCALE:GREGORIAN
METHOD:PUBLISH
X-ORIGINAL-URL:https://www.quiethealingcenter.info
X-WR-CALDESC:Events for Quiet Healing Center
REFRESH-INTERVAL;VALUE=DURATION:PT1H
X-Robots-Tag:noindex
X-PUBLISHED-TTL:PT1H
BEGIN:VTIMEZONE
TZID:UTC
BEGIN:STANDARD
TZOFFSETFROM:+0000
TZOFFSETTO:+0000
TZNAME:UTC
DTSTART:20200101T000000
END:STANDARD
END:VTIMEZONE
BEGIN:VEVENT
DTSTART;VALUE=DATE:20200115
DTEND;VALUE=DATE:20200120
DTSTAMP:20260424T084106
CREATED:20190701T224255Z
LAST-MODIFIED:20190705T062255Z
UID:3755-1579046400-1579478399@www.quiethealingcenter.info
SUMMARY:Foot Reflexology Training with Ananda
DESCRIPTION:[vc_row][vc_column][vc_column_text css=”.vc_custom_1540121180277{margin-bottom: 0px !important;padding-bottom: 0px !important;}”]“Feet have roots to touch the heart of the earth…\nhands have wings to reach the mystery of the sky… “[/vc_column_text][/vc_column][/vc_row][vc_row][vc_column][vc_single_image image=”2852″ img_size=”1440×810″][/vc_column][/vc_row][vc_row][vc_column width=”1/2″][vc_column_text css=”.vc_custom_1540122520431{margin-bottom: 0px !important;padding-bottom: 0px !important;}”]What is Holistic Reflexology ?\nHolistic Reflexology is deeply relaxing\, healing & balancing tool for body-mind-energy. With meditative presence\, loving energy & by activating and relaxing nerve endpoints\, lymphatic nodes and energy points in hands and feet\, we support harmonizing internal organs\, blood circulation\, nervous\, hormonal\, lymphatic systems and boost immunity. \n  \nWhat is Holistic ? I don’t believe in this Holistic stuff ?\nHolistic means whole. Healing happens if we tune our body-mind-energy with whole of our potential. Body-mind-energy has natural\, self-balancing\, self-healing capacity. The healer simply plays the role of a channel/catalyst using effective techniques\, loving energy and meditative presence.\nThere is nothing to believe blindly but scientific tools to learn\, experience and integrate.[/vc_column_text][/vc_column][vc_column width=”1/2″][vc_single_image image=”2868″ img_size=”large”][/vc_column][/vc_row][vc_row css=”.vc_custom_1514262171038{margin-top: 15px !important;padding-top: 15px !important;}”][vc_column width=”1/2″][vc_single_image image=”2862″ img_size=”1000×750″][/vc_column][vc_column width=”1/2″][vc_single_image image=”2861″ img_size=”1000×750″][/vc_column][/vc_row][vc_row][vc_column][vc_column_text css=”.vc_custom_1540122925221{margin-bottom: 0px !important;}”]What do we learn in this training ?\nWelcome to intensive journey to explore and deepen with:\n• anatomy of physical and energy body and yogic science\n• warmup\, self-healing techniques and use of supportive tools\n• reflexology techniques & sequence for organs\, nerves\, hormones\n• specific sequence for lymphatic flush drainage & energy balancing\n• reading various body types and variations in approaches to apply\n• meditations to be open channel of sensitivity\, presence and loving energy\n• effective ways to give deep healing sessions effortlessly.[/vc_column_text][/vc_column][/vc_row][vc_row css=”.vc_custom_1525958152362{margin-top: 20px !important;padding-top: 20px !important;}”][vc_column width=”1/4″ css=”.vc_custom_1514261653544{margin-top: 5px !important;padding-top: 5px !important;}”][vc_single_image image=”1394″ img_size=”430×538″][/vc_column][vc_column width=”3/4″][vc_column_text css=”.vc_custom_1539183205579{margin-bottom: 0px !important;}”]Ananda is a meditator\, facilitator and therapist\, focusing on wellness and connecting with inner essence through body\, mind\, emotions and energy. \nHe started his journey long ago to travel inside and outside\, exploring various forms of yoga\, meditation\, mystics and energetic spaces. Practicing healing sessions for over 10 years\, Ananda is professionally trained with international certifications for various forms of healing such as Watsu\, Aquawellness\, Foot Reflexology\, Hypnotherapy\, Pranic Healing\, Alchemy of Touch – Rebalancing. \nHaving left behind his profession as a software architect 5 years ago\, he shares his meditation retreats and rebalancing across India\, Vietnam and Europe to connect with the essence of love and freedom inside.[/vc_column_text][/vc_column][/vc_row][vc_row css=”.vc_custom_1514262268909{margin-top: 15px !important;padding-top: 15px !important;}”][vc_column][vc_row_inner css=”.vc_custom_1514262311359{margin-top: 0px !important;padding-top: 0px !important;}”][vc_column_inner][vc_column_text css=”.vc_custom_1562307774186{margin-bottom: 0px !important;}”]Timings: 9.00 AM – 4.30 PM \nPrice: ₹ 14\,950 (lunch included) \nPlease read the General Information before you apply for this course.[/vc_column_text][/vc_column_inner][/vc_row_inner][/vc_column][/vc_row]
URL:https://www.quiethealingcenter.info/course/foot-reflexology-training-with-ananda-2/
LOCATION:Quiet Healing Center\, India
CATEGORIES:2020
ATTACH;FMTTYPE=image/jpeg:https://www.quiethealingcenter.info/wp-content/uploads/2018/10/reflex-map.jpg
END:VEVENT
BEGIN:VEVENT
DTSTART;VALUE=DATE:20200117
DTEND;VALUE=DATE:20200120
DTSTAMP:20260424T084106
CREATED:20190701T225149Z
LAST-MODIFIED:20190709T181642Z
UID:3558-1579219200-1579478399@www.quiethealingcenter.info
SUMMARY:Adapted Watsu® with Gianni De Stefani
DESCRIPTION:[vc_row][vc_column][vc_column_text css=”.vc_custom_1560885401388{margin-bottom: 0px !important;}”]A 3-day course\, on the surface only. \nIn this course\, you will apply the qualities and techniques of Watsu to persons with special needs or disorders\, whether physical or mental. You will also start using pool noodles and working with people\, who are particularly rigid or afraid to be held due to trauma\, culture or water fear.[/vc_column_text][/vc_column][/vc_row][vc_row css=”.vc_custom_1518294256150{margin-top: 10px !important;padding-top: 10px !important;}”][vc_column width=”1/2″][vc_single_image image=”1807″ img_size=”1000×750″][/vc_column][vc_column width=”1/2″][vc_single_image image=”1806″ img_size=”1000×750″][/vc_column][/vc_row][vc_row][vc_column][vc_column_text css=”.vc_custom_1562696153670{margin-bottom: 0px !important;}”]In regular Watsu\, you acquire the necessary confidence to allow people to relax in your arms. In this course you will learn an indispensable basis\, on land and in water\, about the functioning of the body\, so that you can adapt and offer a pleasant session to persons with special needs. \n  \nPrerequisites: Watsu 2 plus 100 hours of aquatic bodywork training or Watsu 1 plus 200 hours of aquatic bodywork training. \nCredits: Adapted Watsu is recognized by WABA (Worldwide Aquatic Bodywork Association) as part of the Watsu training program and gives 25 hours of credit for registration with WABA and Watsu India.[/vc_column_text][vc_row_inner css=”.vc_custom_1525959729198{margin-top: 20px !important;padding-top: 20px !important;}”][vc_column_inner width=”1/4″][vc_single_image image=”1755″ img_size=”430×538″][/vc_column_inner][vc_column_inner width=”3/4″][vc_column_text css=”.vc_custom_1560885467491{margin-bottom: 0px !important;}”]Gianni De Stefani \nTravels worldwide since more than 30 years as organizer and WABA instructor. He teaches Watsu Basic\, Watsu 1\, 2 & 3\, Anatomy for Watsuer\, Adapted Watsu\, Watsu & Meditation\, Watsu for Babies\, OBA\, Woga\, Water Gymnastics and Rehab.[/vc_column_text][/vc_column_inner][/vc_row_inner][/vc_column][/vc_row][vc_row][vc_column][vc_column_text css=”.vc_custom_1562021503458{margin-top: 20px !important;margin-bottom: 0px !important;padding-top: 20px !important;}”]Timings: 8.45 AM – 6.30 PM \nPrice: ₹ 14\,950 (lunch included) \nPlease read the General Information before you apply for this course.[/vc_column_text][/vc_column][/vc_row]
URL:https://www.quiethealingcenter.info/course/adapted-watsu-with-gianni-de-stefani-2/
LOCATION:Quiet Healing Center\, India
CATEGORIES:2020
ATTACH;FMTTYPE=image/jpeg:https://www.quiethealingcenter.info/wp-content/uploads/2017/10/watsu-gianni-1000-13-custom.jpg
END:VEVENT
BEGIN:VEVENT
DTSTART;VALUE=DATE:20200118
DTEND;VALUE=DATE:20200120
DTSTAMP:20260424T084106
CREATED:20190920T094444Z
LAST-MODIFIED:20190920T094606Z
UID:3959-1579305600-1579478399@www.quiethealingcenter.info
SUMMARY:Ancient Vedic Healing Course with Swami Omkar
DESCRIPTION:[vc_row][vc_column][vc_column_text css=”.vc_custom_1544542661021{margin-bottom: 0px !important;}”]In this workshop you are exposed to the ancient art of Vedic Healing through Prana Vidya or the Knowlegde of Prana\, the universal life force which permeates all creation.[/vc_column_text][/vc_column][/vc_row][vc_row css=”.vc_custom_1514522279810{margin-top: 10px !important;padding-top: 10px !important;}”][vc_column width=”2/3″][vc_single_image image=”1845″ img_size=”1000×750″][/vc_column][vc_column width=”1/3″][vc_column_text css=”.vc_custom_1518290023462{margin-bottom: 0px !important;}”]Prana Vidya offers the knowledge of gaining\, restoring and uplifting Prana in our body. It also explains how to transfer this life force to other people\, as Prana can be given to others\, who are sick or in an imbalanced state. \nHuman beings are driven by five types of Prana that reside in different parts of our body. If our body contains all five kinds of Prana in a sufficient level\, we are in good health\, feel happy and fulfilled\, and experience unlimited love and compassion. If there is an imbalance\, problems manifest in body\, mind or soul.[/vc_column_text][/vc_column][/vc_row][vc_row][vc_column][vc_column_text css=”.vc_custom_1518329168790{margin-bottom: 0px !important;}”]Prana Vidya was already used in Vedic times and its concepts are clearly described in the ancient writings of the Vedas and Upa-Vedas. Whereas most of the common spiritual healing methods deal with chakras and kundalini\, Prana Vidya works with the Prana body.[/vc_column_text][vc_row_inner css=”.vc_custom_1518329265299{margin-top: 10px !important;padding-top: 10px !important;}”][vc_column_inner width=”2/3″][vc_column_text css=”.vc_custom_1518329158800{margin-bottom: 0px !important;}”]Advantages of Prana Vidya: \n♦ Simple to learn and practice.\n♦ All types of life styles can experience and practice Prana Vidya.\n♦ Healing based on Prana Vidya does not have any side-effects for the healer.\n♦ While learning Prana Vidya\, its healing power can already be experienced.\n♦ All kinds of mental and physical problems can be cured.\n♦ Character\, memory power\, and thought processes can be improved.\n♦ Can also be used for success in education\, wealth\, peace\, and relationships.\n♦ Purifies our inner being and uplifts our spiritual life.[/vc_column_text][/vc_column_inner][vc_column_inner width=”1/3″][vc_single_image image=”1779″ img_size=”750×638″][/vc_column_inner][/vc_row_inner][/vc_column][/vc_row][vc_row css=”.vc_custom_1518290516301{margin-top: 20px !important;padding-top: 20px !important;}”][vc_column width=”1/4″][vc_single_image image=”1781″ img_size=”430×538″][/vc_column][vc_column width=”3/4″][vc_column_text css=”.vc_custom_1518290432558{margin-bottom: 0px !important;}”]Swami Omkar\n \nFounder of “Pranava Peetam Trust”\, has been teaching Prana Vidya in India and abroad and likes to share his knowledge with everyone\, who is eager to learn this ancient Vedic Healing method. \n[/vc_column_text][/vc_column][/vc_row][vc_row css=”.vc_custom_1518290458448{margin-top: 20px !important;padding-top: 20px !important;}”][vc_column][vc_column_text css=”.vc_custom_1545116353296{margin-bottom: 0px !important;}”]\nTimings: 10.30 AM – 5.30 PM \nPrice: Rs 6\,750 (lunch included) \nPlease read the General Information before you apply for this course. \n[/vc_column_text][/vc_column][/vc_row]
URL:https://www.quiethealingcenter.info/course/ancient-vedic-healing-course-with-swami-omkar/
LOCATION:Quiet Healing Center\, India
CATEGORIES:2020
ATTACH;FMTTYPE=image/jpeg:https://www.quiethealingcenter.info/wp-content/uploads/2017/12/swami-omkar-portrait-1000-custom.jpg
END:VEVENT
END:VCALENDAR