BEGIN:VCALENDAR
VERSION:2.0
PRODID:-//Quiet Healing Center - ECPv6.11.2.1//NONSGML v1.0//EN
CALSCALE:GREGORIAN
METHOD:PUBLISH
X-ORIGINAL-URL:https://www.quiethealingcenter.info
X-WR-CALDESC:Events for Quiet Healing Center
REFRESH-INTERVAL;VALUE=DURATION:PT1H
X-Robots-Tag:noindex
X-PUBLISHED-TTL:PT1H
BEGIN:VTIMEZONE
TZID:UTC
BEGIN:STANDARD
TZOFFSETFROM:+0000
TZOFFSETTO:+0000
TZNAME:UTC
DTSTART:20200101T000000
END:STANDARD
END:VTIMEZONE
BEGIN:VEVENT
DTSTART;VALUE=DATE:20200101
DTEND;VALUE=DATE:20200107
DTSTAMP:20260424T083948
CREATED:20190701T225327Z
LAST-MODIFIED:20190723T021621Z
UID:3680-1577836800-1578355199@www.quiethealingcenter.info
SUMMARY:Anatomy for Aquatic Bodyworkers with Gianni De Stefani
DESCRIPTION:[vc_row][vc_column][vc_column_text css=”.vc_custom_1560887345987{margin-bottom: 0px !important;}”]A 6-day course\, mainly on land with parts in the water. \nA basic knowledge of anatomy is required for a Watsu practitioner\, wor­king with a client’s body in many different ways. This course offers a theoretical and experien­tial overview of a model of traditional anatomy for Watsu\, focusing on planes and axes of movements\, mechanics of articulations\, physiology\, metabolism\, and on muscles & their lengthening.[/vc_column_text][/vc_column][/vc_row][vc_row css=”.vc_custom_1518294256150{margin-top: 10px !important;padding-top: 10px !important;}”][vc_column width=”1/2″][vc_single_image image=”3691″ img_size=”1000×750″ alignment=”center”][/vc_column][vc_column width=”1/2″][vc_single_image image=”3692″ img_size=”1000×750″ alignment=”center”][/vc_column][/vc_row][vc_row][vc_column][vc_column_text css=”.vc_custom_1560887994226{margin-bottom: 0px !important;}”]Theory and practice take place on land and in water. Through massages and specific exercises\, you learn the functionality of various body structures and the possible applications in Watsu. \nAbout one-third of the course is dedicated to theory\, one-third to practice on land\, and one-third to practical applications in water.[/vc_column_text][vc_row_inner css=”.vc_custom_1525959729198{margin-top: 20px !important;padding-top: 20px !important;}”][vc_column_inner][vc_column_text css=”.vc_custom_1562696485461{margin-bottom: 0px !important;}”]Prerequisites: Watsu 2 plus 100 hours of aquatic bodywork training or Watsu 1 plus 200 hours of aquatic bodywork training. \nCredits: Anatomy for Aquatic Bodyworkers is recognized by WABA (Worldwide Aquatic Bodywork Association) as part of the Watsu training program and gives 50 hours of credit for registration with WABA and Watsu India. \n[/vc_column_text][/vc_column_inner][/vc_row_inner][vc_row_inner css=”.vc_custom_1525959729198{margin-top: 20px !important;padding-top: 20px !important;}”][vc_column_inner width=”1/4″][vc_single_image image=”1755″ img_size=”430×538″][/vc_column_inner][vc_column_inner width=”3/4″][vc_column_text css=”.vc_custom_1560885467491{margin-bottom: 0px !important;}”]Gianni De Stefani \nTravels worldwide since more than 30 years as organizer and WABA instructor. He teaches Watsu Basic\, Watsu 1\, 2 & 3\, Anatomy for Watsuer\, Adapted Watsu\, Watsu & Meditation\, Watsu for Babies\, OBA\, Woga\, Water Gymnastics and Rehab.[/vc_column_text][/vc_column_inner][/vc_row_inner][/vc_column][/vc_row][vc_row][vc_column][vc_column_text css=”.vc_custom_1563847996696{margin-top: 20px !important;margin-bottom: 0px !important;padding-top: 20px !important;}”]Timings: 10.00 AM – 1.30 PM & 3.00 – 7.30 PM   \nPrice: ₹ 27\,950 \nPlease read the General Information before you apply for this course.[/vc_column_text][/vc_column][/vc_row]
URL:https://www.quiethealingcenter.info/course/anatomy-for-aquatic-bodyworkers-with-gianni-de-stefani/
LOCATION:Quiet Healing Center\, India
CATEGORIES:2020
ATTACH;FMTTYPE=image/jpeg:https://www.quiethealingcenter.info/wp-content/uploads/2019/06/anatomy-750-01-custom.jpg
END:VEVENT
BEGIN:VEVENT
DTSTART;VALUE=DATE:20200102
DTEND;VALUE=DATE:20200107
DTSTAMP:20260424T083948
CREATED:20190701T231057Z
LAST-MODIFIED:20190701T231057Z
UID:3550-1577923200-1578355199@www.quiethealingcenter.info
SUMMARY:Watsu® 1 (Transition Flow) with Dariya & Daniel
DESCRIPTION:[vc_row][vc_column][vc_column_text css=”.vc_custom_1538286295912{margin-bottom: 0px !important;}”]A 5-day course on the surface only.[/vc_column_text][/vc_column][/vc_row][vc_row css=”.vc_custom_1514262911343{margin-top: 10px !important;padding-top: 10px !important;}”][vc_column][vc_column_text css=”.vc_custom_1538286328403{margin-bottom: 0px !important;}”]In this course you will be taught to connect the basic movements and positions you have learned in Watsu Basic with long\, gracefully flowing transitions and to adapt this work to people of different sizes\, shapes\, and dispositions.[/vc_column_text][vc_row_inner css=”.vc_custom_1514262982910{margin-top: 5px !important;padding-top: 5px !important;}”][vc_column_inner width=”1/2″][vc_single_image image=”1525″ img_size=”1000×750″][/vc_column_inner][vc_column_inner width=”1/2″][vc_single_image image=”1526″ img_size=”1000×750″][/vc_column_inner][/vc_row_inner][/vc_column][/vc_row][vc_row css=”.vc_custom_1514263101990{margin-top: 0px !important;padding-top: 0px !important;}”][vc_column][vc_column_text css=”.vc_custom_1538286359666{margin-bottom: 0px !important;}”]You will also learn about your own body mechanics and how to support and move each person as effortlessly as possible.[/vc_column_text][/vc_column][/vc_row][vc_row css=”.vc_custom_1514262719624{margin-top: 15px !important;padding-top: 15px !important;}”][vc_column width=”1/4″][/vc_column][vc_column width=”1/2″][vc_single_image image=”1412″ img_size=”1000×750″ alignment=”center”][/vc_column][vc_column width=”1/4″][/vc_column][/vc_row][vc_row css=”.vc_custom_1514354459415{margin-top: 5px !important;padding-top: 5px !important;}”][vc_column][vc_column_text css=”.vc_custom_1538286471176{margin-bottom: 0px !important;}”]\nOn land\, you will be introduced to both Co-Centering and Tantsu\, and explore what being held means to you and others. \n[/vc_column_text][/vc_column][/vc_row][vc_row css=”.vc_custom_1514354459415{margin-top: 5px !important;padding-top: 5px !important;}”][vc_column][vc_column_text css=”.vc_custom_1538286534033{margin-top: 15px !important;margin-bottom: 0px !important;padding-top: 15px !important;}”]Prerequisites:\nWatsu & Liquid Flow Basic or Watsu Basic & OBA Intro or Watsu Basic. \nCredits: Watsu 1 is recognized by WABA (Worldwide Aquatic Bodywork Association) as part of the Watsu training program and gives 34 hours of credit for registration with WABA and Watsu India.[/vc_column_text][vc_row_inner css=”.vc_custom_1514354980177{margin-top: 20px !important;padding-top: 20px !important;}”][vc_column_inner width=”1/4″][vc_single_image image=”1515″ img_size=”430×673″][/vc_column_inner][vc_column_inner width=”3/4″][vc_column_text css=”.vc_custom_1514354821521{margin-bottom: 0px !important;}”]Dariya (as WABA facilitator) & Daniel have been sharing their passion for aquatic body­work with groups since 2004. \nBesides the belief that a solid technical base provides possi­bilities for ease and lightness in further personal growth\, their main focus is to create spaces for flow\, deepening and connection.[/vc_column_text][/vc_column_inner][/vc_row_inner][/vc_column][/vc_row][vc_row css=”.vc_custom_1518336025008{margin-top: 20px !important;padding-top: 20px !important;}”][vc_column][vc_column_text css=”.vc_custom_1562022653284{margin-bottom: 0px !important;}”]Timings: 9.00 – 6.00 PM \nPrice: ₹ 21\,250 (lunch included) \nPlease read the General Information before you apply for this course.[/vc_column_text][/vc_column][/vc_row]
URL:https://www.quiethealingcenter.info/course/watsu-1-transition-flow-with-dariya-daniel-6/
LOCATION:Quiet Healing Center\, India
CATEGORIES:2020
ATTACH;FMTTYPE=image/jpeg:https://www.quiethealingcenter.info/wp-content/uploads/2017/10/dariya-watsu-1-1000-03.jpg
END:VEVENT
END:VCALENDAR