BEGIN:VCALENDAR
VERSION:2.0
PRODID:-//Quiet Healing Center - ECPv6.11.2.1//NONSGML v1.0//EN
CALSCALE:GREGORIAN
METHOD:PUBLISH
X-ORIGINAL-URL:https://www.quiethealingcenter.info
X-WR-CALDESC:Events for Quiet Healing Center
REFRESH-INTERVAL;VALUE=DURATION:PT1H
X-Robots-Tag:noindex
X-PUBLISHED-TTL:PT1H
BEGIN:VTIMEZONE
TZID:UTC
BEGIN:STANDARD
TZOFFSETFROM:+0000
TZOFFSETTO:+0000
TZNAME:UTC
DTSTART:20190101T000000
END:STANDARD
END:VTIMEZONE
BEGIN:VEVENT
DTSTART;VALUE=DATE:20191202
DTEND;VALUE=DATE:20191216
DTSTAMP:20260424T084153
CREATED:20190922T161800Z
LAST-MODIFIED:20191030T124708Z
UID:3973-1575244800-1576454399@www.quiethealingcenter.info
SUMMARY:Indian Holistic Massage with Jean-Louis
DESCRIPTION:[vc_row][vc_column][vc_column_text css=”.vc_custom_1569168492283{margin-bottom: 0px !important;}”]This massage is a unique body work modality within the rich Indian massage tradition. \nBirenda\, a Bengali who developed and practiced this special massage technique over more than 50 years\, personally transmitted the technique to the teacher.[/vc_column_text][/vc_column][/vc_row][vc_row css=”.vc_custom_1514522279810{margin-top: 10px !important;padding-top: 10px !important;}”][vc_column width=”1/2″][vc_single_image image=”3285″ img_size=”1000×750″][/vc_column][vc_column width=”1/2″][vc_single_image image=”3284″ img_size=”1000×750″][/vc_column][/vc_row][vc_row][vc_column][vc_column_text css=”.vc_custom_1571027050190{margin-bottom: 0px !important;}”]The massage is soft\, yet profound\, and needs to be practiced with heartfelt kindness and respect while the client is progressively brought into a deep state of relaxation and well-being. It is a journey within oneself during which blockages and tensions may manifest for recognition\, release and transformation. \nThe course is divided into 3 modules of 2 days each (6 hours per day or 12 hours per module). Total: 36 hours. \nThe first two modules focus on the back; the third one on the front part of the body. \nThe modules are planned over 2 weeks to allow time for students to practice in between. \nImportant: It is strongly recommended to follow at least the first 2 modules to know all the posterior parts of the massage.[/vc_column_text][/vc_column][/vc_row][vc_row css=”.vc_custom_1525959319424{margin-top: 20px !important;padding-top: 20px !important;}”][vc_column width=”1/4″][vc_single_image image=”1323″ img_size=”430×538″][/vc_column][vc_column width=”3/4″][vc_column_text css=”.vc_custom_1572439620456{margin-bottom: 0px !important;}”]Jean-Louis \nis a certified nurse who has worked for over 20 years in hospitals\, clinics and associations in France. In Pondicherry\, India\, he went through a 3 years massage training by Birenda\, his Indian teacher and founder of the technique.\nSince 2006\, Jean-Louis is practicing as  a massage therapist in Auroville.[/vc_column_text][/vc_column][/vc_row][vc_row css=”.vc_custom_1514522448560{margin-top: 15px !important;padding-top: 15px !important;}”][vc_column][vc_column_text css=”.vc_custom_1569334109516{margin-bottom: 0px !important;}”]Dates: 2-3 December / 9-10 December / 14-15 December \nTimings: 9 AM – 12 PM & 2 PM – 5 PM \nPrice: ₹ 21\,000 or ₹ 7\,000 per module (lunch included) \nPlease read the General Information before you apply for this course. \n[/vc_column_text][/vc_column][/vc_row]
URL:https://www.quiethealingcenter.info/course/indian-holistic-massage-with-jean-louis/
LOCATION:Quiet Healing Center\, India
CATEGORIES:2019
ATTACH;FMTTYPE=image/jpeg:https://www.quiethealingcenter.info/wp-content/uploads/2019/01/birenda-1000-02-medium.jpg
END:VEVENT
END:VCALENDAR