BEGIN:VCALENDAR
VERSION:2.0
PRODID:-//Quiet Healing Center - ECPv6.11.2.1//NONSGML v1.0//EN
CALSCALE:GREGORIAN
METHOD:PUBLISH
X-WR-CALNAME:Quiet Healing Center
X-ORIGINAL-URL:https://www.quiethealingcenter.info
X-WR-CALDESC:Events for Quiet Healing Center
REFRESH-INTERVAL;VALUE=DURATION:PT1H
X-Robots-Tag:noindex
X-PUBLISHED-TTL:PT1H
BEGIN:VTIMEZONE
TZID:UTC
BEGIN:STANDARD
TZOFFSETFROM:+0000
TZOFFSETTO:+0000
TZNAME:UTC
DTSTART:20190101T000000
END:STANDARD
END:VTIMEZONE
BEGIN:VEVENT
DTSTART;VALUE=DATE:20190321
DTEND;VALUE=DATE:20190327
DTSTAMP:20260424T214558
CREATED:20181007T154140Z
LAST-MODIFIED:20190118T172528Z
UID:2689-1553126400-1553644799@www.quiethealingcenter.info
SUMMARY:Instructor Training Course (ITC) Woga® with Gianni De Stefani
DESCRIPTION:[vc_row][vc_column][vc_column_text css=”.vc_custom_1538926799394{margin-bottom: 0px !important;}”]In this 6-day course\, you will:\n– acquire the basics of WOGA\n– be able to use the potential of yoga in shallow water\n– learn a WOGA exercise repertoire\n– receive didactic and methodical material to offer WOGA courses and/or incorporate WOGA into your water fitness classes.[/vc_column_text][/vc_column][/vc_row][vc_row css=”.vc_custom_1518327218348{margin-top: 10px !important;padding-top: 10px !important;}”][vc_column][vc_single_image image=”2692″ img_size=”1000×750″][/vc_column][/vc_row][vc_row][vc_column][vc_column_text css=”.vc_custom_1538926884161{margin-bottom: 0px !important;}”]Topics addressed: \n\nYoga philosophy in general\, background of Hatha Yoga and Pranayama\nPractical and theoretical knowledge of the physical laws of water\, which serves as the basis for a good general body feeling/image.\nMethodology and didactics for planning lessons in teaching Woga.\n\n[/vc_column_text][vc_row_inner][vc_column_inner][vc_column_text css=”.vc_custom_1538658156609{margin-top: 15px !important;margin-bottom: 0px !important;padding-top: 15px !important;}”]Prerequisites:\nWOGA 1&2 and a certified activity as instructor in aquatic sports or as bodyworker instructor\, or long time bodyworker in any kind of activity. \nCredits:\nITC Woga is recognized by WABA (Worldwide Aquatic Bodywork Association) and gives 42 supple­mentary hours of credit for registration with WABA and Watsu India.[/vc_column_text][/vc_column_inner][/vc_row_inner][/vc_column][/vc_row][vc_row][vc_column][vc_row_inner css=”.vc_custom_1525958644950{margin-top: 20px !important;padding-top: 20px !important;}”][vc_column_inner width=”1/4″][vc_single_image image=”1755″ img_size=”430×538″][/vc_column_inner][vc_column_inner width=”3/4″][vc_column_text css=”.vc_custom_1518347967446{margin-bottom: 0px !important;}”]Gianni De Stefani \nTravels worldwide since more than 30 years as organizer and WABA facilitator. He facilitates Watsu Basic\, Watsu 1\, 2 & 3\, Anatomy for Watsuer\, Adapted Watsu\, Watsu & Meditation\, Watsu for Babies\, OBA\, Woga\, Water Gymnastics and Rehab.[/vc_column_text][/vc_column_inner][/vc_row_inner][vc_column_text css=”.vc_custom_1545116052525{margin-top: 20px !important;margin-bottom: 0px !important;padding-top: 20px !important;}”]Timings: 8.45 AM – 6.30 PM \nPrice: ₹ 24\,750 (lunch included) \nPlease read the General Information before you apply for this course.[/vc_column_text][/vc_column][/vc_row]
URL:https://www.quiethealingcenter.info/course/instructor-training-course-itc-woga-with-gianni-de-stefani/
LOCATION:Quiet Healing Center\, India
CATEGORIES:2019
ATTACH;FMTTYPE=image/jpeg:https://www.quiethealingcenter.info/wp-content/uploads/2018/10/dsc08342.jpg
END:VEVENT
END:VCALENDAR