BEGIN:VCALENDAR
VERSION:2.0
PRODID:-//Quiet Healing Center - ECPv6.11.2.1//NONSGML v1.0//EN
CALSCALE:GREGORIAN
METHOD:PUBLISH
X-ORIGINAL-URL:https://www.quiethealingcenter.info
X-WR-CALDESC:Events for Quiet Healing Center
REFRESH-INTERVAL;VALUE=DURATION:PT1H
X-Robots-Tag:noindex
X-PUBLISHED-TTL:PT1H
BEGIN:VTIMEZONE
TZID:UTC
BEGIN:STANDARD
TZOFFSETFROM:+0000
TZOFFSETTO:+0000
TZNAME:UTC
DTSTART:20190101T000000
END:STANDARD
END:VTIMEZONE
BEGIN:VEVENT
DTSTART;VALUE=DATE:20190218
DTEND;VALUE=DATE:20190219
DTSTAMP:20260424T230957
CREATED:20181004T131336Z
LAST-MODIFIED:20190118T173308Z
UID:2697-1550448000-1550534399@www.quiethealingcenter.info
SUMMARY:OBA® Evaluation Day with Gianni De Stefani
DESCRIPTION:[vc_row][vc_column][vc_column_text css=”.vc_custom_1543751603722{margin-bottom: 0px !important;}”]The OBA final evaluation day is the last step to complete your training in Oceanic Bodywork Aqua.[/vc_column_text][/vc_column][/vc_row][vc_row css=”.vc_custom_1518327218348{margin-top: 10px !important;padding-top: 10px !important;}”][vc_column][vc_single_image image=”2698″ img_size=”1000×750″][/vc_column][/vc_row][vc_row][vc_column][vc_column_text css=”.vc_custom_1543751619595{margin-bottom: 0px !important;}”]During this day\, you will give a “hands-on” session to your teacher and present your personal work about OBA to the group.[/vc_column_text][vc_row_inner][vc_column_inner][vc_column_text css=”.vc_custom_1538658683772{margin-top: 15px !important;margin-bottom: 0px !important;padding-top: 15px !important;}”]Prerequisites:\nSuccessful completion of OBA 3. \nCredits:\nOBA Evaluation Day is recognized by WABA (Worldwide Aquatic Bodywork Association) and gives 6 supplementary hours of credit for registration with WABA and Watsu India.[/vc_column_text][/vc_column_inner][/vc_row_inner][/vc_column][/vc_row][vc_row][vc_column][vc_row_inner css=”.vc_custom_1525958644950{margin-top: 20px !important;padding-top: 20px !important;}”][vc_column_inner width=”1/4″][vc_single_image image=”1755″ img_size=”430×538″][/vc_column_inner][vc_column_inner width=”3/4″][vc_column_text css=”.vc_custom_1518347967446{margin-bottom: 0px !important;}”]Gianni De Stefani \nTravels worldwide since more than 30 years as organizer and WABA facilitator. He facilitates Watsu Basic\, Watsu 1\, 2 & 3\, Anatomy for Watsuer\, Adapted Watsu\, Watsu & Meditation\, Watsu for Babies\, OBA\, Woga\, Water Gymnastics and Rehab.[/vc_column_text][/vc_column_inner][/vc_row_inner][vc_column_text css=”.vc_custom_1538658805229{margin-top: 20px !important;margin-bottom: 0px !important;padding-top: 20px !important;}”]Timings: 9.00 AM – 6.00 PM \nPrice: ₹ 3\,500 (lunch included) \nPlease read the General Information before you apply for this course.[/vc_column_text][/vc_column][/vc_row]
URL:https://www.quiethealingcenter.info/course/oba-evaluation-day-with-gianni-de-stefani/
LOCATION:Quiet Healing Center\, India
CATEGORIES:2019
ATTACH;FMTTYPE=image/jpeg:https://www.quiethealingcenter.info/wp-content/uploads/2018/10/oba-gianni-1000-38-large.jpg
END:VEVENT
END:VCALENDAR