BEGIN:VCALENDAR
VERSION:2.0
PRODID:-//Quiet Healing Center - ECPv6.11.2.1//NONSGML v1.0//EN
CALSCALE:GREGORIAN
METHOD:PUBLISH
X-WR-CALNAME:Quiet Healing Center
X-ORIGINAL-URL:https://www.quiethealingcenter.info
X-WR-CALDESC:Events for Quiet Healing Center
REFRESH-INTERVAL;VALUE=DURATION:PT1H
X-Robots-Tag:noindex
X-PUBLISHED-TTL:PT1H
BEGIN:VTIMEZONE
TZID:UTC
BEGIN:STANDARD
TZOFFSETFROM:+0000
TZOFFSETTO:+0000
TZNAME:UTC
DTSTART:20190101T000000
END:STANDARD
END:VTIMEZONE
BEGIN:VEVENT
DTSTART;VALUE=DATE:20190206
DTEND;VALUE=DATE:20190213
DTSTAMP:20260424T214608
CREATED:20180930T070916Z
LAST-MODIFIED:20190118T173549Z
UID:2551-1549411200-1550015999@www.quiethealingcenter.info
SUMMARY:Oceanic Bodywork Aqua - OBA® 3 with Luigi Cappellini
DESCRIPTION:[vc_row][vc_column][vc_column_text css=”.vc_custom_1538288601345{margin-bottom: 0px !important;}”]A 7-day course with mainly under water work.[/vc_column_text][/vc_column][/vc_row][vc_row css=”.vc_custom_1514262911343{margin-top: 10px !important;padding-top: 10px !important;}”][vc_column][vc_column_text css=”.vc_custom_1538291439211{margin-bottom: 0px !important;}”]During these seven days\, you will repeat and deepen what you have learned in OBA 1 & 2 (formerly called Aquawellness 1&2) and deepen your insight that drives an OBA session. \nYou will also be introduced to the latest\, more advanced techniques and learn about the benefits of working with a series of sessions in order to experience the profound “aquatic body wave”.[/vc_column_text][vc_row_inner css=”.vc_custom_1514262982910{margin-top: 5px !important;padding-top: 5px !important;}”][vc_column_inner width=”1/2″][vc_single_image image=”2552″ img_size=”1000×750″ alignment=”center”][/vc_column_inner][vc_column_inner width=”1/2″][vc_single_image image=”2553″ img_size=”1000×750″][/vc_column_inner][/vc_row_inner][/vc_column][/vc_row][vc_row css=”.vc_custom_1514263101990{margin-top: 0px !important;padding-top: 0px !important;}”][vc_column][vc_column_text css=”.vc_custom_1538291457262{margin-bottom: 0px !important;}”]You’ll have time to deepen your personal growth and continue your learning path in a safe space of love and support. It will as well continue your journey back to your origins… into the endless depths of your inner ocean. \nWith this course\, you will complete the main steps of your learning process as OBA Bodyworker.[/vc_column_text][/vc_column][/vc_row][vc_row css=”.vc_custom_1514354459415{margin-top: 5px !important;padding-top: 5px !important;}”][vc_column css=”.vc_custom_1538289484509{margin-top: 15px !important;padding-top: 15px !important;}”][vc_column_text css=”.vc_custom_1543853349373{margin-bottom: 0px !important;}”]More about OBA: \nDeveloped by Kaya Femerling & Nirvano Martina Schulz\, OBA is a deeply relaxing form of aquatic therapy\, which takes place in a warm water pool.. \nIt combines elements of soft stretching movements\, aquatic deep tissue massage\, and joint release\, as well as energy and breath work in a unique way above and below water. Especially designed movements allow your whole spine to swing and energy to flow again. \nThis form of aquatic therapy invites you to experience the healing energies of water in a new way. Chronic physical pain as well as emotional tensions can be released. Special positions may remind you of how you felt to be held as a child. \nYou might dive into a wondrous world of memories\, of floating weightlessly in the protective womb of your mother\, of diving right back into that very space where you were surrounded by soft warm water. OBA invites you to experience again the nurturing qualities of being held and loved\, and to rediscover trust\, peace within yourself\, and a sense of coming home. \n[/vc_column_text][/vc_column][/vc_row][vc_row css=”.vc_custom_1514354459415{margin-top: 5px !important;padding-top: 5px !important;}”][vc_column][vc_column_text css=”.vc_custom_1538291506702{margin-top: 15px !important;margin-bottom: 0px !important;padding-top: 15px !important;}”]Prerequisites:\nOBA 2 or equivalent course. \nCredits: OBA 3 is recognized by WABA (Worldwide Aquatic Bodywork Association) and gives 60 hours of credits for registration with WABA and Watsu India.[/vc_column_text][vc_row_inner css=”.vc_custom_1514354980177{margin-top: 20px !important;padding-top: 20px !important;}”][vc_column_inner width=”1/4″][vc_single_image image=”2556″ img_size=”430×538″][/vc_column_inner][vc_column_inner width=”3/4″][vc_column_text css=”.vc_custom_1538291629569{margin-bottom: 0px !important;}”]Luigi Cappellini \nis the director of the School of Oceanic Bodywork Aqua (OBA) and has been teaching OBA since 2000. He is also an Ai-Chi instructor and has spent several years studying Shiatsu with Japanese masters.[/vc_column_text][/vc_column_inner][/vc_row_inner][/vc_column][/vc_row][vc_row css=”.vc_custom_1518336025008{margin-top: 20px !important;padding-top: 20px !important;}”][vc_column][vc_column_text css=”.vc_custom_1538364225237{margin-bottom: 0px !important;}”]Timings: 9.00 – 6.00 PM \nPrice: ₹ 34\,500 (lunch included) \nPlease read the General Information before you apply for this course.[/vc_column_text][/vc_column][/vc_row]
URL:https://www.quiethealingcenter.info/course/oceanic-bodywork-aqua-oba-3-with-luigi-cappellini/
LOCATION:Quiet Healing Center\, India
CATEGORIES:2019
ATTACH;FMTTYPE=image/jpeg:https://www.quiethealingcenter.info/wp-content/uploads/2018/09/oba-3-luigi-1000-01.jpg
END:VEVENT
END:VCALENDAR