BEGIN:VCALENDAR
VERSION:2.0
PRODID:-//Quiet Healing Center - ECPv6.11.2.1//NONSGML v1.0//EN
CALSCALE:GREGORIAN
METHOD:PUBLISH
X-WR-CALNAME:Quiet Healing Center
X-ORIGINAL-URL:https://www.quiethealingcenter.info
X-WR-CALDESC:Events for Quiet Healing Center
REFRESH-INTERVAL;VALUE=DURATION:PT1H
X-Robots-Tag:noindex
X-PUBLISHED-TTL:PT1H
BEGIN:VTIMEZONE
TZID:UTC
BEGIN:STANDARD
TZOFFSETFROM:+0000
TZOFFSETTO:+0000
TZNAME:UTC
DTSTART:20190101T000000
END:STANDARD
END:VTIMEZONE
BEGIN:VEVENT
DTSTART;VALUE=DATE:20190115
DTEND;VALUE=DATE:20190122
DTSTAMP:20260425T002912
CREATED:20180930T064202Z
LAST-MODIFIED:20190118T174514Z
UID:2530-1547510400-1548115199@www.quiethealingcenter.info
SUMMARY:Oceanic Bodywork Aqua - OBA® 2 with Gianni De Stefani
DESCRIPTION:[vc_row][vc_column][vc_column_text css=”.vc_custom_1538288601345{margin-bottom: 0px !important;}”]A 7-day course with mainly under water work.[/vc_column_text][/vc_column][/vc_row][vc_row css=”.vc_custom_1514262911343{margin-top: 10px !important;padding-top: 10px !important;}”][vc_column][vc_column_text css=”.vc_custom_1538288891888{margin-bottom: 0px !important;}”]OBA 2 focuses on learning more complex tech­niques\, refining your intuitive responses and preparing for working profes­sionally with people in water.[/vc_column_text][vc_row_inner css=”.vc_custom_1514262982910{margin-top: 5px !important;padding-top: 5px !important;}”][vc_column_inner width=”1/2″][vc_single_image image=”2539″ img_size=”1000×750″ alignment=”center”][/vc_column_inner][vc_column_inner width=”1/2″][vc_single_image image=”3107″ img_size=”full”][/vc_column_inner][/vc_row_inner][/vc_column][/vc_row][vc_row css=”.vc_custom_1514263101990{margin-top: 0px !important;padding-top: 0px !important;}”][vc_column][vc_column_text css=”.vc_custom_1538289469933{margin-bottom: 0px !important;}”]You will also learn about your own body mechanics and how to support and move each person as effortlessly as possible.\nSuccessful completion of the course enables you to give individual sessions.[/vc_column_text][/vc_column][/vc_row][vc_row css=”.vc_custom_1514354459415{margin-top: 5px !important;padding-top: 5px !important;}”][vc_column][/vc_column][/vc_row][vc_row css=”.vc_custom_1514354459415{margin-top: 5px !important;padding-top: 5px !important;}”][vc_column css=”.vc_custom_1538289484509{margin-top: 15px !important;padding-top: 15px !important;}”][vc_column_text css=”.vc_custom_1543751498299{margin-bottom: 0px !important;}”]More about OBA: \nDeveloped by Kaya Femerling & Nirvano Martina Schulz\, OBA is a deeply relaxing form of aquatic therapy\, which takes place in a warm water pool.. \nIt combines elements of soft stretching movements\, aquatic deep tissue massage\, and joint release\, as well as energy and breath work in a unique way above and below water. Especially designed movements allow your whole spine to swing and energy to flow again. \nThis form of aquatic therapy invites you to experience the healing energies of water in a new way. Chronic physical pain as well as emotional tensions can be released. Special positions may remind you of how you felt to be held as a child. \nYou might dive into a wondrous world of memories\, of floating weightlessly in the protective womb of your mother\, of diving right back into that very space where you were surrounded by soft warm water. OBA invites you to experience again the nurturing qualities of being held and loved\, and to rediscover trust\, peace within yourself\, and a sense of coming home. \n[/vc_column_text][/vc_column][/vc_row][vc_row css=”.vc_custom_1514354459415{margin-top: 5px !important;padding-top: 5px !important;}”][vc_column][vc_column_text css=”.vc_custom_1538289406664{margin-top: 15px !important;margin-bottom: 0px !important;padding-top: 15px !important;}”]Prerequisites:\nOBA 1 or equivalent course. \nCredits: OBA 2 is recognized by WABA (Worldwide Aquatic Bodywork Association) and gives 60 hours of credits for registration with WABA and Watsu India.[/vc_column_text][vc_row_inner css=”.vc_custom_1514354980177{margin-top: 20px !important;padding-top: 20px !important;}”][vc_column_inner width=”1/4″][vc_single_image image=”1755″ img_size=”430×673″][/vc_column_inner][vc_column_inner width=”3/4″][vc_column_text css=”.vc_custom_1538289301767{margin-bottom: 0px !important;}”]Gianni De Stefani \nTravels worldwide since more than 30 years as organizer and WABA facilitator. He facilitates Watsu Basic\, Watsu 1\, 2 & 3\, Anatomy for Watsuer\, Adapted Watsu\, Watsu & Meditation\, Watsu for Babies\, OBA\, Woga\, Water Gymnastics and Rehab.[/vc_column_text][/vc_column_inner][/vc_row_inner][/vc_column][/vc_row][vc_row css=”.vc_custom_1518336025008{margin-top: 20px !important;padding-top: 20px !important;}”][vc_column][vc_column_text css=”.vc_custom_1538364359291{margin-bottom: 0px !important;}”]Timings: 9.00 – 6.00 PM \nPrice: ₹ 34\,500 (lunch included) \nPlease read the General Information before you apply for this course.[/vc_column_text][/vc_column][/vc_row]
URL:https://www.quiethealingcenter.info/course/oceanic-bodywork-aqua-oba-2-with-gianni-de-stefani/
LOCATION:Quiet Healing Center\, India
CATEGORIES:2019
ATTACH;FMTTYPE=image/jpeg:https://www.quiethealingcenter.info/wp-content/uploads/2018/09/oba-gianni-1000-34.jpg
END:VEVENT
BEGIN:VEVENT
DTSTART;VALUE=DATE:20190118
DTEND;VALUE=DATE:20190120
DTSTAMP:20260425T002912
CREATED:20181209T174650Z
LAST-MODIFIED:20190118T174001Z
UID:3153-1547769600-1547942399@www.quiethealingcenter.info
SUMMARY:Somatic Movement with Maggie
DESCRIPTION:[vc_row][vc_column][vc_column_text css=”.vc_custom_1514521966088{margin-bottom: 0px !important;}”]A 2-day neuromuscular re-education (mind-body training) intensive in the tradition of Thomas Hanna. \nSomatics is a system of slow mindful movements. It is a gentle\, easy and effective way to help you manage chronic and acute pain. Other benefits include more ease in the body\, better posture and deep relaxation. It teaches you to recognize\, release and reverse chronic pain patterns resulting from injury\, stress\, or habituated postures.[/vc_column_text][/vc_column][/vc_row][vc_row css=”.vc_custom_1514522279810{margin-top: 10px !important;padding-top: 10px !important;}”][vc_column width=”1/2″][vc_single_image image=”1536″ img_size=”1000×750″][/vc_column][vc_column width=”1/2″][vc_single_image image=”1537″ img_size=”1000×750″][/vc_column][/vc_row][vc_row][vc_column][vc_column_text]We will begin with a short introduction – what Somatics is\, why it’s unique and how it works\, and then experience a variety of fun\, easy and gentle movements designed to help you create a deeper sense of awareness as to the places where you hold tension in your body. \nAt the end of the session there will be time for questions and a review of specific movements which can be practiced at home. \nHandouts of the home practice will be given. \nFor further information on Somatics please visit: Association for Hanna Somatics\, Novato Institute for Somatic Research and Training and International Institute for Somatic Movement Education.[/vc_column_text][/vc_column][/vc_row][vc_row css=”.vc_custom_1525959319424{margin-top: 20px !important;padding-top: 20px !important;}”][vc_column width=”1/4″][vc_single_image image=”1843″ img_size=”430×538″][/vc_column][vc_column width=”3/4″][vc_column_text css=”.vc_custom_1514522407392{margin-bottom: 0px !important;}”]Maggie \nOriginally from London\, Maggie joined Auroville in 2005 where she lives and works as a massage therapist and intensive facilitator. \nShe is a professionally trained Somatic Movement Educator and offers classes\, intensives and individual therapies.[/vc_column_text][/vc_column][/vc_row][vc_row css=”.vc_custom_1514522448560{margin-top: 15px !important;padding-top: 15px !important;}”][vc_column][vc_column_text css=”.vc_custom_1545116394910{margin-bottom: 0px !important;}”]\nTimings: 9.30 AM – 5.00 PM \nPrice: Rs 5\,500 (lunch included) \nPlease read the General Information before you apply for this course. \n[/vc_column_text][/vc_column][/vc_row]
URL:https://www.quiethealingcenter.info/course/somatic-movement-with-maggie-6/
LOCATION:Quiet Healing Center\, India
CATEGORIES:2017
ATTACH;FMTTYPE=image/jpeg:https://www.quiethealingcenter.info/wp-content/uploads/2017/12/somatics-1000-01-custom.jpg
END:VEVENT
END:VCALENDAR