BEGIN:VCALENDAR
VERSION:2.0
PRODID:-//Quiet Healing Center - ECPv6.11.2.1//NONSGML v1.0//EN
CALSCALE:GREGORIAN
METHOD:PUBLISH
X-ORIGINAL-URL:https://www.quiethealingcenter.info
X-WR-CALDESC:Events for Quiet Healing Center
REFRESH-INTERVAL;VALUE=DURATION:PT1H
X-Robots-Tag:noindex
X-PUBLISHED-TTL:PT1H
BEGIN:VTIMEZONE
TZID:UTC
BEGIN:STANDARD
TZOFFSETFROM:+0000
TZOFFSETTO:+0000
TZNAME:UTC
DTSTART:20180101T000000
END:STANDARD
END:VTIMEZONE
BEGIN:VEVENT
DTSTART;VALUE=DATE:20180329
DTEND;VALUE=DATE:20180406
DTSTAMP:20260421T172234
CREATED:20171024T030211Z
LAST-MODIFIED:20180211T104935Z
UID:1188-1522281600-1522972799@www.quiethealingcenter.info
SUMMARY:Facilitator Intensive Watsu® with Watsu Team
DESCRIPTION:[vc_row][vc_column][vc_column_text css=”.vc_custom_1518292115990{margin-bottom: 0px !important;}”]An 8-day intensive. \nThis facilitator intensive is based on Watsu India’s vision\, gained over decades of practice\, while respecting the spirit of learning Watsu by Harold Dull.[/vc_column_text][/vc_column][/vc_row][vc_row css=”.vc_custom_1518292672498{margin-top: 10px !important;padding-top: 10px !important;}”][vc_column][vc_single_image image=”1903″ img_size=”1500×1125″][/vc_column][/vc_row][vc_row][vc_column][vc_column_text css=”.vc_custom_1518345527298{margin-bottom: 0px !important;}”]Your goals during this intensive are to be able to:\n• prepare and offer Intro and Basic Watsu intensives;\n• perform individual tasks and provide the expected intensive;\n• organize\, guide and assist participants in line with Watsu’s vision;\n• provide a suitable environment\, which promotes co-operation based on equal partnerships;\n• create conditions for both welfare and safety of participants;\n• ensure quality facilitation in order to foster a positive impact for developing personal skills;\n• promote intensives and adapt to the market realities of your region. \nYou will be entitled – after a positive evaluation – to offer Watsu Basic and Watsu Introduction intensives.[/vc_column_text][vc_row_inner css=”.vc_custom_1518346068950{margin-top: 20px !important;border-top-width: 0px !important;border-right-width: 0px !important;border-bottom-width: 0px !important;border-left-width: 0px !important;padding-top: 20px !important;}”][vc_column_inner][vc_column_text css=”.vc_custom_1518345462023{margin-bottom: 0px !important;}”]The Watsu Team with its coordinator Gianni De Stefani considers Watsu to be a:\n– bio-natural practice with the purpose of maintaining personal well-being and vitality;\n– inner growth discipline\, which through listening to others promotes awareness of the Self;\n– instrument of social transformation\, which may help to recognize our real needs and consider ways to live in harmony with nature and others. \nWatsu is a healing art in which the practitioner is centred and acts in a meditative state\, without any intention. A Watsu practitioner operating from this state allows the receiver to experience: \n• oceanic feeling (through the absence of limitations)\n• non-action state (thanks to the absence of normal gravity)\n• full acceptance (of any part of the body at any time)\n• fluidity of movement and transparency of the inner Self\, which allows recognition of our true being[/vc_column_text][/vc_column_inner][/vc_row_inner][vc_row_inner css=”.vc_custom_1518345848519{margin-top: 20px !important;padding-top: 20px !important;}”][vc_column_inner][vc_column_text css=”.vc_custom_1518345814298{margin-bottom: 0px !important;}”]This intensive is guided by a collective team of facilitators.[/vc_column_text][/vc_column_inner][/vc_row_inner][vc_row_inner][vc_column_inner width=”1/3″][vc_single_image image=”1755″ img_size=”430×538″][/vc_column_inner][vc_column_inner width=”1/3″][vc_single_image image=”1653″ img_size=”430×538″][/vc_column_inner][vc_column_inner width=”1/3″][vc_single_image image=”1756″ img_size=”430×538″][/vc_column_inner][/vc_row_inner][/vc_column][/vc_row][vc_row][vc_column][vc_column_text css=”.vc_custom_1518292911969{margin-top: 20px !important;margin-bottom: 0px !important;padding-top: 20px !important;}”]Timings: 8.45 AM – 6.30 PM \nPrice: Rs 39\,950 (lunch included) \nPlease read the General Information before you apply for this intensive.[/vc_column_text][/vc_column][/vc_row]
URL:https://www.quiethealingcenter.info/course/instructor-training-course-itc-watsu-with-watsu-india-team/
LOCATION:Quiet Healing Center\, India
CATEGORIES:2017
ATTACH;FMTTYPE=image/jpeg:https://www.quiethealingcenter.info/wp-content/uploads/2017/10/gianni-itc-watsu-1000-01-custom.jpg
END:VEVENT
END:VCALENDAR