BEGIN:VCALENDAR
VERSION:2.0
PRODID:-//Quiet Healing Center - ECPv6.11.2.1//NONSGML v1.0//EN
CALSCALE:GREGORIAN
METHOD:PUBLISH
X-WR-CALNAME:Quiet Healing Center
X-ORIGINAL-URL:https://www.quiethealingcenter.info
X-WR-CALDESC:Events for Quiet Healing Center
REFRESH-INTERVAL;VALUE=DURATION:PT1H
X-Robots-Tag:noindex
X-PUBLISHED-TTL:PT1H
BEGIN:VTIMEZONE
TZID:UTC
BEGIN:STANDARD
TZOFFSETFROM:+0000
TZOFFSETTO:+0000
TZNAME:UTC
DTSTART:20180101T000000
END:STANDARD
END:VTIMEZONE
BEGIN:VEVENT
DTSTART;VALUE=DATE:20180310
DTEND;VALUE=DATE:20180313
DTSTAMP:20260422T082412
CREATED:20171024T021922Z
LAST-MODIFIED:20180510T133824Z
UID:1173-1520640000-1520899199@www.quiethealingcenter.info
SUMMARY:Watsu® & Pregnancy with Xavier Boisson
DESCRIPTION:[vc_row][vc_column][vc_column_text css=”.vc_custom_1518290772649{margin-bottom: 0px !important;}”]This 3-day intensive offers water participants and practitioners the necessary tools for giving sessions to pregnant women and gaining a deeper insight into the fascinating world of pregnancy and birth in relation to aquatic bodywork. It also offers specific indications and contra-indications in the context of pregnancy and will allow you to give precious support to future mothers.[/vc_column_text][/vc_column][/vc_row][vc_row css=”.vc_custom_1518290856968{margin-top: 10px !important;padding-top: 10px !important;}”][vc_column][vc_single_image image=”1784″ img_size=”1000×750″][/vc_column][/vc_row][vc_row][vc_column][vc_column_text css=”.vc_custom_1518290886431{margin-bottom: 0px !important;}”]With Watsu\, we can help relieving specific pains and create psychological conditions to better prepare pregnant women for childbirth. The intensive also focuses on the prenatal energetic relation between parents and child and how the future father can fully participate in the pregnancy. \nWith Watsu\, the family history starts well before birth…[/vc_column_text][/vc_column][/vc_row][vc_row][vc_column][vc_row_inner css=”.vc_custom_1525959502701{margin-top: 20px !important;padding-top: 20px !important;}”][vc_column_inner width=”1/4″][vc_single_image image=”1849″ img_size=”430×538″][/vc_column_inner][vc_column_inner width=”3/4″][vc_column_text css=”.vc_custom_1518347240024{margin-bottom: 0px !important;}”]Xavier Boisson \nWABA facilitator for Watsu Basic\, Watsu 1 and 2 and Tantsu\, and a WaterDance practitioner. He is also specialized in working with pregnant women (and their partner).[/vc_column_text][/vc_column_inner][/vc_row_inner][vc_column_text css=”.vc_custom_1518290937243{margin-top: 20px !important;margin-bottom: 0px !important;padding-top: 20px !important;}”]Timings: 8.45 AM – 6.30 PM \nPrice: Rs 14\,500 (lunch included) \nPlease read the General Information before you apply for this intensive.[/vc_column_text][/vc_column][/vc_row]
URL:https://www.quiethealingcenter.info/course/watsu-pregnancy-with-xavier-boisson/
LOCATION:Quiet Healing Center\, India
CATEGORIES:2017
ATTACH;FMTTYPE=image/jpeg:https://www.quiethealingcenter.info/wp-content/uploads/2017/10/xavier-pregnant-1000-custom.jpg
END:VEVENT
END:VCALENDAR