BEGIN:VCALENDAR
VERSION:2.0
PRODID:-//Quiet Healing Center - ECPv6.11.2.1//NONSGML v1.0//EN
CALSCALE:GREGORIAN
METHOD:PUBLISH
X-WR-CALNAME:Quiet Healing Center
X-ORIGINAL-URL:https://www.quiethealingcenter.info
X-WR-CALDESC:Events for Quiet Healing Center
REFRESH-INTERVAL;VALUE=DURATION:PT1H
X-Robots-Tag:noindex
X-PUBLISHED-TTL:PT1H
BEGIN:VTIMEZONE
TZID:UTC
BEGIN:STANDARD
TZOFFSETFROM:+0000
TZOFFSETTO:+0000
TZNAME:UTC
DTSTART:20180101T000000
END:STANDARD
END:VTIMEZONE
BEGIN:VEVENT
DTSTART;VALUE=DATE:20180303
DTEND;VALUE=DATE:20180310
DTSTAMP:20260423T012326
CREATED:20171024T020329Z
LAST-MODIFIED:20180510T133419Z
UID:1159-1520035200-1520639999@www.quiethealingcenter.info
SUMMARY:Shiatsu for Watsu® with Natacha Laborde & Petra Buschfeld
DESCRIPTION:[vc_row][vc_column][vc_column_text css=”.vc_custom_1518335505168{margin-bottom: 0px !important;}”]A 7-day intensive. \nWatsu\, the abbreviation of WATer ShiatSU\, originates from Masunaga’s Zen Shiatsu\, which was transferred and adapted to warm water by the Californian Shiatsu practitioner Harold Dull. Therefore a deeper knowledge of Shiatsu is highly recommended.[/vc_column_text][vc_row_inner css=”.vc_custom_1518289003609{margin-top: 10px !important;padding-top: 10px !important;}”][vc_column_inner width=”1/2″][vc_single_image image=”1891″ img_size=”1000×750″][/vc_column_inner][vc_column_inner width=”1/2″][vc_single_image image=”1892″ img_size=”1000×750″][/vc_column_inner][/vc_row_inner][/vc_column][/vc_row][vc_row][vc_column][vc_column_text css=”.vc_custom_1518335525533{margin-bottom: 0px !important;}”]Shiatsu is a modality\, which originated within the oldest healing system known to humanity. It restores and maintains health by adjusting and balancing the body’s primary communication network – the energy system. This system directs our growth\, body functions\, and activities as well as our awareness from conception till death. \nAbout 60% of this intensive is on land\, during which we will offer a simple Shiatsu protocol for applying pressure along the 12 main meridians (energy pathways) and some basic theory of Chinese Medicine (yin yang\, 5 elements system\, organ-clock). \nPractical exercises on land and in water will let you discover your own energy system and become more sensitive to your partner’s energy body.[/vc_column_text][vc_row_inner css=”.vc_custom_1525959244727{margin-top: 20px !important;padding-top: 20px !important;}”][vc_column_inner width=”1/4″][vc_single_image image=”1769″ img_size=”430×673″][/vc_column_inner][vc_column_inner width=”3/4″][vc_column_text css=”.vc_custom_1518335664983{margin-bottom: 0px !important;}”]Natacha Laborde \nCertified Shiatsu facilitator and practitioner.[/vc_column_text][/vc_column_inner][/vc_row_inner][vc_row_inner][vc_column_inner width=”1/4″][vc_single_image image=”1756″ img_size=”430×538″][/vc_column_inner][vc_column_inner width=”3/4″][vc_column_text css=”.vc_custom_1518335783483{margin-bottom: 0px !important;}”]Petra Buschfeld \nCertified acupuncturist\, WABA facilitator for Watsu Basic and co-facilitater for Shiatsu for Watsu. She also facilitates OBA Intro and Woga 1 & 2.[/vc_column_text][/vc_column_inner][/vc_row_inner][/vc_column][/vc_row][vc_row css=”.vc_custom_1518288840921{margin-top: 20px !important;padding-top: 20px !important;}”][vc_column][vc_column_text css=”.vc_custom_1518288822884{margin-bottom: 0px !important;}”]Timings: 9 AM – 6.30 PM \nPrice: Rs 29\,500 (lunch included) \nPlease read the General Information before you apply for this intensive.[/vc_column_text][/vc_column][/vc_row]
URL:https://www.quiethealingcenter.info/course/shiatsu-for-watsu-with-natacha-laborde-petra-buschfeld/
LOCATION:Quiet Healing Center\, India
CATEGORIES:2017
ATTACH;FMTTYPE=image/jpeg:https://www.quiethealingcenter.info/wp-content/uploads/2017/10/shiatsu-group-1000-02-custom.jpg
END:VEVENT
BEGIN:VEVENT
DTSTART;VALUE=DATE:20180308
DTEND;VALUE=DATE:20180310
DTSTAMP:20260423T012326
CREATED:20180211T080718Z
LAST-MODIFIED:20180510T133518Z
UID:1897-1520467200-1520639999@www.quiethealingcenter.info
SUMMARY:Somatic Movement with Maggie
DESCRIPTION:[vc_row][vc_column][vc_column_text css=”.vc_custom_1514521966088{margin-bottom: 0px !important;}”]A 2-day neuromuscular re-education (mind-body training) intensive in the tradition of Thomas Hanna. \nSomatics is a system of slow mindful movements. It is a gentle\, easy and effective way to help you manage chronic and acute pain. Other benefits include more ease in the body\, better posture and deep relaxation. It teaches you to recognize\, release and reverse chronic pain patterns resulting from injury\, stress\, or habituated postures.[/vc_column_text][/vc_column][/vc_row][vc_row css=”.vc_custom_1514522279810{margin-top: 10px !important;padding-top: 10px !important;}”][vc_column width=”1/2″][vc_single_image image=”1536″ img_size=”1000×750″][/vc_column][vc_column width=”1/2″][vc_single_image image=”1537″ img_size=”1000×750″][/vc_column][/vc_row][vc_row][vc_column][vc_column_text]We will begin with a short introduction – what Somatics is\, why it’s unique and how it works\, and then experience a variety of fun\, easy and gentle movements designed to help you create a deeper sense of awareness as to the places where you hold tension in your body. \nAt the end of the session there will be time for questions and a review of specific movements which can be practiced at home. \nHandouts of the home practice will be given. \nFor further information on Somatics please visit: Association for Hanna Somatics\, Novato Institute for Somatic Research and Training and International Institute for Somatic Movement Education.[/vc_column_text][/vc_column][/vc_row][vc_row css=”.vc_custom_1525959319424{margin-top: 20px !important;padding-top: 20px !important;}”][vc_column width=”1/4″][vc_single_image image=”1843″ img_size=”430×538″][/vc_column][vc_column width=”3/4″][vc_column_text css=”.vc_custom_1514522407392{margin-bottom: 0px !important;}”]Maggie \nOriginally from London\, Maggie joined Auroville in 2005 where she lives and works as a massage therapist and intensive facilitator. \nShe is a professionally trained Somatic Movement Educator and offers classes\, intensives and individual therapies.[/vc_column_text][/vc_column][/vc_row][vc_row css=”.vc_custom_1514522448560{margin-top: 15px !important;padding-top: 15px !important;}”][vc_column][vc_column_text css=”.vc_custom_1514522480086{margin-bottom: 0px !important;}”]\nTimings: 9.30 AM – 5.00 PM \nPrice: Rs 5\,400 (lunch included) \nPlease read the General Information before you apply for this course. \n[/vc_column_text][/vc_column][/vc_row]
URL:https://www.quiethealingcenter.info/course/somatic-movement-with-maggie-5/
LOCATION:Quiet Healing Center\, India
CATEGORIES:2017
ATTACH;FMTTYPE=image/jpeg:https://www.quiethealingcenter.info/wp-content/uploads/2017/12/somatics-1000-01-custom.jpg
END:VEVENT
BEGIN:VEVENT
DTSTART;VALUE=DATE:20180309
DTEND;VALUE=DATE:20180310
DTSTAMP:20260423T012326
CREATED:20171024T021058Z
LAST-MODIFIED:20180510T133639Z
UID:1162-1520553600-1520639999@www.quiethealingcenter.info
SUMMARY:Watsu® 1 Integration Day with Xavier
DESCRIPTION:[vc_row][vc_column][vc_column_text css=”.vc_custom_1518291029462{margin-bottom: 0px !important;}”]Integration Days are excellent opportunities to refresh\, adapt and further explore the techniques and sequences acquired in Watsu 1 and their effects on both giver and receiver.[/vc_column_text][/vc_column][/vc_row][vc_row css=”.vc_custom_1518291155308{margin-top: 10px !important;padding-top: 10px !important;}”][vc_column width=”1/2″][vc_single_image image=”1788″ img_size=”1000×750″][/vc_column][vc_column width=”1/2″][vc_single_image image=”1787″ img_size=”1000×750″][/vc_column][/vc_row][vc_row][vc_column][vc_column_text css=”.vc_custom_1518291172161{margin-bottom: 0px !important;}”]Special attention is given to details of the movements and their necessary adaptations according to the size\, buoyancy and flexibility of the receiver. \nBy refining the gracefully flowing transitions of Watsu’s major positions and perfecting your own body mechanics\, you will support and move each person as effortlessly as possible.[/vc_column_text][/vc_column][/vc_row][vc_row css=”.vc_custom_1518347408953{margin-top: 10px !important;padding-top: 10px !important;}”][vc_column][vc_row_inner css=”.vc_custom_1525959399098{margin-top: 20px !important;padding-top: 20px !important;}”][vc_column_inner width=”1/4″][vc_single_image image=”1849″ img_size=”430×538″][/vc_column_inner][vc_column_inner width=”3/4″][vc_column_text css=”.vc_custom_1518347385892{margin-bottom: 0px !important;}”]Xavier Boisson \nWABA facilitator for Watsu Basic\, Watsu 1 and 2 and Tantsu\, and a WaterDance practitioner. He is also specialized in working with pregnant women (and their partner).[/vc_column_text][/vc_column_inner][/vc_row_inner][/vc_column][/vc_row][vc_row css=”.vc_custom_1518347450088{margin-top: 20px !important;padding-top: 20px !important;}”][vc_column][vc_column_text css=”.vc_custom_1518291237510{margin-bottom: 0px !important;}”]Timings: 9 AM – 12 PM \nPrice: Rs 1\,750 \nPlease read the General Information before you apply for this intensive.[/vc_column_text][/vc_column][/vc_row]
URL:https://www.quiethealingcenter.info/course/watsu-1-integration-day-with-dariya-or-xavier/
LOCATION:Quiet Healing Center\, India
CATEGORIES:2017
ATTACH;FMTTYPE=image/jpeg:https://www.quiethealingcenter.info/wp-content/uploads/2017/10/watsu-integration-day-1000-02-custom.jpg
END:VEVENT
END:VCALENDAR