BEGIN:VCALENDAR
VERSION:2.0
PRODID:-//Quiet Healing Center - ECPv6.11.2.1//NONSGML v1.0//EN
CALSCALE:GREGORIAN
METHOD:PUBLISH
X-WR-CALNAME:Quiet Healing Center
X-ORIGINAL-URL:https://www.quiethealingcenter.info
X-WR-CALDESC:Events for Quiet Healing Center
REFRESH-INTERVAL;VALUE=DURATION:PT1H
X-Robots-Tag:noindex
X-PUBLISHED-TTL:PT1H
BEGIN:VTIMEZONE
TZID:UTC
BEGIN:STANDARD
TZOFFSETFROM:+0000
TZOFFSETTO:+0000
TZNAME:UTC
DTSTART:20180101T000000
END:STANDARD
END:VTIMEZONE
BEGIN:VEVENT
DTSTART;VALUE=DATE:20180225
DTEND;VALUE=DATE:20180303
DTSTAMP:20260422T103909
CREATED:20171024T014111Z
LAST-MODIFIED:20180120T180512Z
UID:1146-1519516800-1520035199@www.quiethealingcenter.info
SUMMARY:WaterDance 3 with Arjana
DESCRIPTION:[vc_row][vc_column][vc_column_text]A 6-day intensive\, mainly under water. \nFree-Flow-Dance: Are you ready to take the next step into a new dimension? \nWaterDance resembles many other forms of art. Take the example of the musician who is studying for years fingering-exercises and basic studies before he will become a gifted virtuoso able to express himself. With WaterDance\, there will come the moment when the practitioner is ready to leave technique to step into a new dimension\, in which the creative aspect is invited to unfold in its beauty and full potential.[/vc_column_text][/vc_column][/vc_row][vc_row css=”.vc_custom_1514526483386{margin-top: 10px !important;padding-top: 10px !important;}”][vc_column width=”1/2″][vc_single_image image=”1551″ img_size=”1000×750″][/vc_column][vc_column width=”1/2″][vc_single_image image=”1560″ img_size=”1000×750″][/vc_column][/vc_row][vc_row][vc_column][vc_column_text css=”.vc_custom_1514526526274{margin-bottom: 0px !important;}”]In WaterDance 3\, we invite you on a journey\, which will lead you to more creativity and spontaneity. In Free Flow\, you expand on the foundations of WaterDance 1 and 2\, taking your repertoire of movement into the realm of a true dance. \nYou will be guided to create your own underwater moves and to link them in endless new ways. We intend to open a space in which we focus and absorb the moment with all our senses. With this kind of presence\, our dance will be directly connected with our partner; it becomes creative\, spontaneous\, playful and perhaps different from all that we have done so far with WaterDance. \nBreath and rhythm are for both giver and receiver important guidelines. In this intensive\, we will listen carefully to the intimate connection between breathing\, rhythm and movement. When we succeed to be deeply connected with the essence of breath on the most profound level possible\, spontaneous moving impulses will be created\, expressing the poetry of the soul of both giver and receiver. \nThe water\, the present moment\, you and your partner\, both of your breathing\, the movement\, will become one fluent unity. \nBesides playing in the water we will spend time in the group room or in the nature to explore free flow on land. Sharings from heart to heart\, silent and active meditations\, breath work and communication skills are possible supporting tools to create synchronicity in the group and to give a healthy counterpoint to the dissolving and melting qualities of the work in the warm water.[/vc_column_text][vc_row_inner css=”.vc_custom_1514526571368{margin-top: 20px !important;padding-top: 20px !important;}”][vc_column_inner width=”1/4″][vc_single_image image=”1554″ img_size=”430×673″][/vc_column_inner][vc_column_inner width=”3/4″][vc_column_text css=”.vc_custom_1514526429245{margin-bottom: 0px !important;}”]Arjana \n“Take a drop of water. If you know how to listen to it\, it will tell you about the earth\, the sea and the sky… “. 30 years ago\, Arjana discovered the beauty and the healing powers of Aquatic Bodywork and since then she is sharing this gift as an international facilitator of WaterDance and WATSU (Europe\, USA\, Hawaii\, New Zealand\, Israel\, Czech Republic\, Poland\, Bali…). \nImportant professional milestones:\n– Studying and practicing different forms of bodywork since 1985\n– Co-Founder of WaterDance (1987)\n– Certified WATSU facilitator (1992)\n– Co-Founder and director of the Institute of Aquatic Bodywork Switzerland (1992-2004)\n– Founder of the Aquatic Bodywork Center in Belgium “Le Centre” (1996) \nIn addition to her work in the water\, Arjana has been trained in Hatha Yoga (Mexico and Belgium)\, Hormon Yoga (Switzerland)\, perineology (BeBo Switzerland)\, Natural Systemic Therapy (SNT Switzerland)\, Federal Adult Eduction (SVEB Switzerland)\, and Subtle Energy Healingwork (Energy Mastery School USA).[/vc_column_text][/vc_column_inner][/vc_row_inner][/vc_column][/vc_row][vc_row][vc_column][mk_padding_divider size=”30″][vc_column_text]\nTimings: 8.45 AM – 6.30 PM \nPrice: Rs 29\,500 (lunch included) \nPlease read the General Information before you apply for this intensive.[/vc_column_text][/vc_column][/vc_row]
URL:https://www.quiethealingcenter.info/course/waterdance-3-arjana/
LOCATION:Quiet Healing Center\, India
CATEGORIES:2017
ATTACH;FMTTYPE=image/jpeg:https://www.quiethealingcenter.info/wp-content/uploads/2017/10/arjana-2-arms-up-1000-custom.jpg
END:VEVENT
BEGIN:VEVENT
DTSTART;VALUE=DATE:20180225
DTEND;VALUE=DATE:20180303
DTSTAMP:20260422T103909
CREATED:20171024T014753Z
LAST-MODIFIED:20180510T133131Z
UID:1150-1519516800-1520035199@www.quiethealingcenter.info
SUMMARY:Tantsu® 1 with Xavier Boisson
DESCRIPTION:[vc_row][vc_column][vc_column_text css=”.vc_custom_1518286297842{margin-bottom: 0px !important;}”]A 6-day intensive. \nTantsu grew out of Watsu. Watsu is a form of aquatic bodywork developed in the 1980s by Harold Dull\, floating and stretching people in warm water. In Tantsu\, the unconditional holding of Watsu is brought back onto land. \nTantsu offers a deep state of listening and creates an unconditional union and cradle of connected breath and presence. The trust established by this cradle and its creative exploration make it ideal for giving a Tantsu session to anybody.[/vc_column_text][/vc_column][/vc_row][vc_row css=”.vc_custom_1518286318726{margin-top: 10px !important;padding-top: 10px !important;}”][vc_column width=”1/2″][vc_single_image image=”1643″ img_size=”1000×750″][/vc_column][vc_column width=”1/2″][vc_single_image image=”1645″ img_size=”1000×750″][/vc_column][/vc_row][vc_row][vc_column][vc_column_text css=”.vc_custom_1518286348471{margin-bottom: 0px !important;}”]During the first four days\, you will be exposed to the basics of Tantsu: cradling someone in a comfortable hold\, which gives access to a deep level of relaxation and stillness. The micro-movements that appear will guide your moves\, stretches and rotations of shoulders\, arms\, hips and legs\, thereby releasing blockages in the energy flow. \nThe following two days will take you deeper into body-listening and exploration of various possible body movements. You will also gain knowledge about meridians\, hara\, and the connection between mind and body. \nIn this intensive Tantsu will become a joyful expression of caring love.[/vc_column_text][vc_row_inner css=”.vc_custom_1525959091628{margin-top: 20px !important;padding-top: 20px !important;}”][vc_column_inner width=”1/4″][vc_single_image image=”1849″ img_size=”430×538″][/vc_column_inner][vc_column_inner width=”3/4″][vc_column_text css=”.vc_custom_1518329894399{margin-bottom: 0px !important;}”]Xavier Boisson \nWABA facilitator for Watsu Basic\, Watsu 1 and 2 and Tantsu\, and a WaterDance practitioner. He is also specialized in working with pregnant women (and their partner).[/vc_column_text][/vc_column_inner][/vc_row_inner][/vc_column][/vc_row][vc_row css=”.vc_custom_1518286419907{margin-top: 20px !important;padding-top: 20px !important;}”][vc_column][vc_column_text css=”.vc_custom_1518286393886{margin-bottom: 0px !important;}”]Timings: 8.45 AM – 6.30 PM \nPrice: Rs 29\,500 (lunch included) \nPlease read the General Information before you apply for this intensive.[/vc_column_text][/vc_column][/vc_row]
URL:https://www.quiethealingcenter.info/course/tantsu-1-xavier-boisson/
LOCATION:Quiet Healing Center\, India
CATEGORIES:2017
ATTACH;FMTTYPE=image/jpeg:https://www.quiethealingcenter.info/wp-content/uploads/2017/10/tantsu-1000-01-custom.jpg
END:VEVENT
END:VCALENDAR