BEGIN:VCALENDAR
VERSION:2.0
PRODID:-//Quiet Healing Center - ECPv6.11.2.1//NONSGML v1.0//EN
CALSCALE:GREGORIAN
METHOD:PUBLISH
X-ORIGINAL-URL:https://www.quiethealingcenter.info
X-WR-CALDESC:Events for Quiet Healing Center
REFRESH-INTERVAL;VALUE=DURATION:PT1H
X-Robots-Tag:noindex
X-PUBLISHED-TTL:PT1H
BEGIN:VTIMEZONE
TZID:UTC
BEGIN:STANDARD
TZOFFSETFROM:+0000
TZOFFSETTO:+0000
TZNAME:UTC
DTSTART:20180101T000000
END:STANDARD
END:VTIMEZONE
BEGIN:VEVENT
DTSTART;VALUE=DATE:20180223
DTEND;VALUE=DATE:20180225
DTSTAMP:20260424T011636
CREATED:20171024T013406Z
LAST-MODIFIED:20180510T132846Z
UID:1142-1519344000-1519516799@www.quiethealingcenter.info
SUMMARY:Watsu® & Meditation with Dariya
DESCRIPTION:[vc_row][vc_column][vc_column_text css=”.vc_custom_1518284511275{margin-bottom: 0px !important;}”]A 2-day intensive. \nMeditation is an important tool to listen\, accept and know ourselves\, and to become more intuitive towards ourselves and others. The purpose of meditation – besides the physical and psychological benefits – is to build a connection with our soul and with the divine in and around us\, in whichever spiritual or religious form we prefer to understand. \nIt also encourages the development of our intuition and perception through the heart and not only through the rational mind. This permits us\, in certain life situations\, to operate on a higher level and make better choices.[/vc_column_text][/vc_column][/vc_row][vc_row css=”.vc_custom_1518286007935{margin-top: 10px !important;padding-top: 10px !important;}”][vc_column width=”1/2″][vc_single_image image=”1760″ img_size=”1000×750″][/vc_column][vc_column width=”1/2″][vc_single_image image=”1761″ img_size=”1000×750″][/vc_column][/vc_row][vc_row][vc_column][vc_column_text css=”.vc_custom_1518285970091{margin-bottom: 0px !important;}”]Meditation helps us essentially to develop our capacity for personal introspection and is the basis for our ability to listen to the person we float in our arms during a Watsu session. In this way we can work with a genuine empathy\, thereby stimulating the flow of subtle energy.[/vc_column_text][vc_row_inner css=”.vc_custom_1525958926303{margin-top: 20px !important;padding-top: 20px !important;}”][vc_column_inner width=”1/4″][vc_single_image image=”561″ img_size=”430×538″][/vc_column_inner][vc_column_inner width=”3/4″][vc_column_text css=”.vc_custom_1518330264141{margin-bottom: 0px !important;}”]Dariya \nWABA facilitator\, has been sharing her passion for aquatic body­work with groups since 2004. Besides the belief that a solid technical base provides possi­bilities for ease and lightness in further personal growth\, her main focus is to create spaces for flow\, deepening and connection.[/vc_column_text][/vc_column_inner][/vc_row_inner][/vc_column][/vc_row][vc_row css=”.vc_custom_1518286064264{margin-top: 20px !important;padding-top: 20px !important;}”][vc_column][vc_column_text css=”.vc_custom_1518286112968{margin-bottom: 0px !important;}”]Timings: 9 AM – 6 PM \nPrice: Rs 8\,950 (lunch included) \nPlease read the General Information before you apply for this intensive.[/vc_column_text][/vc_column][/vc_row]
URL:https://www.quiethealingcenter.info/course/watsu-meditation-dariya/
LOCATION:Quiet Healing Center\, India
CATEGORIES:2017
ATTACH;FMTTYPE=image/jpeg:https://www.quiethealingcenter.info/wp-content/uploads/2017/10/dariya-meditation-1000-01-custom.jpg
END:VEVENT
BEGIN:VEVENT
DTSTART;VALUE=DATE:20180223
DTEND;VALUE=DATE:20180225
DTSTAMP:20260424T011636
CREATED:20171229T044535Z
LAST-MODIFIED:20181210T133650Z
UID:1545-1519344000-1519516799@www.quiethealingcenter.info
SUMMARY:Vedic Healing with Omkar
DESCRIPTION:[vc_row][vc_column][vc_column_text css=”.vc_custom_1518289777302{margin-bottom: 0px !important;}”]In this intensive you are exposed to the ancient art of Vedic Healing through Prana Vidya or the Knowlegde of Prana\, the universal life force which permeates all creation.[/vc_column_text][/vc_column][/vc_row][vc_row css=”.vc_custom_1514522279810{margin-top: 10px !important;padding-top: 10px !important;}”][vc_column width=”2/3″][vc_single_image image=”1845″ img_size=”1000×750″][/vc_column][vc_column width=”1/3″][vc_column_text css=”.vc_custom_1518290023462{margin-bottom: 0px !important;}”]Prana Vidya offers the knowledge of gaining\, restoring and uplifting Prana in our body. It also explains how to transfer this life force to other people\, as Prana can be given to others\, who are sick or in an imbalanced state. \nHuman beings are driven by five types of Prana that reside in different parts of our body. If our body contains all five kinds of Prana in a sufficient level\, we are in good health\, feel happy and fulfilled\, and experience unlimited love and compassion. If there is an imbalance\, problems manifest in body\, mind or soul.[/vc_column_text][/vc_column][/vc_row][vc_row][vc_column][vc_column_text css=”.vc_custom_1518329168790{margin-bottom: 0px !important;}”]Prana Vidya was already used in Vedic times and its concepts are clearly described in the ancient writings of the Vedas and Upa-Vedas. Whereas most of the common spiritual healing methods deal with chakras and kundalini\, Prana Vidya works with the Prana body.[/vc_column_text][vc_row_inner css=”.vc_custom_1518329265299{margin-top: 10px !important;padding-top: 10px !important;}”][vc_column_inner width=”2/3″][vc_column_text css=”.vc_custom_1518329158800{margin-bottom: 0px !important;}”]Advantages of Prana Vidya: \n♦ Simple to learn and practice.\n♦ All types of life styles can experience and practice Prana Vidya.\n♦ Healing based on Prana Vidya does not have any side-effects for the healer.\n♦ While learning Prana Vidya\, its healing power can already be experienced.\n♦ All kinds of mental and physical problems can be cured.\n♦ Character\, memory power\, and thought processes can be improved.\n♦ Can also be used for success in education\, wealth\, peace\, and relationships.\n♦ Purifies our inner being and uplifts our spiritual life.[/vc_column_text][/vc_column_inner][vc_column_inner width=”1/3″][vc_single_image image=”1779″ img_size=”750×638″][/vc_column_inner][/vc_row_inner][/vc_column][/vc_row][vc_row css=”.vc_custom_1518290516301{margin-top: 20px !important;padding-top: 20px !important;}”][vc_column width=”1/4″][vc_single_image image=”1781″ img_size=”430×538″][/vc_column][vc_column width=”3/4″][vc_column_text css=”.vc_custom_1518290432558{margin-bottom: 0px !important;}”]Swami Omkar\n \nFounder of “Pranava Peetam Trust”\, has been teaching Prana Vidya in India and abroad and likes to share his knowledge with everyone\, who is eager to learn this ancient Vedic Healing method. \n[/vc_column_text][/vc_column][/vc_row][vc_row css=”.vc_custom_1518290458448{margin-top: 20px !important;padding-top: 20px !important;}”][vc_column][vc_column_text css=”.vc_custom_1544449008048{margin-bottom: 0px !important;}”]\nTimings: 10.30 AM – 5.30 PM \nPrice: Rs 6\,750 (lunch included) \nPlease read the General Information before you apply for this course. \n[/vc_column_text][/vc_column][/vc_row]
URL:https://www.quiethealingcenter.info/course/vedic-healing-with-omlar/
LOCATION:Quiet Healing Center\, India
CATEGORIES:2017
ATTACH;FMTTYPE=image/jpeg:https://www.quiethealingcenter.info/wp-content/uploads/2017/12/swami-omkar-portrait-1000-custom.jpg
END:VEVENT
END:VCALENDAR