BEGIN:VCALENDAR
VERSION:2.0
PRODID:-//Quiet Healing Center - ECPv6.11.2.1//NONSGML v1.0//EN
CALSCALE:GREGORIAN
METHOD:PUBLISH
X-WR-CALNAME:Quiet Healing Center
X-ORIGINAL-URL:https://www.quiethealingcenter.info
X-WR-CALDESC:Events for Quiet Healing Center
REFRESH-INTERVAL;VALUE=DURATION:PT1H
X-Robots-Tag:noindex
X-PUBLISHED-TTL:PT1H
BEGIN:VTIMEZONE
TZID:UTC
BEGIN:STANDARD
TZOFFSETFROM:+0000
TZOFFSETTO:+0000
TZNAME:UTC
DTSTART:20180101T000000
END:STANDARD
END:VTIMEZONE
BEGIN:VEVENT
DTSTART;VALUE=DATE:20180217
DTEND;VALUE=DATE:20180223
DTSTAMP:20260423T042116
CREATED:20171024T011632Z
LAST-MODIFIED:20180211T055116Z
UID:1131-1518825600-1519343999@www.quiethealingcenter.info
SUMMARY:Inner Watsu® with Watsu Team
DESCRIPTION:[vc_row][vc_column][vc_column_text css=”.vc_custom_1518282252413{margin-bottom: 0px !important;}”]This 6-day intensive is for experienced water students\, who want to dive deeper in the different layers of Watsu. \n“When your psychological energy returns beyond the period of the first childhood and penetrates in the heritage of your ancestral life\, it is here that your deep spiritual world\, whose existence you had never suspected\, opens itself wide.” C. G. Jung[/vc_column_text][vc_row_inner css=”.vc_custom_1518283886295{margin-top: 10px !important;padding-top: 10px !important;}”][vc_column_inner width=”1/3″][vc_single_image image=”1750″ img_size=”430×538″][/vc_column_inner][vc_column_inner width=”1/3″][vc_single_image image=”1751″ img_size=”430×538″][/vc_column_inner][vc_column_inner width=”1/3″][vc_single_image image=”1752″ img_size=”430×538″][/vc_column_inner][/vc_row_inner][/vc_column][/vc_row][vc_row][vc_column][vc_column_text css=”.vc_custom_1518282344805{margin-bottom: 0px !important;}”]With this beautiful citation of Jung\, we want to indicate the direction of the deep inner work that is carried out during this Inner Watsu intensive. Through an interdisciplinary approach and discussion on issues related to aquatic bodywork and personal growth\, you will deepen your experience and understanding of working with human beings in warm water.[/vc_column_text][vc_row_inner css=”.vc_custom_1518283911912{margin-top: 10px !important;padding-top: 10px !important;}”][vc_column_inner width=”2/3″][vc_single_image image=”1753″ img_size=”1000×750″][/vc_column_inner][vc_column_inner width=”1/3″][vc_single_image image=”1754″ img_size=”350×548″][/vc_column_inner][/vc_row_inner][/vc_column][/vc_row][vc_row][vc_column][vc_column_text css=”.vc_custom_1518283940442{margin-bottom: 0px !important;}”]You will gain skills into introducing Watsu to receivers and be introduced to the role of chakras (especially the heart chakra) as instruments of psychosomatic awareness. \nYou will deepen your knowledge of Watsu for disabled receivers and persons with special needs. You will also explore underwater work in new ways\, and experience the joy of gaining insights about Watsu in relation to pregnancy\, birth and breathing. \n  \nThis intensive is guided by a collective team of facilitators.[/vc_column_text][vc_row_inner][vc_column_inner width=”1/3″][vc_single_image image=”1755″ img_size=”430×538″][/vc_column_inner][vc_column_inner width=”1/3″][vc_single_image image=”1653″ img_size=”430×538″][/vc_column_inner][vc_column_inner width=”1/3″][vc_single_image image=”1756″ img_size=”430×538″][/vc_column_inner][/vc_row_inner][vc_row_inner][vc_column_inner][vc_column_text css=”.vc_custom_1518284378657{margin-bottom: 0px !important;}”]Please be aware that this is a deeply touching intensive and therefore avoid other activities during the time of the intensive![/vc_column_text][/vc_column_inner][/vc_row_inner][/vc_column][/vc_row][vc_row css=”.vc_custom_1518284345140{margin-top: 20px !important;padding-top: 20px !important;}”][vc_column][vc_column_text css=”.vc_custom_1518328218687{margin-bottom: 0px !important;}”]Timings: 9 AM – 6.30 PM (plus at least one evening!) \nPrice: Rs 28\,500 (lunch included) \nPlease read the General Information before you apply for this intensive.[/vc_column_text][/vc_column][/vc_row]
URL:https://www.quiethealingcenter.info/course/inner-watsu-watsu-india-team/
LOCATION:Quiet Healing Center\, India
CATEGORIES:2017
ATTACH;FMTTYPE=image/jpeg:https://www.quiethealingcenter.info/wp-content/uploads/2017/10/lotus-1000-03-custom.jpg
END:VEVENT
BEGIN:VEVENT
DTSTART;VALUE=DATE:20180219
DTEND;VALUE=DATE:20180220
DTSTAMP:20260423T042116
CREATED:20171229T043833Z
LAST-MODIFIED:20180510T132734Z
UID:1534-1518998400-1519084799@www.quiethealingcenter.info
SUMMARY:Somatic Movement with Maggie
DESCRIPTION:[vc_row][vc_column][vc_column_text css=”.vc_custom_1518336828485{margin-bottom: 0px !important;}”]A 1-day neuromuscular re-education (mind-body training) intensive in the tradition of Thomas Hanna. \nSomatics is a system of slow mindful movements. It is a gentle\, easy and effective way to help you manage chronic and acute pain. Other benefits include more ease in the body\, better posture and deep relaxation. It teaches you to recognize\, release and reverse chronic pain patterns resulting from injury\, stress\, or habituated postures.[/vc_column_text][/vc_column][/vc_row][vc_row css=”.vc_custom_1514522279810{margin-top: 10px !important;padding-top: 10px !important;}”][vc_column width=”1/2″][vc_single_image image=”1536″ img_size=”1000×750″][/vc_column][vc_column width=”1/2″][vc_single_image image=”1537″ img_size=”1000×750″][/vc_column][/vc_row][vc_row][vc_column][vc_column_text]We will begin with a short introduction – what Somatics is\, why it’s unique and how it works\, and then experience a variety of fun\, easy and gentle movements designed to help you create a deeper sense of awareness as to the places where you hold tension in your body. \nAt the end of the session there will be time for questions and a review of specific movements which can be practiced at home. \nHandouts of the home practice will be given. \nFor further information on Somatics please visit: Association for Hanna Somatics\, Novato Institute for Somatic Research and Training and International Institute for Somatic Movement Education.[/vc_column_text][/vc_column][/vc_row][vc_row css=”.vc_custom_1525958855007{margin-top: 20px !important;padding-top: 20px !important;}”][vc_column width=”1/4″][vc_single_image image=”1843″ img_size=”430×538″][/vc_column][vc_column width=”3/4″][vc_column_text css=”.vc_custom_1514522407392{margin-bottom: 0px !important;}”]Maggie \nOriginally from London\, Maggie joined Auroville in 2005 where she lives and works as a massage therapist and intensive facilitator. \nShe is a professionally trained Somatic Movement Educator and offers classes\, intensives and individual therapies.[/vc_column_text][/vc_column][/vc_row][vc_row css=”.vc_custom_1514522448560{margin-top: 15px !important;padding-top: 15px !important;}”][vc_column][vc_column_text css=”.vc_custom_1518336850107{margin-bottom: 0px !important;}”]\nTimings: 9.30 AM – 5.00 PM \nPrice: Rs 2\,700 (lunch included) \nPlease read the General Information before you apply for this course. \n[/vc_column_text][/vc_column][/vc_row]
URL:https://www.quiethealingcenter.info/course/somatic-movement-with-maggie/
LOCATION:Quiet Healing Center\, India
CATEGORIES:2017
ATTACH;FMTTYPE=image/jpeg:https://www.quiethealingcenter.info/wp-content/uploads/2017/12/somatics-1000-01-custom.jpg
END:VEVENT
END:VCALENDAR