BEGIN:VCALENDAR
VERSION:2.0
PRODID:-//Quiet Healing Center - ECPv6.11.2.1//NONSGML v1.0//EN
CALSCALE:GREGORIAN
METHOD:PUBLISH
X-ORIGINAL-URL:https://www.quiethealingcenter.info
X-WR-CALDESC:Events for Quiet Healing Center
REFRESH-INTERVAL;VALUE=DURATION:PT1H
X-Robots-Tag:noindex
X-PUBLISHED-TTL:PT1H
BEGIN:VTIMEZONE
TZID:UTC
BEGIN:STANDARD
TZOFFSETFROM:+0000
TZOFFSETTO:+0000
TZNAME:UTC
DTSTART:20180101T000000
END:STANDARD
END:VTIMEZONE
BEGIN:VEVENT
DTSTART;VALUE=DATE:20180208
DTEND;VALUE=DATE:20180217
DTSTAMP:20260424T084647
CREATED:20171024T010309Z
LAST-MODIFIED:20180510T132418Z
UID:1128-1518048000-1518825599@www.quiethealingcenter.info
SUMMARY:Watsu® 1 (TF) & OBA® 1 - Fluid Body with Gianni De Stefani
DESCRIPTION:[vc_row][vc_column][vc_column_text css=”.vc_custom_1518348012775{margin-bottom: 0px !important;}”]A demanding 8-day intensive (with a one day break after 3 days) on the surface as well as under water. \nDuring the Transition Flow (TF)\, you will acquire the skills to connect the basic movements you have been exposed to in Watsu Basic with long\, gracefully flowing transitions. You will also acquire knowledge about your own body mechanics and how to support and move each person as effortlessly as possible.[/vc_column_text][/vc_column][/vc_row][vc_row css=”.vc_custom_1518327218348{margin-top: 10px !important;padding-top: 10px !important;}”][vc_column width=”1/2″][vc_single_image image=”1562″ img_size=”1000×750″][/vc_column][vc_column width=”1/2″][vc_single_image image=”1800″ img_size=”1000×750″][/vc_column][/vc_row][vc_row][vc_column][vc_column_text css=”.vc_custom_1518348022415{margin-bottom: 0px !important;}”]OBA 1 – Fluid Body focuses mainly on underwater movements\, where the whole body can be moved in playful new ways.[/vc_column_text][vc_row_inner css=”.vc_custom_1518326792558{margin-top: 10px !important;padding-top: 10px !important;}”][vc_column_inner width=”2/3″][vc_single_image image=”1831″ img_size=”1000×638″][/vc_column_inner][vc_column_inner width=”1/3″][vc_single_image image=”1832″ img_size=”350×464″][/vc_column_inner][/vc_row_inner][vc_row_inner][vc_column_inner][vc_column_text css=”.vc_custom_1518326827586{margin-bottom: 0px !important;}”]Especially designed movements allow the whole spine to swing and let the energy flow again. Because of the weightlessness of the body in water\, the radius of joint movements becomes wider and the whole body can be moved in a playful and new way. Chronic physical pain as well as emotional tensions can be released. This form of therapy invites you to experience a completely unique way of healing in water and undertake a journey back to your origins\, into the endless depth of your inner ocean. \nOn land\, you will be introduced to both Co-Centering and Tantsu\, and explore and share what being held means to you and others.[/vc_column_text][/vc_column_inner][/vc_row_inner][/vc_column][/vc_row][vc_row][vc_column][vc_row_inner css=”.vc_custom_1525958644950{margin-top: 20px !important;padding-top: 20px !important;}”][vc_column_inner width=”1/4″][vc_single_image image=”1755″ img_size=”430×538″][/vc_column_inner][vc_column_inner width=”3/4″][vc_column_text css=”.vc_custom_1518347967446{margin-bottom: 0px !important;}”]Gianni De Stefani \nTravels worldwide since more than 30 years as organizer and WABA facilitator. He facilitates Watsu Basic\, Watsu 1\, 2 & 3\, Anatomy for Watsuer\, Adapted Watsu\, Watsu & Meditation\, Watsu for Babies\, OBA\, Woga\, Water Gymnastics and Rehab.[/vc_column_text][/vc_column_inner][/vc_row_inner][vc_column_text css=”.vc_custom_1518327314531{margin-top: 20px !important;margin-bottom: 0px !important;padding-top: 20px !important;}”]Timings: 8.45 AM – 6.30 PM (day off on 11 Feb.) \nPrice: Rs 35\,500 (lunch included) \nPlease read the General Information before you apply for this intensive.[/vc_column_text][/vc_column][/vc_row]
URL:https://www.quiethealingcenter.info/course/watsu-1-tf-oba-1-fluid-body-gianni-de-stefani/
LOCATION:Quiet Healing Center\, India
CATEGORIES:2017
ATTACH;FMTTYPE=image/jpeg:https://www.quiethealingcenter.info/wp-content/uploads/2017/10/watsu-gianni-1000-20-custom.jpg
END:VEVENT
BEGIN:VEVENT
DTSTART;VALUE=DATE:20180211
DTEND;VALUE=DATE:20180212
DTSTAMP:20260424T084647
CREATED:20171024T010709Z
LAST-MODIFIED:20180510T132546Z
UID:1132-1518307200-1518393599@www.quiethealingcenter.info
SUMMARY:Watsu® for Babies with Dariya
DESCRIPTION:[vc_row][vc_column][vc_column_text css=”.vc_custom_1525953480474{margin-bottom: 0px !important;}”]A 1-day intensive. \nWatsu for Babies is a beautiful and spontaneous way of experiencing the first childhood years and is open to all those who would like to experience the joy of being in water with babies.[/vc_column_text][/vc_column][/vc_row][vc_row css=”.vc_custom_1518328038444{margin-top: 10px !important;padding-top: 10px !important;}”][vc_column width=”2/3″][vc_single_image image=”1839″ img_size=”1000×750″][/vc_column][vc_column width=”1/3″][vc_column_text css=”.vc_custom_1525953506302{margin-bottom: 0px !important;}”]In this intensive you will discover that emotions arising from spontaneous movements in water open extraordinary borders. They allow us to be in the present moment\, simply listening to the breathing of the baby while being supported by the healing power of water. \nThrough some Tantsu and Ai-Chi exercises\, you will start listening to yourself and to the baby you hold in your arms. You will also be exposed to possible transitions of the Watsu sequence in order to expand it in a creative way for babies.[/vc_column_text][/vc_column][/vc_row][vc_row][vc_column][vc_column_text css=”.vc_custom_1525953526895{margin-bottom: 0px !important;}”]Thanks to the collaboration with Gianni De Stefani\, certified WABA facilitator\, Dr. Riccardo Palumbo has been able to develop a new massage\, which is introduced in this intensive to bring Watsu into the world of babies.[/vc_column_text][/vc_column][/vc_row][vc_row css=”.vc_custom_1518328027797{margin-top: 10px !important;padding-top: 10px !important;}”][vc_column][vc_single_image image=”1840″ img_size=”1500×768″][vc_row_inner css=”.vc_custom_1525958747155{margin-top: 20px !important;padding-top: 20px !important;}”][vc_column_inner width=”1/4″][vc_single_image image=”561″ img_size=”430×538″][/vc_column_inner][vc_column_inner width=”3/4″][vc_column_text css=”.vc_custom_1518330675430{margin-bottom: 0px !important;}”]Dariya \nWABA facilitator\, has been sharing her passion for aquatic body­work with groups since 2004. Besides the belief that a solid technical base provides possi­bilities for ease and lightness in further personal growth\, her main focus is to create spaces for flow\, deepening and connection.[/vc_column_text][/vc_column_inner][/vc_row_inner][/vc_column][/vc_row][vc_row][vc_column][vc_column_text css=”.vc_custom_1518327857633{margin-top: 20px !important;margin-bottom: 0px !important;padding-top: 20px !important;}”]Timings: 9 AM – 6 PM \nPrice: Rs 4\,950 (lunch included) \nPlease read the General Information before you apply for this intensive.[/vc_column_text][/vc_column][/vc_row]
URL:https://www.quiethealingcenter.info/course/watsu-for-babies-with-dariya-2/
LOCATION:Quiet Healing Center\, India
CATEGORIES:2017
ATTACH;FMTTYPE=image/jpeg:https://www.quiethealingcenter.info/wp-content/uploads/2017/10/dariya-with-barnie-1000-01-custom.jpg
END:VEVENT
END:VCALENDAR