BEGIN:VCALENDAR
VERSION:2.0
PRODID:-//Quiet Healing Center - ECPv6.11.2.1//NONSGML v1.0//EN
CALSCALE:GREGORIAN
METHOD:PUBLISH
X-ORIGINAL-URL:https://www.quiethealingcenter.info
X-WR-CALDESC:Events for Quiet Healing Center
REFRESH-INTERVAL;VALUE=DURATION:PT1H
X-Robots-Tag:noindex
X-PUBLISHED-TTL:PT1H
BEGIN:VTIMEZONE
TZID:UTC
BEGIN:STANDARD
TZOFFSETFROM:+0000
TZOFFSETTO:+0000
TZNAME:UTC
DTSTART:20180101T000000
END:STANDARD
END:VTIMEZONE
BEGIN:VEVENT
DTSTART;VALUE=DATE:20180205
DTEND;VALUE=DATE:20180208
DTSTAMP:20260423T070046
CREATED:20180211T113002Z
LAST-MODIFIED:20180510T132246Z
UID:1920-1517788800-1518047999@www.quiethealingcenter.info
SUMMARY:Watsu® Basic & OBA® Intro with Petra Buschfeld
DESCRIPTION:[vc_row][vc_column][vc_column_text css=”.vc_custom_1518294356696{margin-bottom: 0px !important;}”]\n\nA 3-days intensive. \nWatsu & OBA are aquatic bodywork modalities given in a warm water pool (ideally 35°C). While Watsu is the mother of all water therapies\, created by Harold Dull in the 1980s\, OBA (formerly called Aquawellness) was developed afterwards by Kaya Femerling and Nirvano Martina Schulz. It combines elements of light movements and stretching\, massage and mobilization of the joints in connection with breathing and energetic work conducted both on the surface and under water. \n\n\n[/vc_column_text][/vc_column][/vc_row][vc_row css=”.vc_custom_1518295003769{margin-top: 10px !important;padding-top: 10px !important;}”][vc_column width=”1/2″][vc_single_image image=”1812″ img_size=”1000×750″][/vc_column][vc_column width=”1/2″][vc_single_image image=”1810″ img_size=”1000×750″][/vc_column][/vc_row][vc_row][vc_column][vc_column_text css=”.vc_custom_1518294939103{margin-bottom: 0px !important;}”]Watsu\, the part during which the receiver’s face remains on the surface\, introduces the qualities and body mechanics to work with someone in water. During the OBA part the receiver is brought under water (with nose clip)\, which offers a unique experience. \nWatsu & OBA offer an opportunity for profound relaxation and letting go\, building trust\, being nurtured and held\, expanding inner and outer boundaries\, releasing emotions and traumas – ultimately\, for freeing body and mind in a flow unique to each client and each session. \nIn this intensive\, you will practice basic techniques and qualities of being (grounding\, presence\, stillness\, movement\, attention) while moving another body in water. You will experience floating other people and being floated\, on the surface and under water\, thereby creating space for deep relaxation and nurturing body\, mind and spirit.[/vc_column_text][/vc_column][/vc_row][vc_row][vc_column][vc_row_inner css=”.vc_custom_1525958567086{margin-top: 20px !important;padding-top: 20px !important;}”][vc_column_inner width=”1/4″][vc_single_image image=”1756″ img_size=”430×538″][/vc_column_inner][vc_column_inner width=”3/4″][vc_column_text css=”.vc_custom_1518348408035{margin-bottom: 0px !important;}”]Petra Buschfeld \nCertified acupuncturist\, WABA facilitator for Watsu Basic and co-facilitater for Shiatsu for Watsu. She also facilitates OBA Intro and Woga 1 & 2.[/vc_column_text][/vc_column_inner][/vc_row_inner][vc_column_text css=”.vc_custom_1518294981893{margin-top: 20px !important;margin-bottom: 0px !important;padding-top: 20px !important;}”]Timings: 8.45 AM – 6.30 PM \nPrice: Rs 13\,950 (lunch included) \nPlease read the General Information before you apply for this intensive.[/vc_column_text][/vc_column][/vc_row]
URL:https://www.quiethealingcenter.info/course/watsu-basic-oba-intro-with-petra-buschfeld-2/
LOCATION:Quiet Healing Center\, India
CATEGORIES:2017
ATTACH;FMTTYPE=image/jpeg:https://www.quiethealingcenter.info/wp-content/uploads/2017/10/petra-portrait-1000-custom.jpg
END:VEVENT
END:VCALENDAR